BEGIN:VCALENDAR
VERSION:2.0
PRODID:-//Wien für Senior:innen - ECPv6.15.17.1//NONSGML v1.0//EN
CALSCALE:GREGORIAN
METHOD:PUBLISH
X-WR-CALNAME:Wien für Senior:innen
X-ORIGINAL-URL:https://kalender.seniorinnen.wien
X-WR-CALDESC:Veranstaltungen für Wien für Senior:innen
REFRESH-INTERVAL;VALUE=DURATION:PT1H
X-Robots-Tag:noindex
X-PUBLISHED-TTL:PT1H
BEGIN:VTIMEZONE
TZID:Europe/Berlin
BEGIN:DAYLIGHT
TZOFFSETFROM:+0100
TZOFFSETTO:+0200
TZNAME:CEST
DTSTART:20250330T010000
END:DAYLIGHT
BEGIN:STANDARD
TZOFFSETFROM:+0200
TZOFFSETTO:+0100
TZNAME:CET
DTSTART:20251026T010000
END:STANDARD
BEGIN:DAYLIGHT
TZOFFSETFROM:+0100
TZOFFSETTO:+0200
TZNAME:CEST
DTSTART:20260329T010000
END:DAYLIGHT
BEGIN:STANDARD
TZOFFSETFROM:+0200
TZOFFSETTO:+0100
TZNAME:CET
DTSTART:20261025T010000
END:STANDARD
BEGIN:DAYLIGHT
TZOFFSETFROM:+0100
TZOFFSETTO:+0200
TZNAME:CEST
DTSTART:20270328T010000
END:DAYLIGHT
BEGIN:STANDARD
TZOFFSETFROM:+0200
TZOFFSETTO:+0100
TZNAME:CET
DTSTART:20271031T010000
END:STANDARD
END:VTIMEZONE
BEGIN:VEVENT
DTSTART;TZID=Europe/Berlin:20260424T100000
DTEND;TZID=Europe/Berlin:20260424T120000
DTSTAMP:20260421T115641
CREATED:20260416T091208Z
LAST-MODIFIED:20260416T091208Z
UID:12544-1777024800-1777032000@kalender.seniorinnen.wien
SUMMARY:Energie-Treffpunkt für alle
DESCRIPTION:Verstehst du deine Strom- oder Heizrechnung nicht? Was bedeuten die Zahlen? Warum ist die Rechnung so hoch? Zahlen\, Begriffe und Zeichen sind oft kompliziert und schwer durchschaubar.\n\n\n\n\n\n\n\n\n\n\n\n\n\n\n\n\n\n\n\n\n\n\n\n\n\nBeim kostenlosen Energie-Treffpunkt schauen wir gemeinsam auf deine Rechnung\, erklären alles verständlich und geben dir hilfreiche Tipps zum Energiesparen und zu Unterstützungsangeboten. \nFreitag\, 24. April 2026\, 10 bis 12 Uhr\nNachbarschaftszentrum 16 – Ottakring\n16.\, Stöberplatz 2/3\nT: +43 1 512 36 61-3550 \nhttps://www.nachbarschaftszentren.at/projekte/energie-treffpunkt \nFoto: Pixabay
URL:https://kalender.seniorinnen.wien/event/energie-treffpunkt-fuer-alle/
LOCATION:Wiener Hilfswerk\, Nachbarschaftszentrum 16 – Ottakring\, Stöberplatz 2/3\, Wien\, 1160
CATEGORIES:Grätzel,Information
ATTACH;FMTTYPE=image/jpeg:https://kalender.seniorinnen.wien/wp-content/uploads/2026/04/pix1861-power-outlet-643721-scaled.jpg
END:VEVENT
BEGIN:VEVENT
DTSTART;TZID=Europe/Berlin:20260424T110000
DTEND;TZID=Europe/Berlin:20260424T150000
DTSTAMP:20260421T115641
CREATED:20260407T104717Z
LAST-MODIFIED:20260407T121343Z
UID:12532-1777028400-1777042800@kalender.seniorinnen.wien
SUMMARY:Früh diagnostiziert – und dann?
DESCRIPTION:Vernetzungstag des Dachverbandes Demenz Selbsthilfe Austria\nDemenz zwischen Medikamentenversprechen und Versorgungslücke \nFachvortrag Prof.in Dr. Elisabeth Stögmann (auch ONLINE) \nModerierte Podiumsdiskussion „Frühdiagnose zwischen Medikamentenversprechen und Versorgungslücke“ mit Expertinnen \nFreitag\, 24. April 2026 von 10 – 15 Uhr\nrfi – Raum für Interaktion\nObere Donaustraße 43\n1020 Wien \nab 10:30 auch online via zoom \nANMELDUNG bis 18. April 2026 via\nhttps://www.demenzselbsthilfeaustria.at/anmeldung/ \nFoto: Pixabay
URL:https://kalender.seniorinnen.wien/event/frueh-diagnostiziert-und-dann/
LOCATION:rfi – Raum für Interaktion\, Obere Donaustraße 43\, Wien\, Wien\, 1020\, Austria
CATEGORIES:Demenz,Information
ATTACH;FMTTYPE=image/jpeg:https://kalender.seniorinnen.wien/wp-content/uploads/2025/08/Schriftzug-Demenz-©Pixabay-e1754396077386.jpg
END:VEVENT
BEGIN:VEVENT
DTSTART;TZID=Europe/Berlin:20260424T140000
DTEND;TZID=Europe/Berlin:20260424T160000
DTSTAMP:20260421T115641
CREATED:20260204T102406Z
LAST-MODIFIED:20260204T102406Z
UID:11748-1777039200-1777046400@kalender.seniorinnen.wien
SUMMARY:Gut beraten in Währing!
DESCRIPTION:Fonds Soziales Wien: Beratung für pflegende An- und Zugehörige\nGemeinsam.Sicher/Grätzlpolizei: Beratung zu Prävention und Sicherheitsfragen\nKostenlose Sozialberatung sowie Infos zu Sicherheit\, Pflege und zu Angeboten für Senior*innen. Jeden letzten Freitag im Monat! \nWo? Büro der Bezirksvorstehung Währing\nMartinstraße 100\, 1. Stock (barrierefrei zugänglich!) \nFoto: Stadt Wien
URL:https://kalender.seniorinnen.wien/event/gut-beraten-in-waehring-2/2026-04-24/
LOCATION:Amtshaus Währing\, Martinstraße 100/1. Stock\, Wien\, 1180
CATEGORIES:Barrierefrei,Information,Sicherheit
ATTACH;FMTTYPE=image/jpeg:https://kalender.seniorinnen.wien/wp-content/uploads/2026/02/amtshaus-waehring.c8d2849df7.1768116857.jpg
END:VEVENT
BEGIN:VEVENT
DTSTART;TZID=Europe/Berlin:20260424T150000
DTEND;TZID=Europe/Berlin:20260424T160000
DTSTAMP:20260421T115641
CREATED:20260120T120100Z
LAST-MODIFIED:20260120T120218Z
UID:11567-1777042800-1777046400@kalender.seniorinnen.wien
SUMMARY:Von Mücke bis Elefant – Tierische Vielfalt im Museum
DESCRIPTION:Die Rundgänge für Menschen mit Demenz bzw. Vergesslichkeit finden auch 2026 jeden 4. Freitag im Monat um 15 Uhr statt. \nTreffpunkt im Eingangsbereich des Kunsthistorischen Museums\nDauer: ca. 60 Minuten\nEintritt und Teilnahme: kostenfrei \nAnmeldung erwünscht:\nTe.: +43 1 525 24-5210\nE-Mail: julia.haeussler@khm.at \n  \nFoto: Pixabay
URL:https://kalender.seniorinnen.wien/event/von-muecke-bis-elefant-tierische-vielfalt-im-museum/
LOCATION:Kunsthistorisches Museum\, Burgring 5\, Wien\, 1010
CATEGORIES:Barrierefrei,Demenz,Kunst und Kultur
ATTACH;FMTTYPE=image/jpeg:https://kalender.seniorinnen.wien/wp-content/uploads/2026/01/Kunsthistorisches-Museum_1280.jpg
END:VEVENT
BEGIN:VEVENT
DTSTART;TZID=Europe/Berlin:20260424T160000
DTEND;TZID=Europe/Berlin:20260424T173000
DTSTAMP:20260421T115641
CREATED:20260414T094657Z
LAST-MODIFIED:20260414T111953Z
UID:12540-1777046400-1777051800@kalender.seniorinnen.wien
SUMMARY:Stefan Franke „Und das Riesenrad dreht sich“
DESCRIPTION:24. April 2026\, 16 bis 17:30 Uhr \nIm Jahr 1766 öffnete Kaiser Joseph II. den Wiener Prater für die gesamte Bevölkerung und schuf damit eines der berühmtesten Erholungsgebiete der Welt. Heute\, 260 Jahre später\, nimmt Stefan Franke dieses Jubiläum zum Anlass\, um in den Zeitungsarchiven zu stöbern und längst vergessene Geschichten über den Prater zu neuem Leben zu erwecken. \nDer Wiener Prater hat einiges zu erzählen – seien Sie bei der allerersten Fahrt mit dem Riesenrad dabei\, spüren Sie die Aufregung\, als arbeitslose Artisten das Wahrzeichen des Praters kurzerhand für Eigenwerbung zweckentfremdeten\, staunen Sie über die Farbenpracht des Blumenkorsos! \nDie Lesung „Und das Riesenrad dreht sich“ lädt ein zu einer faszinierenden Reise ins goldene Zeitalter des Wiener Wurstelpraters. Anhand von Original-Zeitungsberichten\, lebendigen Reportagen und kuriosen Annoncen aus längst vergangenen Tagen lässt Stefan Franke die bewegte Geschichte des Praters und seiner Attraktionen wieder auferstehen. \nAm Klavier unterhält Katharina Litschauer mit charmanten und zeitlosen Melodien. \nCafé Korb\nBrandstätte 7\, 1010 Wien (leider nicht barrierefrei)\nEinlass: ab 15:15 hr\nEintritt: Vorverkauf € 16\,–/Abendkassa € 20\,– \nVorverkauf: info@stefanfranke.at\nVeranstalter: Stefan Franke (+43 680 3016765\, https://www.stefanfranke.at/) \nFoto: www.stefanfranke.at
URL:https://kalender.seniorinnen.wien/event/stefan-franke-und-das-riesenrad-dreht-sich/
LOCATION:Café Korb\, Brandstädte 7\, Wien\, Wien\, 1010\, Austria
CATEGORIES:Kunst und Kultur,Unterhaltung
ATTACH;FMTTYPE=image/jpeg:https://kalender.seniorinnen.wien/wp-content/uploads/2026/01/portrait__stefan-franke-201904-scaled.jpg
ORGANIZER;CN="Stefan Franke":MAILTO:info@stefanfranke.at
END:VEVENT
END:VCALENDAR