BEGIN:VCALENDAR
VERSION:2.0
PRODID:-//Wien für Senior:innen - ECPv6.15.17.1//NONSGML v1.0//EN
CALSCALE:GREGORIAN
METHOD:PUBLISH
X-WR-CALNAME:Wien für Senior:innen
X-ORIGINAL-URL:https://kalender.seniorinnen.wien
X-WR-CALDESC:Veranstaltungen für Wien für Senior:innen
REFRESH-INTERVAL;VALUE=DURATION:PT1H
X-Robots-Tag:noindex
X-PUBLISHED-TTL:PT1H
BEGIN:VTIMEZONE
TZID:Europe/Berlin
BEGIN:DAYLIGHT
TZOFFSETFROM:+0100
TZOFFSETTO:+0200
TZNAME:CEST
DTSTART:20250330T010000
END:DAYLIGHT
BEGIN:STANDARD
TZOFFSETFROM:+0200
TZOFFSETTO:+0100
TZNAME:CET
DTSTART:20251026T010000
END:STANDARD
BEGIN:DAYLIGHT
TZOFFSETFROM:+0100
TZOFFSETTO:+0200
TZNAME:CEST
DTSTART:20260329T010000
END:DAYLIGHT
BEGIN:STANDARD
TZOFFSETFROM:+0200
TZOFFSETTO:+0100
TZNAME:CET
DTSTART:20261025T010000
END:STANDARD
BEGIN:DAYLIGHT
TZOFFSETFROM:+0100
TZOFFSETTO:+0200
TZNAME:CEST
DTSTART:20270328T010000
END:DAYLIGHT
BEGIN:STANDARD
TZOFFSETFROM:+0200
TZOFFSETTO:+0100
TZNAME:CET
DTSTART:20271031T010000
END:STANDARD
END:VTIMEZONE
BEGIN:VEVENT
DTSTART;TZID=Europe/Berlin:20260422T093000
DTEND;TZID=Europe/Berlin:20260422T113000
DTSTAMP:20260421T115454
CREATED:20260209T132127Z
LAST-MODIFIED:20260209T132127Z
UID:12125-1776850200-1776857400@kalender.seniorinnen.wien
SUMMARY:Salon Servus - GB*Stadtteilbüro\, 16.\, Haberlgasse 76
DESCRIPTION:Alle 14 Tage in ganz Wien gemeinsam spielen\, basteln\, kochen\, plaudern\nGB*Stadtteilbüro\, Haberlgasse 76\, 1160 Wien\nMittwochs\, 9.30 – 11.30 Uhr\n \nDer Salon Servus ist ein Treffpunkt in Ihrer Nähe. Hier können Sie reden\, frühstücken oder jausnen\, spielen\, basteln und zusammen kochen. Für Menschen ab 60 Jahren\, aber alle sind willkommen. Denn gemeinsam ist es schöner! \nUnsere GB*Stadtteilbüros werden alle 14 Tage zu einem gemütlichen Treffpunkt in Ihrer Nähe! Ob beim Plaudern\, beim Brett- und Kartenspielen\, beim Frühstücken oder gemeinsamen Kochen\, Handwerken oder Basteln –im „Salon Servus“ dreht sich alles um das Miteinander! \nDas Angebot ist kostenlos und unverbindlich – alle Interessierten sind willkommen! \nTermine und Standortadressen unter:\ngbstern.at/salon-servus \nKalender: www.gbstern.at/termine/monat/202602/ \nFoto: Salon Servus\, (c) Daniel Dutkowski
URL:https://kalender.seniorinnen.wien/event/salon-servus-gbstadtteilbuero-16-haberlgasse-76/2026-04-22/
CATEGORIES:Begegnung,Grätzel,Unterhaltung
ATTACH;FMTTYPE=image/jpeg:https://kalender.seniorinnen.wien/wp-content/uploads/2026/02/csm_2504_Salon_Servus_c_Daniel_Dutkowski_15_73921e458d.jpg
ORGANIZER;CN="Gebietsbetreuung Stadterneuerung":MAILTO:info@gbstern.at
END:VEVENT
BEGIN:VEVENT
DTSTART;TZID=Europe/Berlin:20260422T100000
DTEND;TZID=Europe/Berlin:20260422T113000
DTSTAMP:20260421T115454
CREATED:20260416T104021Z
LAST-MODIFIED:20260416T105449Z
UID:12581-1776852000-1776857400@kalender.seniorinnen.wien
SUMMARY:Contemporary mit 60+
DESCRIPTION:BasicPlus (für Tanzende mit ein wenig Tanzerfahrung)\nnicht aufbauend \nFür meine Einheiten habe ich kein Konzept von Stil\, kein ästhetisches Urteil.\nEs ist essentiell und notwendig für mich\, meinen Blick an die Teilnehmer:innen anzupassen.\nDas Wichtigste ist die Freude. Meine Einheiten ist eine Einladung.\nEin Moment des Teilens. Es ist also Teilen und die Freude am Teilen.\nIch baue meinen Unterricht auf Respekt und Liebe auf.\nBruno \nPreis & Anmeldung: www.beat1060.wien\nOrt: Millergasse 42-44\, 1060 Wien \nEinstieg und Schnuppern jederzeit möglich!
URL:https://kalender.seniorinnen.wien/event/contemporary-mit-60-2/2026-04-22/
LOCATION:beat1060\, Millergasse 42-44\, Wien\, Wien\, 1060\, Austria
CATEGORIES:Begegnung,Fit und Gesund
ATTACH;FMTTYPE=image/png:https://kalender.seniorinnen.wien/wp-content/uploads/2026/04/Contemporary-mit-Bruno.png
ORGANIZER;CN="beat1060":MAILTO:office@beat1060.wien
END:VEVENT
BEGIN:VEVENT
DTSTART;TZID=Europe/Berlin:20260422T110000
DTEND;TZID=Europe/Berlin:20260422T170000
DTSTAMP:20260421T115454
CREATED:20260309T114253Z
LAST-MODIFIED:20260310T064131Z
UID:12377-1776855600-1776877200@kalender.seniorinnen.wien
SUMMARY:Senior:innentag 2026
DESCRIPTION:Mittwoch\, 22. April 2026\n11:00 – 17:00 Uhr\nEinlass ab 10:30 Uhr\nFreier Eintritt! \nWiener Rathaus\nVolkshalle & Arkadenhof\nZugang über Lichtenfelsgasse 2\, 1010 Wien \nIm überdachten Arkadenhof sowie in der Volkshalle präsentieren mehr als 60 Organisationen ein vielfältiges Informations- und Beratungsangebot für Senior:innen. \nThemenschwerpunkte sind unter anderem Wohnen 60+\, Gesundheitsförderung und Prävention\, Pflege und Betreuung\, Verkehr und Mobilität\, Digitalisierung\, Sicherheit\, Ehrenamt sowie altersfreundliche Freizeitgestaltung. Besucher:innen haben die Möglichkeit\, sich umfassend zu informieren und direkt mit Expert:innen ins Gespräch zu kommen. \nNeben dem Team Wien für Senior:innen ist der Fonds Soziales Wien auch mit dem Beratungszentrum Pflege und Betreuung\, den FSW-Tageszentren\, dem Netzwerk Pflegende Angehörige\, den Community Nurses und der Gesundheitsberatung 1450 vertreten.\nDer Gesundheitsdienst der Stadt Wien bietet Interessierten zudem die Möglichkeit\, sich im Rahmen der Veranstaltung unkompliziert und ohne Voranmeldung impfen zu lassen. \nErgänzt wird das Angebot durch ein abwechslungsreiches Bühnenprogramm\, das Unterhaltung bietet und gleichzeitig die Aktivität und das Engagement älterer Menschen sichtbar macht. \nModeriert wird das Programm von Martina Rupp. \nAlle Informationen zur Veranstaltung findet man online unter www.seniorinnentag.wien
URL:https://kalender.seniorinnen.wien/event/seniorinnentag-2026/
LOCATION:Wiener Rathaus\, Friedrich-Schmidt-Platz\, Wien\, 1010\, Österreich
CATEGORIES:Begegnung,Information,Unterhaltung
ATTACH;FMTTYPE=image/jpeg:https://kalender.seniorinnen.wien/wp-content/uploads/2026/03/Senior-innentag-2026.jpg
END:VEVENT
BEGIN:VEVENT
DTSTART;TZID=Europe/Berlin:20260422T160000
DTEND;TZID=Europe/Berlin:20260422T180000
DTSTAMP:20260421T115454
CREATED:20260209T110803Z
LAST-MODIFIED:20260209T113908Z
UID:11998-1776873600-1776880800@kalender.seniorinnen.wien
SUMMARY:Salon Servus - GB*Stadtteilbüro\, 10.\, Quellenstraße 149
DESCRIPTION:Alle 14 Tage in ganz Wien gemeinsam spielen\, basteln\, kochen\, plaudern\nGB*Stadtteilbüro\, Quellenstraße 149\, 1100 Wien\,\nMittwochs\, 16 – 18 Uhr \nDer Salon Servus ist ein Treffpunkt in Ihrer Nähe. Hier können Sie reden\, frühstücken oder jausnen\, spielen\, basteln und zusammen kochen. Für Menschen ab 60 Jahren\, aber alle sind willkommen. Denn gemeinsam ist es schöner! \nUnsere GB*Stadtteilbüros werden alle 14 Tage zu einem gemütlichen Treffpunkt in Ihrer Nähe! Ob beim Plaudern\, beim Brett- und Kartenspielen\, beim Frühstücken oder gemeinsamen Kochen\, Handwerken oder Basteln –im „Salon Servus“ dreht sich alles um das Miteinander! \nDas Angebot ist kostenlos und unverbindlich – alle Interessierten sind willkommen! \nTermine und Standortadressen unter:\ngbstern.at/salon-servus \nKalender: www.gbstern.at/termine/monat/202602/ \nFoto: Salon Servus\, (c) Daniel Dutkowski
URL:https://kalender.seniorinnen.wien/event/salon-servus-alle-14-tage-in-ganz-wien-gemeinsam-spielen-basteln-kochen-plaudern-2/2026-04-22/
CATEGORIES:Begegnung,Grätzel,Unterhaltung
ATTACH;FMTTYPE=image/jpeg:https://kalender.seniorinnen.wien/wp-content/uploads/2026/02/csm_2504_Salon_Servus_c_Daniel_Dutkowski_15_73921e458d.jpg
ORGANIZER;CN="Gebietsbetreuung Stadterneuerung":MAILTO:info@gbstern.at
END:VEVENT
END:VCALENDAR