BEGIN:VCALENDAR
VERSION:2.0
PRODID:-//Wien für Senior:innen - ECPv6.15.17.1//NONSGML v1.0//EN
CALSCALE:GREGORIAN
METHOD:PUBLISH
X-ORIGINAL-URL:https://kalender.seniorinnen.wien
X-WR-CALDESC:Veranstaltungen für Wien für Senior:innen
REFRESH-INTERVAL;VALUE=DURATION:PT1H
X-Robots-Tag:noindex
X-PUBLISHED-TTL:PT1H
BEGIN:VTIMEZONE
TZID:Europe/Berlin
BEGIN:DAYLIGHT
TZOFFSETFROM:+0100
TZOFFSETTO:+0200
TZNAME:CEST
DTSTART:20250330T010000
END:DAYLIGHT
BEGIN:STANDARD
TZOFFSETFROM:+0200
TZOFFSETTO:+0100
TZNAME:CET
DTSTART:20251026T010000
END:STANDARD
BEGIN:DAYLIGHT
TZOFFSETFROM:+0100
TZOFFSETTO:+0200
TZNAME:CEST
DTSTART:20260329T010000
END:DAYLIGHT
BEGIN:STANDARD
TZOFFSETFROM:+0200
TZOFFSETTO:+0100
TZNAME:CET
DTSTART:20261025T010000
END:STANDARD
BEGIN:DAYLIGHT
TZOFFSETFROM:+0100
TZOFFSETTO:+0200
TZNAME:CEST
DTSTART:20270328T010000
END:DAYLIGHT
BEGIN:STANDARD
TZOFFSETFROM:+0200
TZOFFSETTO:+0100
TZNAME:CET
DTSTART:20271031T010000
END:STANDARD
END:VTIMEZONE
BEGIN:VEVENT
DTSTART;TZID=Europe/Berlin:20260418T100000
DTEND;TZID=Europe/Berlin:20260418T113000
DTSTAMP:20260423T121321
CREATED:20260416T104647Z
LAST-MODIFIED:20260416T104647Z
UID:12589-1776506400-1776511800@kalender.seniorinnen.wien
SUMMARY:Atemcoaching und Bewegung
DESCRIPTION:Samstags von 10:00 – 11:30 Uhr \nAll Levels (keinerlei Vorkenntnisse notwendig)\, nicht aufbauend\nLehrperson: Bruno Genty \nDem Weg/Rhythmus/Fluss der Atmung folgen; den Einfluss in alle Bewegungen/Körperteile erkennen. Einfache Bewegungsstrukturen geben uns die Möglichkeit diese Natürlichkeit zu beobachten und davon zu lernen. \nDie Gelenke öffnen\, den Kontakt zum Boden vertiefen und ohne Kraft\, dafür mit Fülle\, bewegen. In diesem Kurs geht es um deinen Körper\, es wird kein Tanz unterrichtet. Es sind keine Vorkenntnisse notwendig.\nBruno \nPreis & Anmeldung: www.beat1060.wien\nOrt: Millergasse 42-44\, 1060 Wien \nEinstieg und Schnuppern jederzeit möglich!
URL:https://kalender.seniorinnen.wien/event/atemcoaching-und-bewegung/2026-04-18/
LOCATION:beat1060\, Millergasse 42-44\, Wien\, Wien\, 1060\, Austria
CATEGORIES:Fit und Gesund
ATTACH;FMTTYPE=image/png:https://kalender.seniorinnen.wien/wp-content/uploads/2026/04/ACO-mit-Bruno.png
ORGANIZER;CN="beat1060":MAILTO:office@beat1060.wien
END:VEVENT
BEGIN:VEVENT
DTSTART;TZID=Europe/Berlin:20260418T103000
DTEND;TZID=Europe/Berlin:20260418T113000
DTSTAMP:20260423T121321
CREATED:20260109T075544Z
LAST-MODIFIED:20260109T080543Z
UID:11381-1776508200-1776511800@kalender.seniorinnen.wien
SUMMARY:Schloss Esterházy: Führung im Sitzen
DESCRIPTION:Diese Schlossführung im Sitzen ermöglicht allen Besucher:innen\, die Geschichte des Schlosses Esterházy in ihrer ganzen Tiefe und Vielfalt zu erleben – bequem und ohne Treppensteigen zwischen den Ausstellungsebenen. Sie eignet sich besonders für Menschen mit Bewegungseinschränkungen. \nDauer: ca. 60 Min.\nPreise und Öffnungszeiten: esterhazy.at/sitzen\nAnfragen und Buchung: Schloss Esterházy\, 7000 Eisenstadt\nTelefon: +43 2682 63004-7600\nE-Mail: schloss-esterhazy@esterhazy.at \nFoto: Schloss Esterházy
URL:https://kalender.seniorinnen.wien/event/schloss-esterhazy-fuehrung-im-sitzen/2026-04-18/
LOCATION:Schloss Esterházy\, Schloss Esterházy\, Eisenstadt\, 7000\, Austria
ATTACH;FMTTYPE=image/jpeg:https://kalender.seniorinnen.wien/wp-content/uploads/2026/01/SCHEE_Fuehrung-Sitzen.jpg
ORGANIZER;CN="Schloss Esterh%C3%A1zy":MAILTO:schloss-esterhazy@esterhazy.at
END:VEVENT
BEGIN:VEVENT
DTSTART;TZID=Europe/Berlin:20260418T150000
DTEND;TZID=Europe/Berlin:20260418T210000
DTSTAMP:20260423T121321
CREATED:20260316T090425Z
LAST-MODIFIED:20260316T090425Z
UID:12430-1776524400-1776546000@kalender.seniorinnen.wien
SUMMARY:techNOage CLUBBING
DESCRIPTION:FLUCC am Praterstern\, oben auf dem DECK\, Praterstern 5 \nDiesmal werden keine DJs angekündigt. Lassen wir uns überraschen… \nBarrierefreien Zugang\nKaffe & Kuchen\nGenerationsmiteinander \ntechNOage on INSTA\ntechNOage on FB\ntechNOage on TELEGRAM \nEintritt auf Spendenbasis und selbstbestimmt \nIllustration: techNOage
URL:https://kalender.seniorinnen.wien/event/technoage-clubbing-3/2026-04-18/
LOCATION:Flucc
CATEGORIES:Unterhaltung
ATTACH;FMTTYPE=image/jpeg:https://kalender.seniorinnen.wien/wp-content/uploads/2025/12/techNOage.jpg
END:VEVENT
END:VCALENDAR