BEGIN:VCALENDAR
VERSION:2.0
PRODID:-//Wien für Senior:innen - ECPv6.15.17.1//NONSGML v1.0//EN
CALSCALE:GREGORIAN
METHOD:PUBLISH
X-ORIGINAL-URL:https://kalender.seniorinnen.wien
X-WR-CALDESC:Veranstaltungen für Wien für Senior:innen
REFRESH-INTERVAL;VALUE=DURATION:PT1H
X-Robots-Tag:noindex
X-PUBLISHED-TTL:PT1H
BEGIN:VTIMEZONE
TZID:Europe/Berlin
BEGIN:DAYLIGHT
TZOFFSETFROM:+0100
TZOFFSETTO:+0200
TZNAME:CEST
DTSTART:20250330T010000
END:DAYLIGHT
BEGIN:STANDARD
TZOFFSETFROM:+0200
TZOFFSETTO:+0100
TZNAME:CET
DTSTART:20251026T010000
END:STANDARD
BEGIN:DAYLIGHT
TZOFFSETFROM:+0100
TZOFFSETTO:+0200
TZNAME:CEST
DTSTART:20260329T010000
END:DAYLIGHT
BEGIN:STANDARD
TZOFFSETFROM:+0200
TZOFFSETTO:+0100
TZNAME:CET
DTSTART:20261025T010000
END:STANDARD
BEGIN:DAYLIGHT
TZOFFSETFROM:+0100
TZOFFSETTO:+0200
TZNAME:CEST
DTSTART:20270328T010000
END:DAYLIGHT
BEGIN:STANDARD
TZOFFSETFROM:+0200
TZOFFSETTO:+0100
TZNAME:CET
DTSTART:20271031T010000
END:STANDARD
END:VTIMEZONE
BEGIN:VEVENT
DTSTART;TZID=Europe/Berlin:20260417T090000
DTEND;TZID=Europe/Berlin:20260417T110000
DTSTAMP:20260423T121313
CREATED:20260115T092235Z
LAST-MODIFIED:20260116T104426Z
UID:11535-1776416400-1776423600@kalender.seniorinnen.wien
SUMMARY:Iss dich fit
DESCRIPTION:in Kooperation mit den Wiener Sozialdiensten/Kontaktbesuchsdienst und der Senior:innenbeauftragten der Stadt Wien \nIss dich fit\nVHS Simmering\, Gottschalkgasse 10 \, 1110 Wien\n\n16.01.2026 – 27.02.2026\, 11 bis 12:30 Uhr\nTeilnehmer:innen: 5 – 15 \nDieser kostenlose Workshop zeigt\, wie eine ausgewogene Ernährung Körper und Geist stärkt – und dabei auch den Blutzucker im Gleichgewicht hält. Sie erhalten praxisnahe Tipps zur gesunden Ernährung bei Diabetes\, lernen geeignete Lebensmittel kennen und erfahren\, wie Sie mit Genuss essen und dabei aktiv Ihre Gesundheit unterstützen können. Einfach\, alltagstauglich und motivierend! \nPraktischer Teil: Durchführung und Erlenen von richtiger Blutzuckermessung. \nReferent:innen: Netzwerk Pflegende An- und Zugehörige. \n\n\nKontakt:\nTel.: +43 1 891 74 111 001\nE-Mail: simmering@vhs.at \nAlle aktuellen Kurse kann man auch online finden und buchen: www.vhs.at/simmering/kursangebot \n\n\nFoto: Freepik
URL:https://kalender.seniorinnen.wien/event/iss-dich-fit/
LOCATION:VHS Simmering\, Gottschalkgasse 10\, Wien\, 1110\, Österreich
CATEGORIES:Fit und Gesund
ATTACH;FMTTYPE=image/jpeg:https://kalender.seniorinnen.wien/wp-content/uploads/2025/09/flat-lay-delicious-healthy-food-concept-scaled-e1756386340237.jpg
ORGANIZER;CN="VHS Simmering":MAILTO:simmering@vhs.at
END:VEVENT
BEGIN:VEVENT
DTSTART;TZID=Europe/Berlin:20260417T090000
DTEND;TZID=Europe/Berlin:20260417T170000
DTSTAMP:20260423T121313
CREATED:20260330T084431Z
LAST-MODIFIED:20260330T084431Z
UID:12491-1776416400-1776445200@kalender.seniorinnen.wien
SUMMARY:Vergessen? Demenz? Reden wir darüber
DESCRIPTION:AKTIONSTAG – Netzwerk demenzfreundliches Simmering Informationsmöglichkeiten und Austausch zum Thema Vergesslichkeit und Demenz. \nDas Netzwerk „demenzfreundliches Simmering“ bringt Organisationen\, Initiativen und Einzelpersonen\, die sich mit dem Thema Demenz und Demenzfreundlichkeit beschäftigen\, zusammen. Ziel des Netzwerkes ist\, Demenz-Betroffenen und deren Angehörigen einfach und an vielen Orten im Bezirk Information und Beratungsangebote zugänglich zu machen. \nKoordinatorin Petra Leban\, mail: bm1110@bezirksmuseum.at \nOrt: HUMA eleven\, Mall (Eingang Nord)\nLandwehrstraße 6\, 1110 Wien \nEintritt frei! \nErreichbar: Bus 73A\, 79A\, 79B (Station Landwehrstraße) sowie 76A (Station Alberner Hafenzufahrtsstraße)
URL:https://kalender.seniorinnen.wien/event/vergessen-demenz-reden-wir-darueber-5/
LOCATION:HUMA eleven\, Landwehrstraße 6\, 1110 Wien\, Wien\, 1110\, Austria
CATEGORIES:Demenz,Information
ATTACH;FMTTYPE=image/jpeg:https://kalender.seniorinnen.wien/wp-content/uploads/2026/03/IMG_0519-scaled.jpg
END:VEVENT
BEGIN:VEVENT
DTSTART;TZID=Europe/Berlin:20260417T100000
DTEND;TZID=Europe/Berlin:20260417T113000
DTSTAMP:20260423T121313
CREATED:20260302T081538Z
LAST-MODIFIED:20260302T081749Z
UID:12255-1776420000-1776425400@kalender.seniorinnen.wien
SUMMARY:Los geht’s Wien\, Spaziergänge für Senior:innen
DESCRIPTION:Treffpunkt\nFlötzersteig Nr. 4\, 1160 Ottakring\nam 17. April 2026 von 10 bis 12:30 Uhr \n\n\n\nWillkommen zum Spaziergang rund um den Flötzersteig! Der Spaziergang führt Sie um das Gebiet rund um den Flötzersteig in Ottakring\, 16. Wiener Gemeindebezirk – neben dem alten Gelände des Kinderspitals\, der Kuffner-Sternwarte\, sowie kleinen Wegen durch Kleingartensiedlungen warten auf diesem Spaziergang einige Highlights auf Sie. \nAnmeldung:\nE-Mail: dobner@queraum.org\nTelefon: 0660 412 24 10 \nInternet: losgehts.wien \nFoto: losgehts.wien
URL:https://kalender.seniorinnen.wien/event/los-gehts-wien-spaziergaenge-fuer-seniorinnen/
LOCATION:Flötzersteig\, Flötzersteig 4\, Wien\, Wien\, 1160\, Austria
ATTACH;FMTTYPE=image/webp:https://kalender.seniorinnen.wien/wp-content/uploads/2026/03/Spaziergang-queraum.webp
END:VEVENT
END:VCALENDAR