BEGIN:VCALENDAR
VERSION:2.0
PRODID:-//Wien für Senior:innen - ECPv6.15.17.1//NONSGML v1.0//EN
CALSCALE:GREGORIAN
METHOD:PUBLISH
X-WR-CALNAME:Wien für Senior:innen
X-ORIGINAL-URL:https://kalender.seniorinnen.wien
X-WR-CALDESC:Veranstaltungen für Wien für Senior:innen
REFRESH-INTERVAL;VALUE=DURATION:PT1H
X-Robots-Tag:noindex
X-PUBLISHED-TTL:PT1H
BEGIN:VTIMEZONE
TZID:Europe/Berlin
BEGIN:DAYLIGHT
TZOFFSETFROM:+0100
TZOFFSETTO:+0200
TZNAME:CEST
DTSTART:20250330T010000
END:DAYLIGHT
BEGIN:STANDARD
TZOFFSETFROM:+0200
TZOFFSETTO:+0100
TZNAME:CET
DTSTART:20251026T010000
END:STANDARD
BEGIN:DAYLIGHT
TZOFFSETFROM:+0100
TZOFFSETTO:+0200
TZNAME:CEST
DTSTART:20260329T010000
END:DAYLIGHT
BEGIN:STANDARD
TZOFFSETFROM:+0200
TZOFFSETTO:+0100
TZNAME:CET
DTSTART:20261025T010000
END:STANDARD
BEGIN:DAYLIGHT
TZOFFSETFROM:+0100
TZOFFSETTO:+0200
TZNAME:CEST
DTSTART:20270328T010000
END:DAYLIGHT
BEGIN:STANDARD
TZOFFSETFROM:+0200
TZOFFSETTO:+0100
TZNAME:CET
DTSTART:20271031T010000
END:STANDARD
END:VTIMEZONE
BEGIN:VEVENT
DTSTART;TZID=Europe/Berlin:20260411T190000
DTEND;TZID=Europe/Berlin:20260411T190000
DTSTAMP:20260423T121252
CREATED:20260407T084003Z
LAST-MODIFIED:20260407T084003Z
UID:12515-1775934000-1775934000@kalender.seniorinnen.wien
SUMMARY:Johanna Doderer: Neue Opern\, Orchesterwerke und Kammermusik
DESCRIPTION:Samstag\, 11. April 2026\, 19 Uhr \nWilhelm Exnergasse 34\n1090 Wien \nMit Bild- und Tonbeispielen \nGäste herzlich willkommen!\nPlatzreservierung unter Tel. 01 889 53 68 (Anrufbeantworter) \nFoto/Grafik: Club der Wiener Musikerinnen
URL:https://kalender.seniorinnen.wien/event/johanna-doderer-neue-opern-orchesterwerke-und-kammermusik/
LOCATION:Club der Wiener Musikerinnen\, Wilhelm Exnergasse 34\, Wien\, 1190\, Austria
CATEGORIES:Kunst und Kultur,Unterhaltung
ATTACH;FMTTYPE=image/jpeg:https://kalender.seniorinnen.wien/wp-content/uploads/2026/04/Club-der-Wr.-Musikerinnen-scaled.jpg
END:VEVENT
END:VCALENDAR