BEGIN:VCALENDAR
VERSION:2.0
PRODID:-//Wien für Senior:innen - ECPv6.15.17.1//NONSGML v1.0//EN
CALSCALE:GREGORIAN
METHOD:PUBLISH
X-ORIGINAL-URL:https://kalender.seniorinnen.wien
X-WR-CALDESC:Veranstaltungen für Wien für Senior:innen
REFRESH-INTERVAL;VALUE=DURATION:PT1H
X-Robots-Tag:noindex
X-PUBLISHED-TTL:PT1H
BEGIN:VTIMEZONE
TZID:Europe/Berlin
BEGIN:DAYLIGHT
TZOFFSETFROM:+0100
TZOFFSETTO:+0200
TZNAME:CEST
DTSTART:20250330T010000
END:DAYLIGHT
BEGIN:STANDARD
TZOFFSETFROM:+0200
TZOFFSETTO:+0100
TZNAME:CET
DTSTART:20251026T010000
END:STANDARD
BEGIN:DAYLIGHT
TZOFFSETFROM:+0100
TZOFFSETTO:+0200
TZNAME:CEST
DTSTART:20260329T010000
END:DAYLIGHT
BEGIN:STANDARD
TZOFFSETFROM:+0200
TZOFFSETTO:+0100
TZNAME:CET
DTSTART:20261025T010000
END:STANDARD
BEGIN:DAYLIGHT
TZOFFSETFROM:+0100
TZOFFSETTO:+0200
TZNAME:CEST
DTSTART:20270328T010000
END:DAYLIGHT
BEGIN:STANDARD
TZOFFSETFROM:+0200
TZOFFSETTO:+0100
TZNAME:CET
DTSTART:20271031T010000
END:STANDARD
END:VTIMEZONE
BEGIN:VEVENT
DTSTART;TZID=Europe/Berlin:20260331T090000
DTEND;TZID=Europe/Berlin:20260331T121500
DTSTAMP:20260423T105613
CREATED:20260316T125917Z
LAST-MODIFIED:20260316T130413Z
UID:12433-1774947600-1774959300@kalender.seniorinnen.wien
SUMMARY:BFI Wien: Digitale Senior:innenbildung
DESCRIPTION:Beginn 31. März (Workshopreihe mit 3 Terminen) \nKostenloser Workshop zur digitalen Senior:innenbildung wieder im Kursangebot vom BFI Wien! \nIn diesem Workshop unterstützen wir Senior:innen dabei\, digitale Kompetenzen zu stärken und den sicheren Umgang mit digitalen Medien zu erlernen – praxisnah\, verständlich und mit viel Geduld. \nOrt: BFI Wien\, Alfred-Dallinger-Platz 1\, 1030 Wien \nAnmeldung:\nKurs. Nr: 25BMS80006\nOnline: Suche | BFI Wien\nTel.: 01 8117810100 \nFoto: Pixabay
URL:https://kalender.seniorinnen.wien/event/bfi-wien-digitale-seniorinnenbildung/2026-03-31/
LOCATION:bfi Wien\, Alfred-Dallinger-Platz 1\, Wien\, Wien\, 1030\, Austria
CATEGORIES:Digital und Online,Information
ATTACH;FMTTYPE=image/jpeg:https://kalender.seniorinnen.wien/wp-content/uploads/2026/03/stocksnap-macbook-924015-scaled.jpg
END:VEVENT
END:VCALENDAR