BEGIN:VCALENDAR
VERSION:2.0
PRODID:-//Wien für Senior:innen - ECPv6.15.17.1//NONSGML v1.0//EN
CALSCALE:GREGORIAN
METHOD:PUBLISH
X-WR-CALNAME:Wien für Senior:innen
X-ORIGINAL-URL:https://kalender.seniorinnen.wien
X-WR-CALDESC:Veranstaltungen für Wien für Senior:innen
REFRESH-INTERVAL;VALUE=DURATION:PT1H
X-Robots-Tag:noindex
X-PUBLISHED-TTL:PT1H
BEGIN:VTIMEZONE
TZID:Europe/Berlin
BEGIN:DAYLIGHT
TZOFFSETFROM:+0100
TZOFFSETTO:+0200
TZNAME:CEST
DTSTART:20250330T010000
END:DAYLIGHT
BEGIN:STANDARD
TZOFFSETFROM:+0200
TZOFFSETTO:+0100
TZNAME:CET
DTSTART:20251026T010000
END:STANDARD
BEGIN:DAYLIGHT
TZOFFSETFROM:+0100
TZOFFSETTO:+0200
TZNAME:CEST
DTSTART:20260329T010000
END:DAYLIGHT
BEGIN:STANDARD
TZOFFSETFROM:+0200
TZOFFSETTO:+0100
TZNAME:CET
DTSTART:20261025T010000
END:STANDARD
BEGIN:DAYLIGHT
TZOFFSETFROM:+0100
TZOFFSETTO:+0200
TZNAME:CEST
DTSTART:20270328T010000
END:DAYLIGHT
BEGIN:STANDARD
TZOFFSETFROM:+0200
TZOFFSETTO:+0100
TZNAME:CET
DTSTART:20271031T010000
END:STANDARD
END:VTIMEZONE
BEGIN:VEVENT
DTSTART;TZID=Europe/Berlin:20260327T140000
DTEND;TZID=Europe/Berlin:20260327T160000
DTSTAMP:20260421T135305
CREATED:20260204T102406Z
LAST-MODIFIED:20260204T102406Z
UID:11746-1774620000-1774627200@kalender.seniorinnen.wien
SUMMARY:Gut beraten in Währing!
DESCRIPTION:Fonds Soziales Wien: Beratung für pflegende An- und Zugehörige\nGemeinsam.Sicher/Grätzlpolizei: Beratung zu Prävention und Sicherheitsfragen\nKostenlose Sozialberatung sowie Infos zu Sicherheit\, Pflege und zu Angeboten für Senior*innen. Jeden letzten Freitag im Monat! \nWo? Büro der Bezirksvorstehung Währing\nMartinstraße 100\, 1. Stock (barrierefrei zugänglich!) \nFoto: Stadt Wien
URL:https://kalender.seniorinnen.wien/event/gut-beraten-in-waehring-2/2026-03-27/
LOCATION:Amtshaus Währing\, Martinstraße 100/1. Stock\, Wien\, 1180
CATEGORIES:Barrierefrei,Information,Sicherheit
ATTACH;FMTTYPE=image/jpeg:https://kalender.seniorinnen.wien/wp-content/uploads/2026/02/amtshaus-waehring.c8d2849df7.1768116857.jpg
END:VEVENT
BEGIN:VEVENT
DTSTART;TZID=Europe/Berlin:20260327T150000
DTEND;TZID=Europe/Berlin:20260327T160000
DTSTAMP:20260421T135305
CREATED:20260120T115911Z
LAST-MODIFIED:20260120T115911Z
UID:11565-1774623600-1774627200@kalender.seniorinnen.wien
SUMMARY:Malerin – Mäzenin – Modell: Frauen in der Kunst
DESCRIPTION:Die Rundgänge für Menschen mit Demenz bzw. Vergesslichkeit finden auch 2026 jeden 4. Freitag im Monat um 15 Uhr statt. \nTreffpunkt im Eingangsbereich des Kunsthistorischen Museums\nDauer: ca. 60 Minuten\nEintritt und Teilnahme: kostenfrei \nAnmeldung erwünscht:\nTe.: +43 1 525 24-5210\nE-Mail: julia.haeussler@khm.at \n  \nFoto: Pixabay
URL:https://kalender.seniorinnen.wien/event/malerin-maezenin-modell-frauen-in-der-kunst/
LOCATION:Kunsthistorisches Museum\, Burgring 5\, Wien\, 1010
CATEGORIES:Barrierefrei,Demenz,Kunst und Kultur
ATTACH;FMTTYPE=image/jpeg:https://kalender.seniorinnen.wien/wp-content/uploads/2026/01/Kunsthistorisches-Museum_1280.jpg
END:VEVENT
BEGIN:VEVENT
DTSTART;TZID=Europe/Berlin:20260327T160000
DTEND;TZID=Europe/Berlin:20260327T173000
DTSTAMP:20260421T135305
CREATED:20260309T125445Z
LAST-MODIFIED:20260309T125445Z
UID:12409-1774627200-1774632600@kalender.seniorinnen.wien
SUMMARY:Stefan Franke „Tramway fahren“
DESCRIPTION:Ohne die Straßenbahn wäre Wien kaum denkbar. Grund genug für den Autor und Hobbyhistoriker Stefan Franke\, dieses Verkehrsmittel in einer Lesung genauer unter die Lupe zu nehmen. \nStefan Franke „Tramway fahren“\n27.3.2026\, 16–17:30 Uhr \nCafé Korb\nBrandstätte 7\, 1010 Wien (leider nicht barrierefrei) \nIrgendetwas gab es in den Zeitungen der Kaiserzeit immer über die Straßenbahn zu lesen\, seien es Berichte über neue Streckenführungen\, Leserbriefe über tadelnswerte Zustände oder neue Verordnungen wie etwa das Spuckverbot in den Waggons. Auch in den Spalten der Kleinanzeigen fanden sich regelmäßig schmachtende Kontaktinserate verfasst von Fahrgästen\, die eine flüchtige Begegnung in der Tramway gerne intensivieren wollten. \nEs erwartet Sie ein unterhaltsamer und interessanter Nachmittag im Café Korb. Am Klavier unterhält Katharina Litschauer mit zeitlosen und charmanten Melodien. \nEinlass: ab 15:15 Uhr\nEintritt: Vorverkauf 16\,– € / Abendkassa 20\,– €\nAnmeldung: info@stefanfranke.at\nVeranstalter: Stefan Franke (+43 680 3016765\, https://www.stefanfranke.at/) \nFoto: Stefan Franke
URL:https://kalender.seniorinnen.wien/event/stefan-franke-tramway-fahren/
LOCATION:Café Korb\, Brandstädte 7\, Wien\, Wien\, 1010\, Austria
CATEGORIES:Kunst und Kultur,Unterhaltung
ATTACH;FMTTYPE=image/jpeg:https://kalender.seniorinnen.wien/wp-content/uploads/2026/01/portrait__stefan-franke-201904-scaled.jpg
ORGANIZER;CN="Stefan Franke":MAILTO:info@stefanfranke.at
END:VEVENT
END:VCALENDAR