BEGIN:VCALENDAR
VERSION:2.0
PRODID:-//Wien für Senior:innen - ECPv6.15.17.1//NONSGML v1.0//EN
CALSCALE:GREGORIAN
METHOD:PUBLISH
X-ORIGINAL-URL:https://kalender.seniorinnen.wien
X-WR-CALDESC:Veranstaltungen für Wien für Senior:innen
REFRESH-INTERVAL;VALUE=DURATION:PT1H
X-Robots-Tag:noindex
X-PUBLISHED-TTL:PT1H
BEGIN:VTIMEZONE
TZID:Europe/Berlin
BEGIN:DAYLIGHT
TZOFFSETFROM:+0100
TZOFFSETTO:+0200
TZNAME:CEST
DTSTART:20250330T010000
END:DAYLIGHT
BEGIN:STANDARD
TZOFFSETFROM:+0200
TZOFFSETTO:+0100
TZNAME:CET
DTSTART:20251026T010000
END:STANDARD
BEGIN:DAYLIGHT
TZOFFSETFROM:+0100
TZOFFSETTO:+0200
TZNAME:CEST
DTSTART:20260329T010000
END:DAYLIGHT
BEGIN:STANDARD
TZOFFSETFROM:+0200
TZOFFSETTO:+0100
TZNAME:CET
DTSTART:20261025T010000
END:STANDARD
BEGIN:DAYLIGHT
TZOFFSETFROM:+0100
TZOFFSETTO:+0200
TZNAME:CEST
DTSTART:20270328T010000
END:DAYLIGHT
BEGIN:STANDARD
TZOFFSETFROM:+0200
TZOFFSETTO:+0100
TZNAME:CET
DTSTART:20271031T010000
END:STANDARD
END:VTIMEZONE
BEGIN:VEVENT
DTSTART;TZID=Europe/Berlin:20260325T090000
DTEND;TZID=Europe/Berlin:20260325T103000
DTSTAMP:20260421T134738
CREATED:20260309T120750Z
LAST-MODIFIED:20260309T120750Z
UID:12398-1774429200-1774434600@kalender.seniorinnen.wien
SUMMARY:
DESCRIPTION:Videotelefonie mit meinem Smartphone\n\n\nDie Liebsten beim Telefonieren sehen. So funktioniert Videotelefonie. \n\n\n\n\nEin persönliches Treffen ist durch nichts zu ersetzen. Doch manchmal ist es einfach nicht möglich. In solchen Situationen greift man zum Telefon.\nKünftig hören Sie Ihr Gegenüber nicht nur\, sondern sehen es auch. So wird Nähe zu Kindern\, Enkeln und Freunden möglich\, auch über große Entfernungen hinweg. \n\n\nJetzt verbindlich anmelden unter der Rufnummer: 0800 808 810\nMontag bis Freitag von 9 bis 15 Uhr \n\n\nInternet: https://a1seniorenakademie.at/webinar-videotelefonie/ \nFoto: Pixabay
URL:https://kalender.seniorinnen.wien/event/12398/2026-03-25/
LOCATION:Online
CATEGORIES:Digital und Online
ATTACH;FMTTYPE=image/jpeg:https://kalender.seniorinnen.wien/wp-content/uploads/2026/03/pix1861-smartphone-2471545-scaled.jpg
END:VEVENT
BEGIN:VEVENT
DTSTART;TZID=Europe/Berlin:20260325T093000
DTEND;TZID=Europe/Berlin:20260325T113000
DTSTAMP:20260421T134738
CREATED:20260209T132127Z
LAST-MODIFIED:20260209T132127Z
UID:12123-1774431000-1774438200@kalender.seniorinnen.wien
SUMMARY:Salon Servus - GB*Stadtteilbüro\, 16.\, Haberlgasse 76
DESCRIPTION:Alle 14 Tage in ganz Wien gemeinsam spielen\, basteln\, kochen\, plaudern\nGB*Stadtteilbüro\, Haberlgasse 76\, 1160 Wien\nMittwochs\, 9.30 – 11.30 Uhr\n \nDer Salon Servus ist ein Treffpunkt in Ihrer Nähe. Hier können Sie reden\, frühstücken oder jausnen\, spielen\, basteln und zusammen kochen. Für Menschen ab 60 Jahren\, aber alle sind willkommen. Denn gemeinsam ist es schöner! \nUnsere GB*Stadtteilbüros werden alle 14 Tage zu einem gemütlichen Treffpunkt in Ihrer Nähe! Ob beim Plaudern\, beim Brett- und Kartenspielen\, beim Frühstücken oder gemeinsamen Kochen\, Handwerken oder Basteln –im „Salon Servus“ dreht sich alles um das Miteinander! \nDas Angebot ist kostenlos und unverbindlich – alle Interessierten sind willkommen! \nTermine und Standortadressen unter:\ngbstern.at/salon-servus \nKalender: www.gbstern.at/termine/monat/202602/ \nFoto: Salon Servus\, (c) Daniel Dutkowski
URL:https://kalender.seniorinnen.wien/event/salon-servus-gbstadtteilbuero-16-haberlgasse-76/2026-03-25/
LOCATION:Wien
CATEGORIES:Begegnung,Grätzel,Unterhaltung
ATTACH;FMTTYPE=image/jpeg:https://kalender.seniorinnen.wien/wp-content/uploads/2026/02/csm_2504_Salon_Servus_c_Daniel_Dutkowski_15_73921e458d.jpg
ORGANIZER;CN="Gebietsbetreuung Stadterneuerung":MAILTO:info@gbstern.at
END:VEVENT
BEGIN:VEVENT
DTSTART;TZID=Europe/Berlin:20260325T160000
DTEND;TZID=Europe/Berlin:20260325T180000
DTSTAMP:20260421T134738
CREATED:20260209T110803Z
LAST-MODIFIED:20260209T113907Z
UID:11996-1774454400-1774461600@kalender.seniorinnen.wien
SUMMARY:Salon Servus - GB*Stadtteilbüro\, 10.\, Quellenstraße 149
DESCRIPTION:Alle 14 Tage in ganz Wien gemeinsam spielen\, basteln\, kochen\, plaudern\nGB*Stadtteilbüro\, Quellenstraße 149\, 1100 Wien\,\nMittwochs\, 16 – 18 Uhr \nDer Salon Servus ist ein Treffpunkt in Ihrer Nähe. Hier können Sie reden\, frühstücken oder jausnen\, spielen\, basteln und zusammen kochen. Für Menschen ab 60 Jahren\, aber alle sind willkommen. Denn gemeinsam ist es schöner! \nUnsere GB*Stadtteilbüros werden alle 14 Tage zu einem gemütlichen Treffpunkt in Ihrer Nähe! Ob beim Plaudern\, beim Brett- und Kartenspielen\, beim Frühstücken oder gemeinsamen Kochen\, Handwerken oder Basteln –im „Salon Servus“ dreht sich alles um das Miteinander! \nDas Angebot ist kostenlos und unverbindlich – alle Interessierten sind willkommen! \nTermine und Standortadressen unter:\ngbstern.at/salon-servus \nKalender: www.gbstern.at/termine/monat/202602/ \nFoto: Salon Servus\, (c) Daniel Dutkowski
URL:https://kalender.seniorinnen.wien/event/salon-servus-alle-14-tage-in-ganz-wien-gemeinsam-spielen-basteln-kochen-plaudern-2/2026-03-25/
LOCATION:Wien
CATEGORIES:Begegnung,Grätzel,Unterhaltung
ATTACH;FMTTYPE=image/jpeg:https://kalender.seniorinnen.wien/wp-content/uploads/2026/02/csm_2504_Salon_Servus_c_Daniel_Dutkowski_15_73921e458d.jpg
ORGANIZER;CN="Gebietsbetreuung Stadterneuerung":MAILTO:info@gbstern.at
END:VEVENT
BEGIN:VEVENT
DTSTART;TZID=Europe/Berlin:20260325T170000
DTEND;TZID=Europe/Berlin:20260325T190000
DTSTAMP:20260421T134738
CREATED:20260324T113340Z
LAST-MODIFIED:20260324T113340Z
UID:12485-1774458000-1774465200@kalender.seniorinnen.wien
SUMMARY:Informationen für Pflegende Angehörige
DESCRIPTION:Gesund & sicher in Hietzing \nWichtige Informationen für Pflegende Angehörige von\nPräs. Birgit Meinhard Schiebel\nInkl. Fragen und Antworten – organisiert von Andrea Diawara \nAmtshaus Hietzing\, Großer Festsaal\n(Hietzinger Kai 1-3\, Stiege 1\, 2. Stock)\, Eingang Hans Moser Park. \nEine Veranstaltung des Netzwerks \,\,Miteinander im demenzfreundlichen Hietzing“ und der Bezirksvorstehung Hietzing \nFoto: Pixabay
URL:https://kalender.seniorinnen.wien/event/informationen-fuer-pflegende-angehoerige/
LOCATION:Amtshaus Hietzing\, Hietzinger Kai 1-3\, Wien\, Wien\, 1130\, Austria
CATEGORIES:Demenz,Fit und Gesund,Information
ATTACH;FMTTYPE=image/jpeg:https://kalender.seniorinnen.wien/wp-content/uploads/2024/11/hands-2168901_1280_Pixabay.jpg
END:VEVENT
END:VCALENDAR