BEGIN:VCALENDAR
VERSION:2.0
PRODID:-//Wien für Senior:innen - ECPv6.15.17.1//NONSGML v1.0//EN
CALSCALE:GREGORIAN
METHOD:PUBLISH
X-WR-CALNAME:Wien für Senior:innen
X-ORIGINAL-URL:https://kalender.seniorinnen.wien
X-WR-CALDESC:Veranstaltungen für Wien für Senior:innen
REFRESH-INTERVAL;VALUE=DURATION:PT1H
X-Robots-Tag:noindex
X-PUBLISHED-TTL:PT1H
BEGIN:VTIMEZONE
TZID:Europe/Berlin
BEGIN:DAYLIGHT
TZOFFSETFROM:+0100
TZOFFSETTO:+0200
TZNAME:CEST
DTSTART:20250330T010000
END:DAYLIGHT
BEGIN:STANDARD
TZOFFSETFROM:+0200
TZOFFSETTO:+0100
TZNAME:CET
DTSTART:20251026T010000
END:STANDARD
BEGIN:DAYLIGHT
TZOFFSETFROM:+0100
TZOFFSETTO:+0200
TZNAME:CEST
DTSTART:20260329T010000
END:DAYLIGHT
BEGIN:STANDARD
TZOFFSETFROM:+0200
TZOFFSETTO:+0100
TZNAME:CET
DTSTART:20261025T010000
END:STANDARD
BEGIN:DAYLIGHT
TZOFFSETFROM:+0100
TZOFFSETTO:+0200
TZNAME:CEST
DTSTART:20270328T010000
END:DAYLIGHT
BEGIN:STANDARD
TZOFFSETFROM:+0200
TZOFFSETTO:+0100
TZNAME:CET
DTSTART:20271031T010000
END:STANDARD
END:VTIMEZONE
BEGIN:VEVENT
DTSTART;TZID=Europe/Berlin:20260318T080000
DTEND;TZID=Europe/Berlin:20260318T160000
DTSTAMP:20260421T134607
CREATED:20260302T071535Z
LAST-MODIFIED:20260302T071535Z
UID:12244-1773820800-1773849600@kalender.seniorinnen.wien
SUMMARY:Die Wanderausstellung HALT KEINE GEWALT
DESCRIPTION:Eröffnung: 10. März 2026\, 13 Uhr \nCampus Donaustadt – Wiener Gesundheitsverbund\nLangobardenstraße 122\, 1220 Wien \nÖffentliche Erreichbarkeit: U2 Donauspital\, Abgang Kapellenweg \nDie Wanderausstellung HALT KEINE GEWALT holt ein Thema\, welches sich durch alle Schichten und Altersgruppen zieht\, vor den Vorhang und macht es sichtbar.\nEs muss unser aller gemeinsames Ziel sein\, einen gewalt- freien Umgang mit älteren Menschen zu schaffen.\nAnschaulich vermittelt die Wanderausstellung wie Gewalt entsteht und welche Folgen sie für die Opfer hat. Die Wanderausstellung zeigt Auswege aus der Gewalt\, informiert über Ansprechstellen und Unterstützungsangebote.\nDie Wanderausstellung weckt auf\, sensibilisiert\, regt zum Nachdenken und Handeln an. Ihre Impulse begleiten die Besucherinnen und Besucher auf einer bewusstseinsbildenden Reise. \nAnmeldung: anmeldung@prosenectute.at\nInformationen: www.halt-keine-gewalt.at\nVeranstalter: Pro Senectute – Verein für das Alter in Österreich\, Steingasse 1/3\, 4020 Linz\nTelefon: 0660 6501205\nE-Mail: wanderausstellung@prosenectute.at \nFoto: Pro Senectute
URL:https://kalender.seniorinnen.wien/event/die-wanderausstellung-halt-keine-gewalt/2026-03-18/
LOCATION:Campus Donaustadt – Wiener Gesundheitsverbund\, Langobardenstraße 122\,\, Wien\, Wien\, 1220\, Austria
CATEGORIES:Information,Sicherheit
ATTACH;FMTTYPE=image/webp:https://kalender.seniorinnen.wien/wp-content/uploads/2026/03/cPro-Senectute.webp
END:VEVENT
BEGIN:VEVENT
DTSTART;TZID=Europe/Berlin:20260318T140000
DTEND;TZID=Europe/Berlin:20260318T163000
DTSTAMP:20260421T134607
CREATED:20251126T105157Z
LAST-MODIFIED:20251126T105157Z
UID:11223-1773842400-1773851400@kalender.seniorinnen.wien
SUMMARY:Wien Museum kreativ: Eine Stadt aus Ton
DESCRIPTION:Eine Stadt aus Ton\n18.03.2026\nSeit fast 2000 Jahren werden in Wien Ziegel gebrannt. Der Rohstoff Ton entstand über Jahrmillionen aus den Ablagerungen des Urmeeres\, auf dem sich heute das Stadtgebiet erstreckt. Schon die Römer stellten Grobkeramik wie Dachziegel oder Bodenplatten bis hin zu feinster Töpferware her. Mit dem Bau der Ringstraße erreichte die Ziegelproduktion ihren Höhepunkt. Auch abseits der Baustellen war Ton schon immer ein Mittel\, sich künstlerisch auszudrücken. \nLassen Sie sich vom rötlich-braunen Material Ton inspirieren! Schaffen Sie Ihre eigenen Kreationen im Atelier! Vielleicht entsteht sogar eine Stadt aus Ton. \n\n\nHinweis: Dialog-Führung zu ausgewählten Objekten und Möglichkeiten zum Austausch von Erinnerungen. Mit Sitzgelegenheiten\, langsames Tempo. Menschen mit Demenz und ihre Begleitpersonen sind herzlich willkommen! Anwendung der Timeslips Methode. Anmeldung erforderlich\, bitte geben Sie uns bekannt\, wenn Sie mit einem Rollstuhl kommen.\n\n\nhttps://www.wienmuseum.at/kalender?text=Wien%20Museum%20kreativ\nBild: Wien Museum/Lisa Rastl
URL:https://kalender.seniorinnen.wien/event/wien-museum-kreativ-eine-stadt-aus-ton/
LOCATION:Wien Museum\, Karlsplatz 8\, Wien\, Wien\, 1040\, Österreich
CATEGORIES:Demenz,Kunst und Kultur
ATTACH;FMTTYPE=image/jpeg:https://kalender.seniorinnen.wien/wp-content/uploads/2025/11/Wien-Museum_Lisa-Rastl-3-scaled.jpg
ORGANIZER;CN="Wien Museum":MAILTO:vermittlung@wienmuseum.at
END:VEVENT
BEGIN:VEVENT
DTSTART;TZID=Europe/Berlin:20260318T153000
DTEND;TZID=Europe/Berlin:20260318T153000
DTSTAMP:20260421T134607
CREATED:20260302T140515Z
LAST-MODIFIED:20260302T140748Z
UID:12328-1773847800-1773847800@kalender.seniorinnen.wien
SUMMARY:Stolz\, Leopoldi und Benatzky
DESCRIPTION:Das Vindobona Operetten- & Wienerlied Café mit Ingrid Merschl und Irina Nikolayeva \nStolz\, Leopoldi und Benatzky\nDrei Komponisten die in vielen Bereichen herrliche Melodien zauberten. Wienermusik\, Chansons\, Schlager und Operetten\, wurden zu Ohrwürmern\, und eroberten die Herzen der Menschen im Sturm. Aber es gibt auch viele wunderbare Lieder\, die nicht so bekannt sind\, und ergeben in diesem Programm einen interessanten Mix aus alt bewährt und „jö\, das kenn‘ ich gar nicht“.\nLassen Sie sich überraschen.                                                                                              \nKonzept\, Gesang und Moderation: Ingrid Merschl\nAm Klavier: Irina Nikolayeva \nOrt: Vindobona Lounge\, 1200 Wien\, Wallensteinplatz 6\nMusikschutz inkl. Kaffee und Kuchen € 14\,90 \nReservierung:0676 534 69 89 (Ingrid Merschl) \nInternet: www.merschl.at\nE-Mail: ingrid@merschl.at \nFoto: www.merschl.at
URL:https://kalender.seniorinnen.wien/event/stolz-leopoldi-und-benatzky/
LOCATION:Das Vindobona\, Wallensteinplatz 6\, Wien\, 1200
CATEGORIES:Kunst und Kultur,Unterhaltung
ATTACH;FMTTYPE=image/jpeg:https://kalender.seniorinnen.wien/wp-content/uploads/2026/02/P1010234aK-e1770215092871.jpg
END:VEVENT
BEGIN:VEVENT
DTSTART;TZID=Europe/Berlin:20260318T153000
DTEND;TZID=Europe/Berlin:20260318T153000
DTSTAMP:20260421T134607
CREATED:20260310T100155Z
LAST-MODIFIED:20260310T100155Z
UID:12421-1773847800-1773847800@kalender.seniorinnen.wien
SUMMARY:Stolz\, Leopoldi und Benatzky
DESCRIPTION:Das Vindobona Operetten- & Wienerlied Café mit Ingrid Merschl und Irina Nikolayeva\njeden 3. Mittwoch im Monat um 15:30 Uhr \nStolz\, Leopoldi und Benatzky\nDrei Komponisten die in vielen Bereichen herrliche Melodien zauberten. Wienermusik\, Chansons\, Schlager und Operetten\, wurden zu Ohrwürmern\, und eroberten die Herzen der Menschen im Sturm. Aber es gibt auch viele wunderbare Lieder\, die nicht so bekannt sind\, und ergeben in diesem Programm einen interessanten Mix aus alt bewährt und „jö\, das kenn‘ ich gar nicht“.\nLassen Sie sich überraschen.                                                                                              \nKonzept\, Gesang und Moderation: Ingrid Merschl\nAm Klavier: Irina Nikolayeva \nOrt: Vindobona Lounge\, 1200 Wien\, Wallensteinplatz 6\nMusikschutz inkl. Kaffee und Kuchen € 14\,90 \nReservierung: 0676 534 69 89 (Ingrid Merschl) \nInternet: www.merschl.at\nE-Mail: ingrid@merschl.at \nFoto: www.merschl.at
URL:https://kalender.seniorinnen.wien/event/stolz-leopoldi-und-benatzky-2/2026-03-18/
LOCATION:Das Vindobona\, Wallensteinplatz 6\, Wien\, 1200
CATEGORIES:Kunst und Kultur,Unterhaltung
ATTACH;FMTTYPE=image/jpeg:https://kalender.seniorinnen.wien/wp-content/uploads/2026/02/P1010234aK-e1770215092871.jpg
END:VEVENT
BEGIN:VEVENT
DTSTART;TZID=Europe/Berlin:20260318T160000
DTEND;TZID=Europe/Berlin:20260318T173000
DTSTAMP:20260421T134607
CREATED:20260302T073610Z
LAST-MODIFIED:20260302T073610Z
UID:12247-1773849600-1773855000@kalender.seniorinnen.wien
SUMMARY:Vergessen? Demenz? Reden wir darüber!
DESCRIPTION:Informationsmöglichkeit und Austausch zum Thema Vergesslichkeit und Demenz \nMittwoch\, 18. März 2026\, 16 bis 17:30 Uhr\nHeuriger EDLMOSER\nMaurer Lange Gasse 123\, 1230 Wien \nErreichbar mit der Autobuslinie 60A \nBitte-wenn möglich-um Anmeldung: petra.hausteiner@cs.at\nEintritt frei \nFoto: Pixabay
URL:https://kalender.seniorinnen.wien/event/vergessen-demenz-reden-wir-darueber-4/
LOCATION:Heuriger Edlmoser\, Maurer Lange Gasse 123\, Wien\, 1230\, Österreich
CATEGORIES:Demenz,Information
ATTACH;FMTTYPE=image/jpeg:https://kalender.seniorinnen.wien/wp-content/uploads/2025/08/Schriftzug-Demenz-©Pixabay-e1754396077386.jpg
END:VEVENT
END:VCALENDAR