BEGIN:VCALENDAR
VERSION:2.0
PRODID:-//Wien für Senior:innen - ECPv6.15.17.1//NONSGML v1.0//EN
CALSCALE:GREGORIAN
METHOD:PUBLISH
X-WR-CALNAME:Wien für Senior:innen
X-ORIGINAL-URL:https://kalender.seniorinnen.wien
X-WR-CALDESC:Veranstaltungen für Wien für Senior:innen
REFRESH-INTERVAL;VALUE=DURATION:PT1H
X-Robots-Tag:noindex
X-PUBLISHED-TTL:PT1H
BEGIN:VTIMEZONE
TZID:Europe/Berlin
BEGIN:DAYLIGHT
TZOFFSETFROM:+0100
TZOFFSETTO:+0200
TZNAME:CEST
DTSTART:20250330T010000
END:DAYLIGHT
BEGIN:STANDARD
TZOFFSETFROM:+0200
TZOFFSETTO:+0100
TZNAME:CET
DTSTART:20251026T010000
END:STANDARD
BEGIN:DAYLIGHT
TZOFFSETFROM:+0100
TZOFFSETTO:+0200
TZNAME:CEST
DTSTART:20260329T010000
END:DAYLIGHT
BEGIN:STANDARD
TZOFFSETFROM:+0200
TZOFFSETTO:+0100
TZNAME:CET
DTSTART:20261025T010000
END:STANDARD
BEGIN:DAYLIGHT
TZOFFSETFROM:+0100
TZOFFSETTO:+0200
TZNAME:CEST
DTSTART:20270328T010000
END:DAYLIGHT
BEGIN:STANDARD
TZOFFSETFROM:+0200
TZOFFSETTO:+0100
TZNAME:CET
DTSTART:20271031T010000
END:STANDARD
END:VTIMEZONE
BEGIN:VEVENT
DTSTART;TZID=Europe/Berlin:20260313T080000
DTEND;TZID=Europe/Berlin:20260313T160000
DTSTAMP:20260421T134619
CREATED:20260302T071535Z
LAST-MODIFIED:20260302T071535Z
UID:12239-1773388800-1773417600@kalender.seniorinnen.wien
SUMMARY:Die Wanderausstellung HALT KEINE GEWALT
DESCRIPTION:Eröffnung: 10. März 2026\, 13 Uhr \nCampus Donaustadt – Wiener Gesundheitsverbund\nLangobardenstraße 122\, 1220 Wien \nÖffentliche Erreichbarkeit: U2 Donauspital\, Abgang Kapellenweg \nDie Wanderausstellung HALT KEINE GEWALT holt ein Thema\, welches sich durch alle Schichten und Altersgruppen zieht\, vor den Vorhang und macht es sichtbar.\nEs muss unser aller gemeinsames Ziel sein\, einen gewalt- freien Umgang mit älteren Menschen zu schaffen.\nAnschaulich vermittelt die Wanderausstellung wie Gewalt entsteht und welche Folgen sie für die Opfer hat. Die Wanderausstellung zeigt Auswege aus der Gewalt\, informiert über Ansprechstellen und Unterstützungsangebote.\nDie Wanderausstellung weckt auf\, sensibilisiert\, regt zum Nachdenken und Handeln an. Ihre Impulse begleiten die Besucherinnen und Besucher auf einer bewusstseinsbildenden Reise. \nAnmeldung: anmeldung@prosenectute.at\nInformationen: www.halt-keine-gewalt.at\nVeranstalter: Pro Senectute – Verein für das Alter in Österreich\, Steingasse 1/3\, 4020 Linz\nTelefon: 0660 6501205\nE-Mail: wanderausstellung@prosenectute.at \nFoto: Pro Senectute
URL:https://kalender.seniorinnen.wien/event/die-wanderausstellung-halt-keine-gewalt/2026-03-13/
LOCATION:Campus Donaustadt – Wiener Gesundheitsverbund\, Langobardenstraße 122\,\, Wien\, Wien\, 1220\, Austria
CATEGORIES:Information,Sicherheit
ATTACH;FMTTYPE=image/webp:https://kalender.seniorinnen.wien/wp-content/uploads/2026/03/cPro-Senectute.webp
END:VEVENT
BEGIN:VEVENT
DTSTART;TZID=Europe/Berlin:20260313T140000
DTEND;TZID=Europe/Berlin:20260313T170000
DTSTAMP:20260421T134620
CREATED:20260109T090442Z
LAST-MODIFIED:20260109T090442Z
UID:11422-1773410400-1773421200@kalender.seniorinnen.wien
SUMMARY:Kontaktbesuchsdienst: Infotisch in der Hauptbücherei
DESCRIPTION:Infotisch in der Hauptbücherei: 14 bis 17 Uhr \nFoyer Hauptbücherei\nUrban Loritz-Platz 2a\n1070 Wien \nFoto: Wiener Sozialdienste
URL:https://kalender.seniorinnen.wien/event/kontaktbesuchsdienst-infotisch-in-der-hauptbuecherei/2026-03-13/
LOCATION:Hauptbücherei\, Urban-Loritz-Platz 2a\, Wien\, 1070
CATEGORIES:Information
ATTACH;FMTTYPE=image/jpeg:https://kalender.seniorinnen.wien/wp-content/uploads/2019/08/WISO_Kontaktbesuchsdienst.jpg
END:VEVENT
END:VCALENDAR