BEGIN:VCALENDAR
VERSION:2.0
PRODID:-//Wien für Senior:innen - ECPv6.15.17.1//NONSGML v1.0//EN
CALSCALE:GREGORIAN
METHOD:PUBLISH
X-ORIGINAL-URL:https://kalender.seniorinnen.wien
X-WR-CALDESC:Veranstaltungen für Wien für Senior:innen
REFRESH-INTERVAL;VALUE=DURATION:PT1H
X-Robots-Tag:noindex
X-PUBLISHED-TTL:PT1H
BEGIN:VTIMEZONE
TZID:Europe/Berlin
BEGIN:DAYLIGHT
TZOFFSETFROM:+0100
TZOFFSETTO:+0200
TZNAME:CEST
DTSTART:20250330T010000
END:DAYLIGHT
BEGIN:STANDARD
TZOFFSETFROM:+0200
TZOFFSETTO:+0100
TZNAME:CET
DTSTART:20251026T010000
END:STANDARD
BEGIN:DAYLIGHT
TZOFFSETFROM:+0100
TZOFFSETTO:+0200
TZNAME:CEST
DTSTART:20260329T010000
END:DAYLIGHT
BEGIN:STANDARD
TZOFFSETFROM:+0200
TZOFFSETTO:+0100
TZNAME:CET
DTSTART:20261025T010000
END:STANDARD
BEGIN:DAYLIGHT
TZOFFSETFROM:+0100
TZOFFSETTO:+0200
TZNAME:CEST
DTSTART:20270328T010000
END:DAYLIGHT
BEGIN:STANDARD
TZOFFSETFROM:+0200
TZOFFSETTO:+0100
TZNAME:CET
DTSTART:20271031T010000
END:STANDARD
END:VTIMEZONE
BEGIN:VEVENT
DTSTART;TZID=Europe/Berlin:20260311T080000
DTEND;TZID=Europe/Berlin:20260311T160000
DTSTAMP:20260421T134829
CREATED:20260302T071535Z
LAST-MODIFIED:20260302T071535Z
UID:12237-1773216000-1773244800@kalender.seniorinnen.wien
SUMMARY:Die Wanderausstellung HALT KEINE GEWALT
DESCRIPTION:Eröffnung: 10. März 2026\, 13 Uhr \nCampus Donaustadt – Wiener Gesundheitsverbund\nLangobardenstraße 122\, 1220 Wien \nÖffentliche Erreichbarkeit: U2 Donauspital\, Abgang Kapellenweg \nDie Wanderausstellung HALT KEINE GEWALT holt ein Thema\, welches sich durch alle Schichten und Altersgruppen zieht\, vor den Vorhang und macht es sichtbar.\nEs muss unser aller gemeinsames Ziel sein\, einen gewalt- freien Umgang mit älteren Menschen zu schaffen.\nAnschaulich vermittelt die Wanderausstellung wie Gewalt entsteht und welche Folgen sie für die Opfer hat. Die Wanderausstellung zeigt Auswege aus der Gewalt\, informiert über Ansprechstellen und Unterstützungsangebote.\nDie Wanderausstellung weckt auf\, sensibilisiert\, regt zum Nachdenken und Handeln an. Ihre Impulse begleiten die Besucherinnen und Besucher auf einer bewusstseinsbildenden Reise. \nAnmeldung: anmeldung@prosenectute.at\nInformationen: www.halt-keine-gewalt.at\nVeranstalter: Pro Senectute – Verein für das Alter in Österreich\, Steingasse 1/3\, 4020 Linz\nTelefon: 0660 6501205\nE-Mail: wanderausstellung@prosenectute.at \nFoto: Pro Senectute
URL:https://kalender.seniorinnen.wien/event/die-wanderausstellung-halt-keine-gewalt/2026-03-11/
LOCATION:Campus Donaustadt – Wiener Gesundheitsverbund\, Langobardenstraße 122\,\, Wien\, Wien\, 1220\, Austria
CATEGORIES:Information,Sicherheit
ATTACH;FMTTYPE=image/webp:https://kalender.seniorinnen.wien/wp-content/uploads/2026/03/cPro-Senectute.webp
END:VEVENT
BEGIN:VEVENT
DTSTART;TZID=Europe/Berlin:20260311T093000
DTEND;TZID=Europe/Berlin:20260311T113000
DTSTAMP:20260421T134829
CREATED:20260209T132127Z
LAST-MODIFIED:20260209T132127Z
UID:12122-1773221400-1773228600@kalender.seniorinnen.wien
SUMMARY:Salon Servus - GB*Stadtteilbüro\, 16.\, Haberlgasse 76
DESCRIPTION:Alle 14 Tage in ganz Wien gemeinsam spielen\, basteln\, kochen\, plaudern\nGB*Stadtteilbüro\, Haberlgasse 76\, 1160 Wien\nMittwochs\, 9.30 – 11.30 Uhr\n \nDer Salon Servus ist ein Treffpunkt in Ihrer Nähe. Hier können Sie reden\, frühstücken oder jausnen\, spielen\, basteln und zusammen kochen. Für Menschen ab 60 Jahren\, aber alle sind willkommen. Denn gemeinsam ist es schöner! \nUnsere GB*Stadtteilbüros werden alle 14 Tage zu einem gemütlichen Treffpunkt in Ihrer Nähe! Ob beim Plaudern\, beim Brett- und Kartenspielen\, beim Frühstücken oder gemeinsamen Kochen\, Handwerken oder Basteln –im „Salon Servus“ dreht sich alles um das Miteinander! \nDas Angebot ist kostenlos und unverbindlich – alle Interessierten sind willkommen! \nTermine und Standortadressen unter:\ngbstern.at/salon-servus \nKalender: www.gbstern.at/termine/monat/202602/ \nFoto: Salon Servus\, (c) Daniel Dutkowski
URL:https://kalender.seniorinnen.wien/event/salon-servus-gbstadtteilbuero-16-haberlgasse-76/2026-03-11/
LOCATION:Wien
CATEGORIES:Begegnung,Grätzel,Unterhaltung
ATTACH;FMTTYPE=image/jpeg:https://kalender.seniorinnen.wien/wp-content/uploads/2026/02/csm_2504_Salon_Servus_c_Daniel_Dutkowski_15_73921e458d.jpg
ORGANIZER;CN="Gebietsbetreuung Stadterneuerung":MAILTO:info@gbstern.at
END:VEVENT
BEGIN:VEVENT
DTSTART;TZID=Europe/Berlin:20260311T130000
DTEND;TZID=Europe/Berlin:20260311T150000
DTSTAMP:20260421T134829
CREATED:20260116T105412Z
LAST-MODIFIED:20260309T130017Z
UID:11542-1773234000-1773241200@kalender.seniorinnen.wien
SUMMARY:Vortrag: Sturzfrei
DESCRIPTION:in Kooperation mit den Wiener Sozialdiensten/Kontaktbesuchsdienst und der Senior:innenbeauftragten der Stadt Wien \nSturzfrei\nVHS Landstraße\, Hainburger Straße 29 \, 1030 Wien\n\n11.03.2026\, 13 bis 15 Uhr Uhr\nTeilnehmer:innen: 5 – 15 \nIn diesem Workshop erfahren Sie\, wie Sie Stürzen im Alltag gezielt vorbeugen können. Sie lernen praktische Übungen zur Körperwahrnehmung\, Kraft und Balance\, erhalten Tipps zur Sturzvermeidung im häuslichen Umfeld und stärken Ihr Vertrauen in die eigene Bewegungssicherheit – für mehr Unabhängigkeit und Lebensqualität.\n\n\nReferent:innen: Netzwerk Pflegende An- und Zugehörige \n\n\nKontakt:\nTel.: +43 1 891 74 103 000\nE-Mail: landstraße@vhs.at \n\n\nAlle aktuellen Kurse kann man auch online finden und buchen: www.vhs.at/landstraße/kursangebot \n\n\nFoto: Pixabay
URL:https://kalender.seniorinnen.wien/event/sturzfrei/
LOCATION:VHS Landstraße\, Hainburger Straße 29\, Wien\, 1030
CATEGORIES:Fit und Gesund,Information
ATTACH;FMTTYPE=image/jpeg:https://kalender.seniorinnen.wien/wp-content/uploads/2025/08/20250813-Balance-Sturzpraevention-e1755074669533.jpg
ORGANIZER;CN="VHS Landstra%C3%9Fe":MAILTO:landstrasse@vhs.at
END:VEVENT
BEGIN:VEVENT
DTSTART;TZID=Europe/Berlin:20260311T140000
DTEND;TZID=Europe/Berlin:20260311T163000
DTSTAMP:20260421T134829
CREATED:20251126T113142Z
LAST-MODIFIED:20251126T113142Z
UID:11241-1773237600-1773246600@kalender.seniorinnen.wien
SUMMARY:Wien Museum entschleunigt: Von Hosenträgerinnen auf Fahrrädern und anderen starken Frauen
DESCRIPTION:Von Hosenträgerinnen auf Fahrrädern und anderen starken Frauen\n11.03.2026\nAm 8. März ist Internationaler Frauentag. Er macht auf die Gleichberechtigung der Geschlechter aufmerksam und feiert die Errungenschaften der Frauenrechtsbewegung. \nAuch in der Dauerausstellung „Wien. Meine Geschichte“ sind Frauenrollen und Frauenrechte ein Thema. Es geht um gesellschaftlichen Wandel bei zentralen Lebensthemen: Arbeits- Alltags- Freizeitgestaltung und politisches Mitspracherecht. \nWie verändern sich Geschlechterrollen über die Zeit und welche Handlungsspielräume gibt es? Und welche Veränderungen haben Sie selbst miterlebt? Haben Sie heute als Frau mehr Rechte und Möglichkeiten als früher? \nDialog-Führung zu ausgewählten Objekten und Möglichkeiten zum Austausch von Erinnerungen.\nDemenzfreundliche Führung mit Sitzgelegenheiten und bei langsamen Tempo: Betroffene und Begleitperonen sind herzlich willkommen!\nAnwendung der Timeslips Methode: https://www.timeslips.org/ \n\n\nHinweis: Dialog-Führung zu ausgewählten Objekten und Möglichkeiten zum Austausch von Erinnerungen. Mit Sitzgelegenheiten\, langsames Tempo. Menschen mit Demenz und ihre Begleitpersonen sind herzlich willkommen! Anwendung der Timeslips Methode. Anmeldung erforderlich\, bitte geben Sie uns bekannt\, wenn Sie mit einem Rollstuhl kommen.\n\nhttps://www.wienmuseum.at/kalender?text=Wien%20Museum%20entschleunigt \nBild: Wien Museum/Lisa Rastl
URL:https://kalender.seniorinnen.wien/event/wien-museum-entschleunigt-von-hosentraegerinnen-auf-fahrraedern-und-anderen-starken-frauen/
LOCATION:Wien Museum\, Karlsplatz 8\, Wien\, Wien\, 1040\, Österreich
CATEGORIES:Demenz,Kunst und Kultur
ATTACH;FMTTYPE=image/jpeg:https://kalender.seniorinnen.wien/wp-content/uploads/2025/11/Wien-Museum_Lisa-Rastl-2-scaled.jpg
END:VEVENT
BEGIN:VEVENT
DTSTART;TZID=Europe/Berlin:20260311T160000
DTEND;TZID=Europe/Berlin:20260311T180000
DTSTAMP:20260421T134829
CREATED:20260209T110803Z
LAST-MODIFIED:20260209T113907Z
UID:11995-1773244800-1773252000@kalender.seniorinnen.wien
SUMMARY:Salon Servus - GB*Stadtteilbüro\, 10.\, Quellenstraße 149
DESCRIPTION:Alle 14 Tage in ganz Wien gemeinsam spielen\, basteln\, kochen\, plaudern\nGB*Stadtteilbüro\, Quellenstraße 149\, 1100 Wien\,\nMittwochs\, 16 – 18 Uhr \nDer Salon Servus ist ein Treffpunkt in Ihrer Nähe. Hier können Sie reden\, frühstücken oder jausnen\, spielen\, basteln und zusammen kochen. Für Menschen ab 60 Jahren\, aber alle sind willkommen. Denn gemeinsam ist es schöner! \nUnsere GB*Stadtteilbüros werden alle 14 Tage zu einem gemütlichen Treffpunkt in Ihrer Nähe! Ob beim Plaudern\, beim Brett- und Kartenspielen\, beim Frühstücken oder gemeinsamen Kochen\, Handwerken oder Basteln –im „Salon Servus“ dreht sich alles um das Miteinander! \nDas Angebot ist kostenlos und unverbindlich – alle Interessierten sind willkommen! \nTermine und Standortadressen unter:\ngbstern.at/salon-servus \nKalender: www.gbstern.at/termine/monat/202602/ \nFoto: Salon Servus\, (c) Daniel Dutkowski
URL:https://kalender.seniorinnen.wien/event/salon-servus-alle-14-tage-in-ganz-wien-gemeinsam-spielen-basteln-kochen-plaudern-2/2026-03-11/
LOCATION:Wien
CATEGORIES:Begegnung,Grätzel,Unterhaltung
ATTACH;FMTTYPE=image/jpeg:https://kalender.seniorinnen.wien/wp-content/uploads/2026/02/csm_2504_Salon_Servus_c_Daniel_Dutkowski_15_73921e458d.jpg
ORGANIZER;CN="Gebietsbetreuung Stadterneuerung":MAILTO:info@gbstern.at
END:VEVENT
BEGIN:VEVENT
DTSTART;TZID=Europe/Berlin:20260311T190000
DTEND;TZID=Europe/Berlin:20260311T190000
DTSTAMP:20260421T134829
CREATED:20260113T073320Z
LAST-MODIFIED:20260113T073320Z
UID:11453-1773255600-1773255600@kalender.seniorinnen.wien
SUMMARY:Konzert: Wiener Ohrwurm Oldies
DESCRIPTION:Wiener Ohrwurm Oldies\nWir bremsen nicht! Wir singen!\nSchutzhaus Meidling\nMittwoch\, 11. März\,  19 Uhr \nEintritt: freie Spende\nInfos: 01 813 51 08 \nFoto: www.wienerohrwurmoldies.at
URL:https://kalender.seniorinnen.wien/event/konzert-wiener-ohrwurm-oldies/
LOCATION:Schutzhaus Meidling\, Schutzhausweg 136\, Wien\, Wien\, 1120\, Austria
CATEGORIES:Begegnung,Unterhaltung
ATTACH;FMTTYPE=image/jpeg:https://kalender.seniorinnen.wien/wp-content/uploads/2026/01/WOOs-11032026jpg.jpg
END:VEVENT
BEGIN:VEVENT
DTSTART;TZID=Europe/Berlin:20260311T193000
DTEND;TZID=Europe/Berlin:20260311T210000
DTSTAMP:20260421T134829
CREATED:20260223T105530Z
LAST-MODIFIED:20260309T125112Z
UID:12223-1773257400-1773262800@kalender.seniorinnen.wien
SUMMARY:Wiener Klangkulisse
DESCRIPTION:Vom Klang der Walzer bis zu Beschwerden über musikalische Lärmbelästigung – Der Sprecher und Autor Stefan Franke entführt das Publikum mit Charme und Biss ins Wien von einst\, wo die weltberühmte Musikstadt nicht nur harmonische Töne\, sondern auch den einen oder anderen nervigen Missklang zu bieten hatte. \nStefan Franke „Wiener Klangkulisse“\n11.03.2026\, 19–20:30 Uhr \nCafé Korb\nBrandstätte 7\, 1010 Wien (leider nicht barrierefrei) \nNervtötende Drehorgeln\, Lärmbelästigung durch fortwährendes Klavierspiel und schrille Signalpfeifchen der Tramway – Wien bot zur Kaiserzeit ein anderes Klangerlebnis als es das heute tut. Mit einer Auswahl an kuriosen historischen Zeitungstexten\, die sich rund um Geräusche und Klänge der Stadt drehen\, bittet Stefan Franke zur Zeitreise in die Vergangenheit\, ins Wien unserer Vorfahren. \nMit dabei ist die Pianistin Katharina Litschauer\, die den Abend musikalisch untermalt und diesmal besonders bemüht ist\, dem Klavier keine Misstöne\, sondern nur Melodien zu entlocken. \nEinlass: ab 18:15 Uhr\nEintritt: Spende (Richtwert ca. 15\,– €)\nAnmeldung: info@stefanfranke.at\nVeranstalter: Stefan Franke (+43 680 3016765\, https://www.stefanfranke.at/) \nFoto: Stefan Franke
URL:https://kalender.seniorinnen.wien/event/wiener-klangkulisse/
LOCATION:Café Korb\, Brandstädte 7\, Wien\, Wien\, 1010\, Austria
CATEGORIES:Kunst und Kultur,Unterhaltung
ATTACH;FMTTYPE=image/jpeg:https://kalender.seniorinnen.wien/wp-content/uploads/2026/01/portrait__stefan-franke-201904-scaled.jpg
ORGANIZER;CN="Stefan Franke":MAILTO:info@stefanfranke.at
END:VEVENT
END:VCALENDAR