BEGIN:VCALENDAR
VERSION:2.0
PRODID:-//Wien für Senior:innen - ECPv6.15.17.1//NONSGML v1.0//EN
CALSCALE:GREGORIAN
METHOD:PUBLISH
X-WR-CALNAME:Wien für Senior:innen
X-ORIGINAL-URL:https://kalender.seniorinnen.wien
X-WR-CALDESC:Veranstaltungen für Wien für Senior:innen
REFRESH-INTERVAL;VALUE=DURATION:PT1H
X-Robots-Tag:noindex
X-PUBLISHED-TTL:PT1H
BEGIN:VTIMEZONE
TZID:Europe/Berlin
BEGIN:DAYLIGHT
TZOFFSETFROM:+0100
TZOFFSETTO:+0200
TZNAME:CEST
DTSTART:20250330T010000
END:DAYLIGHT
BEGIN:STANDARD
TZOFFSETFROM:+0200
TZOFFSETTO:+0100
TZNAME:CET
DTSTART:20251026T010000
END:STANDARD
BEGIN:DAYLIGHT
TZOFFSETFROM:+0100
TZOFFSETTO:+0200
TZNAME:CEST
DTSTART:20260329T010000
END:DAYLIGHT
BEGIN:STANDARD
TZOFFSETFROM:+0200
TZOFFSETTO:+0100
TZNAME:CET
DTSTART:20261025T010000
END:STANDARD
BEGIN:DAYLIGHT
TZOFFSETFROM:+0100
TZOFFSETTO:+0200
TZNAME:CEST
DTSTART:20270328T010000
END:DAYLIGHT
BEGIN:STANDARD
TZOFFSETFROM:+0200
TZOFFSETTO:+0100
TZNAME:CET
DTSTART:20271031T010000
END:STANDARD
END:VTIMEZONE
BEGIN:VEVENT
DTSTART;TZID=Europe/Berlin:20260227T110000
DTEND;TZID=Europe/Berlin:20260227T123000
DTSTAMP:20260421T134503
CREATED:20260115T082136Z
LAST-MODIFIED:20260115T082136Z
UID:11530-1772190000-1772195400@kalender.seniorinnen.wien
SUMMARY:Englisch für Senior:innen
DESCRIPTION:Englisch A1 Teil 2 für Senior:innen\nVHS Simmering\, Gottschalkgasse 10 \, 1110 Wien\n\n16.01.2026 – 27.02.2026\, 11 bis 12:30 Uhr\n10\,5 Unterrichtseinheiten\nKursleitung: Herta Smitha BA\nTeilnehmer:innen: 8 – 15\nKosten: € 96\,00 \n\n\nKontakt:\nTel.: +43 1 891 74 111 001\nE-Mail: simmering@vhs.at \nAlle aktuellen Kurse kann man auch online finden und buchen: www.vhs.at/simmering/kursangebot \n\n\nFoto: Pixabay
URL:https://kalender.seniorinnen.wien/event/englisch-fuer-seniorinnen/2026-02-27/
LOCATION:VHS Simmering\, Gottschalkgasse 10\, Wien\, 1110\, Österreich
CATEGORIES:Begegnung,Bildung
ATTACH;FMTTYPE=image/jpeg:https://kalender.seniorinnen.wien/wp-content/uploads/2025/08/20250813-Buch-Block-Stift-pixabay-e1757430096225.jpg
ORGANIZER;CN="VHS Simmering":MAILTO:simmering@vhs.at
END:VEVENT
BEGIN:VEVENT
DTSTART;TZID=Europe/Berlin:20260227T140000
DTEND;TZID=Europe/Berlin:20260227T160000
DTSTAMP:20260421T134503
CREATED:20260204T101633Z
LAST-MODIFIED:20260204T101700Z
UID:11739-1772200800-1772208000@kalender.seniorinnen.wien
SUMMARY:Gut beraten in Währing!
DESCRIPTION:Fonds Soziales Wien: Beratung für pflegende An- und Zugehörige\nVolkshilfe: Sozialberatung\nKostenlose Sozialberatung sowie Infos zu Sicherheit\, Pflege und zu Angeboten für Senior*innen. Jeden letzten Freitag im Monat! \nWo? Büro der Bezirksvorstehung Währing\nMartinstraße 100\, 1. Stock (barrierefrei zugänglich!) \nFoto: Stadt Wien
URL:https://kalender.seniorinnen.wien/event/gut-beraten-in-waehring/2026-02-27/
LOCATION:Amtshaus Währing\, Martinstraße 100/1. Stock\, Wien\, 1180
CATEGORIES:Barrierefrei,Information
ATTACH;FMTTYPE=image/jpeg:https://kalender.seniorinnen.wien/wp-content/uploads/2026/02/amtshaus-waehring.c8d2849df7.1768116857.jpg
END:VEVENT
BEGIN:VEVENT
DTSTART;TZID=Europe/Berlin:20260227T150000
DTEND;TZID=Europe/Berlin:20260227T160000
DTSTAMP:20260421T134503
CREATED:20260120T115633Z
LAST-MODIFIED:20260120T115857Z
UID:11561-1772204400-1772208000@kalender.seniorinnen.wien
SUMMARY:Tatort Museum: Auf Spurensuche von Schuld & Sühne
DESCRIPTION:Die Rundgänge für Menschen mit Demenz bzw. Vergesslichkeit finden auch 2026 jeden 4. Freitag im Monat um 15 Uhr statt. \nTreffpunkt im Eingangsbereich des Kunsthistorischen Museums\nDauer: ca. 60 Minuten\nEintritt und Teilnahme: kostenfrei \nAnmeldung erwünscht:\nTe.: +43 1 525 24-5210\nE-Mail: julia.haeussler@khm.at \n  \nFoto: Pixabay
URL:https://kalender.seniorinnen.wien/event/tatort-museum-auf-spurensuche-von-schuld-suehne/
LOCATION:Kunsthistorisches Museum\, Burgring 5\, Wien\, 1010
CATEGORIES:Barrierefrei,Demenz,Kunst und Kultur
ATTACH;FMTTYPE=image/jpeg:https://kalender.seniorinnen.wien/wp-content/uploads/2026/01/Kunsthistorisches-Museum_1280.jpg
END:VEVENT
BEGIN:VEVENT
DTSTART;TZID=Europe/Berlin:20260227T160000
DTEND;TZID=Europe/Berlin:20260227T173000
DTSTAMP:20260421T134503
CREATED:20260220T144549Z
LAST-MODIFIED:20260220T144549Z
UID:12200-1772208000-1772213400@kalender.seniorinnen.wien
SUMMARY:Modetorheiten – fesch samma!
DESCRIPTION:Der Wiener Autor und Sprecher Stefan Franke lädt wieder zu einer Zeitreise in die Vergangenheit Wiens ein. Diesmal gibt es allerlei kuriose historische Zeitungsartikel rund um Fashion-Fauxpas und Modesünden unserer Vorfahren zu hören. \nStefan Franke „Modetorheiten – fesch samma!“\n27.02.2026\, 16–17:30 Uhr \nCafé Korb\nBrandstätte 7\, 1010 Wien (leider nicht barrierefrei) \nMit Charme\, Sprachwitz und historischem Gespür lässt Stefan Franke eine längst vergangene Epoche lebendig werden\, in der gesellschaftliche Konventionen ebenso streng waren wie die Regeln des guten Geschmacks. Diesmal drehen sich alle Texte um die Fashion-Fauxpas\, Modesünden und modischen Skandale der Kaiserzeit. \nBegleitet wird die Lesung von der Pianistin Katharina Litschauer\, die den Abend musikalisch umrahmt und das Flair des historischen Wien stimmungsvoll einfängt. \nEinlass: ab 15:15 Uhr\nEintritt: Spende (Richtwert ca. 15\,– €)\nAnmeldung: info@stefanfranke.at\nVeranstalter: Stefan Franke (+43 680 3016765\, https://www.stefanfranke.at/) \nFoto: Stefan Franke
URL:https://kalender.seniorinnen.wien/event/modetorheiten-fesch-samma/
LOCATION:Café Korb\, Brandstädte 7\, Wien\, Wien\, 1010\, Austria
CATEGORIES:Kunst und Kultur,Unterhaltung
ATTACH;FMTTYPE=image/jpeg:https://kalender.seniorinnen.wien/wp-content/uploads/2026/01/portrait__stefan-franke-201904-scaled.jpg
ORGANIZER;CN="Stefan Franke":MAILTO:info@stefanfranke.at
END:VEVENT
END:VCALENDAR