BEGIN:VCALENDAR
VERSION:2.0
PRODID:-//Wien für Senior:innen - ECPv6.15.17.1//NONSGML v1.0//EN
CALSCALE:GREGORIAN
METHOD:PUBLISH
X-ORIGINAL-URL:https://kalender.seniorinnen.wien
X-WR-CALDESC:Veranstaltungen für Wien für Senior:innen
REFRESH-INTERVAL;VALUE=DURATION:PT1H
X-Robots-Tag:noindex
X-PUBLISHED-TTL:PT1H
BEGIN:VTIMEZONE
TZID:Europe/Berlin
BEGIN:DAYLIGHT
TZOFFSETFROM:+0100
TZOFFSETTO:+0200
TZNAME:CEST
DTSTART:20250330T010000
END:DAYLIGHT
BEGIN:STANDARD
TZOFFSETFROM:+0200
TZOFFSETTO:+0100
TZNAME:CET
DTSTART:20251026T010000
END:STANDARD
BEGIN:DAYLIGHT
TZOFFSETFROM:+0100
TZOFFSETTO:+0200
TZNAME:CEST
DTSTART:20260329T010000
END:DAYLIGHT
BEGIN:STANDARD
TZOFFSETFROM:+0200
TZOFFSETTO:+0100
TZNAME:CET
DTSTART:20261025T010000
END:STANDARD
BEGIN:DAYLIGHT
TZOFFSETFROM:+0100
TZOFFSETTO:+0200
TZNAME:CEST
DTSTART:20270328T010000
END:DAYLIGHT
BEGIN:STANDARD
TZOFFSETFROM:+0200
TZOFFSETTO:+0100
TZNAME:CET
DTSTART:20271031T010000
END:STANDARD
END:VTIMEZONE
BEGIN:VEVENT
DTSTART;TZID=Europe/Berlin:20260225T093000
DTEND;TZID=Europe/Berlin:20260225T113000
DTSTAMP:20260421T134653
CREATED:20260109T095749Z
LAST-MODIFIED:20260109T095749Z
UID:11445-1772011800-1772019000@kalender.seniorinnen.wien
SUMMARY:Kontaktbesuchsdienst: Infotisch Sozialmarkt Caritas
DESCRIPTION:Infotisch Sozialmarkt Caritas\n9:30 bis 11:30 Uhr\n \nPfarre Erlöserkirche\nEndresstraße 57A\n123o Wien \n  \nFoto: Wiener Sozialdienste
URL:https://kalender.seniorinnen.wien/event/kontaktbesuchsdienst-infotisch-sozialmarkt-caritas-4/2026-02-25/
LOCATION:Pfarre Erlöserkirche\, Endresstraße 57A\, Wien\, Wien\, 1230
CATEGORIES:Information
ATTACH;FMTTYPE=image/jpeg:https://kalender.seniorinnen.wien/wp-content/uploads/2019/08/WISO_Kontaktbesuchsdienst.jpg
END:VEVENT
BEGIN:VEVENT
DTSTART;TZID=Europe/Berlin:20260225T093000
DTEND;TZID=Europe/Berlin:20260225T113000
DTSTAMP:20260421T134653
CREATED:20260209T132127Z
LAST-MODIFIED:20260209T132127Z
UID:12121-1772011800-1772019000@kalender.seniorinnen.wien
SUMMARY:Salon Servus - GB*Stadtteilbüro\, 16.\, Haberlgasse 76
DESCRIPTION:Alle 14 Tage in ganz Wien gemeinsam spielen\, basteln\, kochen\, plaudern\nGB*Stadtteilbüro\, Haberlgasse 76\, 1160 Wien\nMittwochs\, 9.30 – 11.30 Uhr\n \nDer Salon Servus ist ein Treffpunkt in Ihrer Nähe. Hier können Sie reden\, frühstücken oder jausnen\, spielen\, basteln und zusammen kochen. Für Menschen ab 60 Jahren\, aber alle sind willkommen. Denn gemeinsam ist es schöner! \nUnsere GB*Stadtteilbüros werden alle 14 Tage zu einem gemütlichen Treffpunkt in Ihrer Nähe! Ob beim Plaudern\, beim Brett- und Kartenspielen\, beim Frühstücken oder gemeinsamen Kochen\, Handwerken oder Basteln –im „Salon Servus“ dreht sich alles um das Miteinander! \nDas Angebot ist kostenlos und unverbindlich – alle Interessierten sind willkommen! \nTermine und Standortadressen unter:\ngbstern.at/salon-servus \nKalender: www.gbstern.at/termine/monat/202602/ \nFoto: Salon Servus\, (c) Daniel Dutkowski
URL:https://kalender.seniorinnen.wien/event/salon-servus-gbstadtteilbuero-16-haberlgasse-76/2026-02-25/
LOCATION:Wien
CATEGORIES:Begegnung,Grätzel,Unterhaltung
ATTACH;FMTTYPE=image/jpeg:https://kalender.seniorinnen.wien/wp-content/uploads/2026/02/csm_2504_Salon_Servus_c_Daniel_Dutkowski_15_73921e458d.jpg
ORGANIZER;CN="Gebietsbetreuung Stadterneuerung":MAILTO:info@gbstern.at
END:VEVENT
BEGIN:VEVENT
DTSTART;TZID=Europe/Berlin:20260225T130000
DTEND;TZID=Europe/Berlin:20260225T173000
DTSTAMP:20260421T134653
CREATED:20250905T092913Z
LAST-MODIFIED:20250905T092913Z
UID:9912-1772024400-1772040600@kalender.seniorinnen.wien
SUMMARY:Klick & Kreation – deine digitale Medienwerkstatt
DESCRIPTION:Verwandle dein Smartphone in ein kreatives Werkzeug!\nLerne in diesem kostenlosen Workshop\, Smartphone-Fotos zu verbessern und diese am Computer oder am Smartphone zu bearbeiten. Von den Kamera-Funktionen bis zum fertigen Produkt! In nur 4 Wochen (4x ein halber Tag) arbeiten wir mit Präsenz- und Online-Einheiten an deinem individuellen Projekt! \n\n18 Unterrichtseinheiten à 50 Minuten geblockt auf 4 Termine\nBlended Learning: der dritte Termin findet Online statt!\nmaximal 12 Teilnehmer:innen\nIndividuell: Sie arbeiten an Ihrem eigenen Projekt\nBonus: Optional können Sie ein 30- minütiges 1:1 Online Coaching für Ihre individuellen Fragen in Anspruch nehmen!\n\nAnmeldung unter: https://makethedifference.at/digital-workshops/ \nFoto: Make the Difference
URL:https://kalender.seniorinnen.wien/event/klick-kreation-deine-digitale-medienwerkstatt-3/2026-02-25/
LOCATION:Bücherei Neues Landgut\, Laxenburgerstraße 4/1A\, Wien\, Wien\, 1100\, Austria
CATEGORIES:Digital und Online
ATTACH;FMTTYPE=image/png:https://kalender.seniorinnen.wien/wp-content/uploads/2025/09/Karte_Foto-e1757063689200.png
ORGANIZER;CN="Make the Difference":MAILTO:theres@makethedifference.at
END:VEVENT
BEGIN:VEVENT
DTSTART;TZID=Europe/Berlin:20260225T160000
DTEND;TZID=Europe/Berlin:20260225T180000
DTSTAMP:20260421T134653
CREATED:20260209T110803Z
LAST-MODIFIED:20260209T113907Z
UID:11994-1772035200-1772042400@kalender.seniorinnen.wien
SUMMARY:Salon Servus - GB*Stadtteilbüro\, 10.\, Quellenstraße 149
DESCRIPTION:Alle 14 Tage in ganz Wien gemeinsam spielen\, basteln\, kochen\, plaudern\nGB*Stadtteilbüro\, Quellenstraße 149\, 1100 Wien\,\nMittwochs\, 16 – 18 Uhr \nDer Salon Servus ist ein Treffpunkt in Ihrer Nähe. Hier können Sie reden\, frühstücken oder jausnen\, spielen\, basteln und zusammen kochen. Für Menschen ab 60 Jahren\, aber alle sind willkommen. Denn gemeinsam ist es schöner! \nUnsere GB*Stadtteilbüros werden alle 14 Tage zu einem gemütlichen Treffpunkt in Ihrer Nähe! Ob beim Plaudern\, beim Brett- und Kartenspielen\, beim Frühstücken oder gemeinsamen Kochen\, Handwerken oder Basteln –im „Salon Servus“ dreht sich alles um das Miteinander! \nDas Angebot ist kostenlos und unverbindlich – alle Interessierten sind willkommen! \nTermine und Standortadressen unter:\ngbstern.at/salon-servus \nKalender: www.gbstern.at/termine/monat/202602/ \nFoto: Salon Servus\, (c) Daniel Dutkowski
URL:https://kalender.seniorinnen.wien/event/salon-servus-alle-14-tage-in-ganz-wien-gemeinsam-spielen-basteln-kochen-plaudern-2/2026-02-25/
LOCATION:Wien
CATEGORIES:Begegnung,Grätzel,Unterhaltung
ATTACH;FMTTYPE=image/jpeg:https://kalender.seniorinnen.wien/wp-content/uploads/2026/02/csm_2504_Salon_Servus_c_Daniel_Dutkowski_15_73921e458d.jpg
ORGANIZER;CN="Gebietsbetreuung Stadterneuerung":MAILTO:info@gbstern.at
END:VEVENT
END:VCALENDAR