BEGIN:VCALENDAR
VERSION:2.0
PRODID:-//Wien für Senior:innen - ECPv6.15.17.1//NONSGML v1.0//EN
CALSCALE:GREGORIAN
METHOD:PUBLISH
X-WR-CALNAME:Wien für Senior:innen
X-ORIGINAL-URL:https://kalender.seniorinnen.wien
X-WR-CALDESC:Veranstaltungen für Wien für Senior:innen
REFRESH-INTERVAL;VALUE=DURATION:PT1H
X-Robots-Tag:noindex
X-PUBLISHED-TTL:PT1H
BEGIN:VTIMEZONE
TZID:Europe/Berlin
BEGIN:DAYLIGHT
TZOFFSETFROM:+0100
TZOFFSETTO:+0200
TZNAME:CEST
DTSTART:20250330T010000
END:DAYLIGHT
BEGIN:STANDARD
TZOFFSETFROM:+0200
TZOFFSETTO:+0100
TZNAME:CET
DTSTART:20251026T010000
END:STANDARD
BEGIN:DAYLIGHT
TZOFFSETFROM:+0100
TZOFFSETTO:+0200
TZNAME:CEST
DTSTART:20260329T010000
END:DAYLIGHT
BEGIN:STANDARD
TZOFFSETFROM:+0200
TZOFFSETTO:+0100
TZNAME:CET
DTSTART:20261025T010000
END:STANDARD
BEGIN:DAYLIGHT
TZOFFSETFROM:+0100
TZOFFSETTO:+0200
TZNAME:CEST
DTSTART:20270328T010000
END:DAYLIGHT
BEGIN:STANDARD
TZOFFSETFROM:+0200
TZOFFSETTO:+0100
TZNAME:CET
DTSTART:20271031T010000
END:STANDARD
END:VTIMEZONE
BEGIN:VEVENT
DTSTART;TZID=Europe/Berlin:20260224T100000
DTEND;TZID=Europe/Berlin:20260224T113000
DTSTAMP:20260423T134155
CREATED:20260115T090918Z
LAST-MODIFIED:20260115T090918Z
UID:11533-1771927200-1771932600@kalender.seniorinnen.wien
SUMMARY:Kreatives Gestalten für Senior:innen
DESCRIPTION:Kreatives Gestalten für Senior:innen\nVHS Simmering\, Gottschalkgasse 10 \, 1110 Wien\n\n17.02.2026 – 03.03.2026\, 10 bis 11:30 Uhr\n4\,5 Unterrichtseinheiten\nKursleitung: Kerstin Wiesinger MA\nTeilnehmer:innen: 8 – 15\nKosten: € 49\,00 \n\n\nKontakt:\nTel.: +43 1 891 74 111 001\nE-Mail: simmering@vhs.at \nAlle aktuellen Kurse kann man auch online finden und buchen: www.vhs.at/simmering/kursangebot \n\n\nFoto: Pixabay
URL:https://kalender.seniorinnen.wien/event/kreatives-gestalten-fuer-seniorinnen/2026-02-24/
LOCATION:VHS Simmering\, Gottschalkgasse 10\, Wien\, 1110\, Österreich
CATEGORIES:Begegnung,Demenz,Unterhaltung
ATTACH;FMTTYPE=image/jpeg:https://kalender.seniorinnen.wien/wp-content/uploads/2024/11/Kreativ_painting-911804_1280_Pixabay.jpg
ORGANIZER;CN="VHS Simmering":MAILTO:simmering@vhs.at
END:VEVENT
BEGIN:VEVENT
DTSTART;TZID=Europe/Berlin:20260224T100000
DTEND;TZID=Europe/Berlin:20260224T120000
DTSTAMP:20260423T134155
CREATED:20260109T085223Z
LAST-MODIFIED:20260109T085223Z
UID:11414-1771927200-1771934400@kalender.seniorinnen.wien
SUMMARY:Kontaktbesuchsdienst: Infotisch im Pensionistenklub Gumpendorfer Straße
DESCRIPTION:Pensionistenklub Gumpendorfer Straße\nGumpendorfer Straße 117\n1060\, Wien \nWir errichten unsere Infotische an gut erreichbaren Orten\, damit Sie uns ohne Voranmeldung persönlich sprechen können. Kurze Fragen beantworten wir direkt vor Ort. Wenn Sie ein ausführlicheres Gespräch wünschen\, rufen Sie uns bitte an oder vereinbaren Sie einen Sprechstundentermin mit uns. \nFoto: Wiener Sozialdienste
URL:https://kalender.seniorinnen.wien/event/kontaktbesuchsdienst-infotisch-im-pensionistenklub-gumpendorfer-strasse/2026-02-24/
LOCATION:Pensionistenklub Gumpendorferstraße\, Gumpendorfer Straße 117\, Wien\, Wien\, 1060\, Austria
CATEGORIES:Information
ATTACH;FMTTYPE=image/jpeg:https://kalender.seniorinnen.wien/wp-content/uploads/2019/08/WISO_Kontaktbesuchsdienst.jpg
END:VEVENT
BEGIN:VEVENT
DTSTART;TZID=Europe/Berlin:20260224T190000
DTEND;TZID=Europe/Berlin:20260224T190000
DTSTAMP:20260423T134155
CREATED:20260204T135946Z
LAST-MODIFIED:20260204T140113Z
UID:11756-1771959600-1771959600@kalender.seniorinnen.wien
SUMMARY:Lesung mit Renate Welsh
DESCRIPTION:Renate Welsh: „Ich fall mir selbst ins Wort“\nOrt: „Haus des Sehens“ – Hörbücherei des BSVÖ\nHietzinger Kai 85\, 1130 Wien (barrierefreier Zugang) \nEintritt frei! \nAnmeldung für einen Sitzplatz vor Ort:\nE-Mail:  reservierung@hoerbuecherei.at\nTel.: 01 98 27 584-230\nFax: 01 98 27 584-235
URL:https://kalender.seniorinnen.wien/event/lesung-mit-renate-welsh/
LOCATION:Hörbücherei des BSVÖ\, Hietzinger Kai 85\, Wien\, 1130
CATEGORIES:Barrierefrei,Kunst und Kultur,Unterhaltung
ATTACH;FMTTYPE=image/png:https://kalender.seniorinnen.wien/wp-content/uploads/2025/01/Unbenannt-e1738076723498.png
END:VEVENT
END:VCALENDAR