BEGIN:VCALENDAR
VERSION:2.0
PRODID:-//Wien für Senior:innen - ECPv6.15.17.1//NONSGML v1.0//EN
CALSCALE:GREGORIAN
METHOD:PUBLISH
X-ORIGINAL-URL:https://kalender.seniorinnen.wien
X-WR-CALDESC:Veranstaltungen für Wien für Senior:innen
REFRESH-INTERVAL;VALUE=DURATION:PT1H
X-Robots-Tag:noindex
X-PUBLISHED-TTL:PT1H
BEGIN:VTIMEZONE
TZID:Europe/Berlin
BEGIN:DAYLIGHT
TZOFFSETFROM:+0100
TZOFFSETTO:+0200
TZNAME:CEST
DTSTART:20250330T010000
END:DAYLIGHT
BEGIN:STANDARD
TZOFFSETFROM:+0200
TZOFFSETTO:+0100
TZNAME:CET
DTSTART:20251026T010000
END:STANDARD
BEGIN:DAYLIGHT
TZOFFSETFROM:+0100
TZOFFSETTO:+0200
TZNAME:CEST
DTSTART:20260329T010000
END:DAYLIGHT
BEGIN:STANDARD
TZOFFSETFROM:+0200
TZOFFSETTO:+0100
TZNAME:CET
DTSTART:20261025T010000
END:STANDARD
BEGIN:DAYLIGHT
TZOFFSETFROM:+0100
TZOFFSETTO:+0200
TZNAME:CEST
DTSTART:20270328T010000
END:DAYLIGHT
BEGIN:STANDARD
TZOFFSETFROM:+0200
TZOFFSETTO:+0100
TZNAME:CET
DTSTART:20271031T010000
END:STANDARD
END:VTIMEZONE
BEGIN:VEVENT
DTSTART;TZID=Europe/Berlin:20260223T103000
DTEND;TZID=Europe/Berlin:20260223T120000
DTSTAMP:20260421T134656
CREATED:20260114T141250Z
LAST-MODIFIED:20260114T141614Z
UID:11503-1771842600-1771848000@kalender.seniorinnen.wien
SUMMARY:Muskelaufbau für Senior:innen
DESCRIPTION:Muskelaufbau für Senior:innen\nVHS Simmering\, Gottschalkgasse 10 \, 1110 Wien\n\n9.02.2026 – 23.03.2026\, 10:30 bis 12 Uhr\n10\,5 Unterrichtseinheiten\nKursleitung: Alexandra Gross\nTeilnehmer:innen: 8 – 12\nKosten: € 87\,00 \n\n\nKontakt:\nTel.: +43 1 891 74 111 001\nE-Mail: simmering@vhs.at \nAlle aktuellen Kurse kann man auch online finden und buchen: www.vhs.at/simmering/kursangebot \n\n\nFoto: Pixabay
URL:https://kalender.seniorinnen.wien/event/muskelaufbau-fuer-seniorinnen-5/2026-02-23/
LOCATION:VHS Simmering\, Gottschalkgasse 10\, Wien\, 1110\, Österreich
CATEGORIES:Begegnung,Fit und Gesund
ATTACH;FMTTYPE=image/jpeg:https://kalender.seniorinnen.wien/wp-content/uploads/2024/11/Training_dumbbells-1621272_1280_Pixabay.jpg
ORGANIZER;CN="VHS Simmering":MAILTO:simmering@vhs.at
END:VEVENT
BEGIN:VEVENT
DTSTART;TZID=Europe/Berlin:20260223T140000
DTEND;TZID=Europe/Berlin:20260223T183000
DTSTAMP:20260421T134656
CREATED:20250905T092643Z
LAST-MODIFIED:20250905T092643Z
UID:9906-1771855200-1771871400@kalender.seniorinnen.wien
SUMMARY:Klick & Kreation – deine digitale Medienwerkstatt
DESCRIPTION:Verwandle dein Smartphone in ein kreatives Werkzeug!\nLerne in diesem kostenlosen Workshop\, Smartphone-Fotos zu verbessern und diese am Computer oder am Smartphone zu bearbeiten. Von den Kamera-Funktionen bis zum fertigen Produkt! In nur 4 Wochen (4x ein halber Tag) arbeiten wir mit Präsenz- und Online-Einheiten an deinem individuellen Projekt! \n\n18 Unterrichtseinheiten à 50 Minuten geblockt auf 4 Termine\nBlended Learning: der dritte Termin findet Online statt!\nmaximal 12 Teilnehmer:innen\nIndividuell: Sie arbeiten an Ihrem eigenen Projekt\nBonus: Optional können Sie ein 30- minütiges 1:1 Online Coaching für Ihre individuellen Fragen in Anspruch nehmen!\n\nAnmeldung unter: https://makethedifference.at/digital-workshops/ \nFoto: Make the Difference
URL:https://kalender.seniorinnen.wien/event/klick-kreation-deine-digitale-medienwerkstatt-2/2026-02-23/
LOCATION:Hauptbücherei am Gürtel\, Urban Loritz Platz 2a\, Wien\, Wien\, 1070\, Austria
CATEGORIES:Digital und Online
ATTACH;FMTTYPE=image/png:https://kalender.seniorinnen.wien/wp-content/uploads/2025/09/Karte_Foto-e1757063689200.png
ORGANIZER;CN="Make the Difference":MAILTO:theres@makethedifference.at
END:VEVENT
BEGIN:VEVENT
DTSTART;TZID=Europe/Berlin:20260223T150000
DTEND;TZID=Europe/Berlin:20260223T160000
DTSTAMP:20260421T134656
CREATED:20260114T132800Z
LAST-MODIFIED:20260114T134809Z
UID:11467-1771858800-1771862400@kalender.seniorinnen.wien
SUMMARY:Yoga für Senior:innen
DESCRIPTION:Yoga für Senior:innen\, Anfänger:innen und Fortgeschrittene\,\nVHS Simmering\, Gottschalkgasse 10 \, 1110 Wien\n\n09.02.2026 – 23.03.2026\, 15 bis 16 Uhr\n7 Unterrichtseinheiten\nKursleitung: Linda Samaraweerova\nTeilnehmer:innen: 8 – 12\nKosten: € 58\,00 \n\n\nKontakt:\nTel.: +43 1 891 74 111 001\nE-Mail: simmering@vhs.at \nAlle aktuellen Kurse kann man auch online finden und buchen: www.vhs.at/simmering/kursangebot \n\n\nFoto: Pixabay
URL:https://kalender.seniorinnen.wien/event/yoga-fuer-seniorinnen-5/2026-02-23/
LOCATION:VHS Simmering\, Gottschalkgasse 10\, Wien\, 1110\, Österreich
CATEGORIES:Begegnung,Fit und Gesund
ATTACH;FMTTYPE=image/jpeg:https://kalender.seniorinnen.wien/wp-content/uploads/2024/08/yoga-4650150_1280-e1757937933698.jpg
ORGANIZER;CN="VHS Simmering":MAILTO:simmering@vhs.at
END:VEVENT
BEGIN:VEVENT
DTSTART;TZID=Europe/Berlin:20260223T170000
DTEND;TZID=Europe/Berlin:20260223T183000
DTSTAMP:20260421T134656
CREATED:20260204T141225Z
LAST-MODIFIED:20260204T141225Z
UID:11761-1771866000-1771871400@kalender.seniorinnen.wien
SUMMARY:3. Online-Talk „Alzheimer-Demenz“
DESCRIPTION:Alzheimer-Demenz: Fortschritte bei Prävention\, Früherkennung und Therapie\nExpertin: Dr.in Sara Silvaieh\, AKH Wien\nModeration: Raphael Schönborn\, Demenz-Experte \nHoffnung statt Angst.\nBei dieser kostenlosen Online-Informationsveranstaltung informieren wir verständlich über die aktuellen Entwicklungen bei Prävention\, Früherkennung und Therapie der Alzheimer-Demenz.\nZugleich greifen wir die häufigsten Fragen von Betroffenen\, Angehörigen und Fachpersonen auf. \n\n\nStellen Sie Ihre Fragen live oder schicken Sie sie uns vorab:  \nE-Mail: kontakt@kompetenzdemenz.at\nTel.: +43 676 792 0903 \n\n\nAnmeldung: https://kompetenzdemenz.at/online-talk-alzheimer-praevention-frueherkennung-therapie/ \nFoto: Pixabay
URL:https://kalender.seniorinnen.wien/event/3-online-talk-alzheimer-demenz/
LOCATION:Online
CATEGORIES:Demenz,Digital und Online
ATTACH;FMTTYPE=image/jpeg:https://kalender.seniorinnen.wien/wp-content/uploads/2025/08/Schriftzug-Demenz-©Pixabay-e1754396077386.jpg
END:VEVENT
END:VCALENDAR