BEGIN:VCALENDAR
VERSION:2.0
PRODID:-//Wien für Senior:innen - ECPv6.15.17.1//NONSGML v1.0//EN
CALSCALE:GREGORIAN
METHOD:PUBLISH
X-ORIGINAL-URL:https://kalender.seniorinnen.wien
X-WR-CALDESC:Veranstaltungen für Wien für Senior:innen
REFRESH-INTERVAL;VALUE=DURATION:PT1H
X-Robots-Tag:noindex
X-PUBLISHED-TTL:PT1H
BEGIN:VTIMEZONE
TZID:Europe/Berlin
BEGIN:DAYLIGHT
TZOFFSETFROM:+0100
TZOFFSETTO:+0200
TZNAME:CEST
DTSTART:20250330T010000
END:DAYLIGHT
BEGIN:STANDARD
TZOFFSETFROM:+0200
TZOFFSETTO:+0100
TZNAME:CET
DTSTART:20251026T010000
END:STANDARD
BEGIN:DAYLIGHT
TZOFFSETFROM:+0100
TZOFFSETTO:+0200
TZNAME:CEST
DTSTART:20260329T010000
END:DAYLIGHT
BEGIN:STANDARD
TZOFFSETFROM:+0200
TZOFFSETTO:+0100
TZNAME:CET
DTSTART:20261025T010000
END:STANDARD
BEGIN:DAYLIGHT
TZOFFSETFROM:+0100
TZOFFSETTO:+0200
TZNAME:CEST
DTSTART:20270328T010000
END:DAYLIGHT
BEGIN:STANDARD
TZOFFSETFROM:+0200
TZOFFSETTO:+0100
TZNAME:CET
DTSTART:20271031T010000
END:STANDARD
END:VTIMEZONE
BEGIN:VEVENT
DTSTART;TZID=Europe/Berlin:20260219T100000
DTEND;TZID=Europe/Berlin:20260219T120000
DTSTAMP:20260421T145225
CREATED:20260109T095325Z
LAST-MODIFIED:20260109T095325Z
UID:11441-1771495200-1771502400@kalender.seniorinnen.wien
SUMMARY:Kontaktbesuchsdienst: Infotisch in der Bücherei Großjedlersdorf
DESCRIPTION:Infotisch in der Bücherei Großjedlersdorf\n10 bis 12 Uhr\n \nBücherei Großjedlersdorf\nBrünner Straße 138\n1210 Wien \n  \nFoto: Wiener Sozialdienste
URL:https://kalender.seniorinnen.wien/event/kontaktbesuchsdienst-infotisch-in-der-buecherei-grossjedlersdorf/2026-02-19/
LOCATION:Bücherei Großjedlersdorf\, Brünner Str. 138\, Wien\, 1210
CATEGORIES:Information
ATTACH;FMTTYPE=image/jpeg:https://kalender.seniorinnen.wien/wp-content/uploads/2019/08/WISO_Kontaktbesuchsdienst.jpg
END:VEVENT
BEGIN:VEVENT
DTSTART;TZID=Europe/Berlin:20260219T113000
DTEND;TZID=Europe/Berlin:20260219T123000
DTSTAMP:20260421T145225
CREATED:20260114T135140Z
LAST-MODIFIED:20260114T140607Z
UID:11485-1771500600-1771504200@kalender.seniorinnen.wien
SUMMARY:Muskelaufbau für Senior:innen
DESCRIPTION:Muskelaufbau für Senior:innen\nVHS Simmering\, Gottschalkgasse 10 \, 1110 Wien\n\n12.02.2026 – 26.03.2026\, 11:30 bis 12:30 Uhr\n7 Unterrichtseinheiten\nKursleitung: Ute Trunk\nTeilnehmer:innen: 8 – 12\nKosten: € 58\,00 \n\n\nKontakt:\nTel.: +43 1 891 74 111 001\nE-Mail: simmering@vhs.at \nAlle aktuellen Kurse kann man auch online finden und buchen: www.vhs.at/simmering/kursangebot \n\n\nFoto: Pixabay
URL:https://kalender.seniorinnen.wien/event/muskelaufbau-fuer-seniorinnen-4/2026-02-19/
LOCATION:VHS Leberberg\, Rosa-Jochmann-Ring 5/2\, Wien\, Wien\, 1110\, Austria
CATEGORIES:Begegnung,Fit und Gesund
ATTACH;FMTTYPE=image/jpeg:https://kalender.seniorinnen.wien/wp-content/uploads/2024/11/Training_dumbbells-1621272_1280_Pixabay.jpg
END:VEVENT
BEGIN:VEVENT
DTSTART;TZID=Europe/Berlin:20260219T120000
DTEND;TZID=Europe/Berlin:20260219T160000
DTSTAMP:20260421T145225
CREATED:20250930T100925Z
LAST-MODIFIED:20250930T100925Z
UID:10589-1771502400-1771516800@kalender.seniorinnen.wien
SUMMARY:Feelgood - Open House
DESCRIPTION:Feelgood ist ein  norwegisches Trainingskonzept für das niemand ist zu alt oder zu schwach ist. Zwölf automatisierte Geräte im Zirkel mobilisieren und kräftigen den gesamten Bewegungsapparat – sanft\, sicher und ohne Leistungsdruck. In nur 40 Minuten werden Muskeln gestärkt\, Gelenke bewegt und das Wohlbefinden gefördert. Jeder steuert individuell den eigenen Krafteinsatz. Ideal für alle\, die fit bleiben oder wieder einsteigen möchten – unabhängig von Alter oder Erfahrung. \nDas Konzept wirkt vorbeugend und therapeutisch\, denn Bewegung ist die beste aktive Medizin! \nÖffnungszeiten für Mitglieder von 8:00-20:00h\, jeden Tag – auch Sonn- und Feiertage.\nNach Abschluss einer Mitgliedschaft kann man das Trainingsangebot ohne Termin und sooft man möchte nutzen. \nJeden Donnerstag zwischen 12:00 und 16:00  Open House – so kann jeder ohne Termin einfach vorbei kommen und schnuppern und wenn es gefällt einen Termin für eine kostenloses Probetraining vereinbaren. \nWeitere Informationen: \nTel.: +43 664 212 6352\nEmail: info@feelgoodwien-waehring.at \n 
URL:https://kalender.seniorinnen.wien/event/feelgood-open-house/2026-02-19/
LOCATION:Feelgood Wien Währing\, Klostergasse 19\, Wien\, 1180
CATEGORIES:Fit und Gesund
ATTACH;FMTTYPE=image/jpeg:https://kalender.seniorinnen.wien/wp-content/uploads/2025/09/202503_feelgood_low_srgb_credit02-e1759226572583.jpg
END:VEVENT
BEGIN:VEVENT
DTSTART;TZID=Europe/Berlin:20260219T180000
DTEND;TZID=Europe/Berlin:20260219T180000
DTSTAMP:20260421T145225
CREATED:20251001T111609Z
LAST-MODIFIED:20251001T111609Z
UID:11021-1771524000-1771524000@kalender.seniorinnen.wien
SUMMARY:BLEIBE FIT FÜRS LEBEN
DESCRIPTION:BLEIBE FIT FÜRS LEBEN\nfitfellows: Les Mills THRIVE – Dein sanftes Krafttraining für Seniorinnen und Senioren \nDonnerstags\, 18:00 Uhr (weitere Termine in Planung!)\nPrinz-Eugen-Straße 34\, 1040 Wien (im New Wave Gym) \nFür wen ist dieser Kurs geeignet?\nDieser Kurs richtet sich an alle Senior:innen\, die ihre Mobilität\, Balance und Kraft im Alltag erhalten und verbessern möchten – ideal für Einsteiger:innen\, Wiedereinsteiger:innen und alle\, die ein gelenkschonendes Training mit Spaß und Gemeinschaft suchen. \nWas erwartet dich?\nIn 45 Minuten kombinieren wir gezielte Übungen aus dem Les Mills THRIVE-Programm\, das speziell für Menschen ab 55 Jahren entwickelt wurde. Das Training ist begleitet von motivierender Musik\, die jede Bewegung unterstützt und den Rhythmus vorgibt – so wird dein Krafttraining zu einem lebendigen Erlebnis. Du stärkst deine Bein- und Rumpfmuskulatur\, verbesserst deine Flexibilität und Balance – alles in deinem eigenen Tempo und mit individueller Unterstützung. \nWarum Les Mills THRIVE bei fitfellows?\n• gelenkschonend und sicher – ideal für alle Fitnesslevels\n• mit optionaler Unterstützung durch Sessel\, Matte\, Widerstandsbänder oder leichte Gewichte\n• wissenschaftlich fundiert und von Expert:innen entwickelt\n• mit motivierender Musik\, die jede Übung unterstützt\n• persönliche Betreuung in kleiner Gruppe \nWenn du persönliche Betreuung mit Herz suchst\, bist du bei fitfellows genau richtig! \nkostenloses Schnuppern für Senior:innen\nAnmeldung oder Fragen: michael@fitfellows.at \nWeitere Kurszeiten sind bei entsprechender Nachfrage möglich! \nFoto: Fitfellows
URL:https://kalender.seniorinnen.wien/event/bleibe-fit-fuers-leben/2026-02-19/
LOCATION:New Wave Gym\, Prinz-Eugen-Straße 34\, Wien\, Wien\, 1040
CATEGORIES:Fit und Gesund
ATTACH;FMTTYPE=image/jpeg:https://kalender.seniorinnen.wien/wp-content/uploads/2025/10/fitfellows-e1759316912688.jpg
END:VEVENT
END:VCALENDAR