BEGIN:VCALENDAR
VERSION:2.0
PRODID:-//Wien für Senior:innen - ECPv6.15.17.1//NONSGML v1.0//EN
CALSCALE:GREGORIAN
METHOD:PUBLISH
X-WR-CALNAME:Wien für Senior:innen
X-ORIGINAL-URL:https://kalender.seniorinnen.wien
X-WR-CALDESC:Veranstaltungen für Wien für Senior:innen
REFRESH-INTERVAL;VALUE=DURATION:PT1H
X-Robots-Tag:noindex
X-PUBLISHED-TTL:PT1H
BEGIN:VTIMEZONE
TZID:Europe/Berlin
BEGIN:DAYLIGHT
TZOFFSETFROM:+0100
TZOFFSETTO:+0200
TZNAME:CEST
DTSTART:20250330T010000
END:DAYLIGHT
BEGIN:STANDARD
TZOFFSETFROM:+0200
TZOFFSETTO:+0100
TZNAME:CET
DTSTART:20251026T010000
END:STANDARD
BEGIN:DAYLIGHT
TZOFFSETFROM:+0100
TZOFFSETTO:+0200
TZNAME:CEST
DTSTART:20260329T010000
END:DAYLIGHT
BEGIN:STANDARD
TZOFFSETFROM:+0200
TZOFFSETTO:+0100
TZNAME:CET
DTSTART:20261025T010000
END:STANDARD
BEGIN:DAYLIGHT
TZOFFSETFROM:+0100
TZOFFSETTO:+0200
TZNAME:CEST
DTSTART:20270328T010000
END:DAYLIGHT
BEGIN:STANDARD
TZOFFSETFROM:+0200
TZOFFSETTO:+0100
TZNAME:CET
DTSTART:20271031T010000
END:STANDARD
END:VTIMEZONE
BEGIN:VEVENT
DTSTART;TZID=Europe/Berlin:20260217T100000
DTEND;TZID=Europe/Berlin:20260217T113000
DTSTAMP:20260421T144800
CREATED:20260115T090918Z
LAST-MODIFIED:20260115T090918Z
UID:11531-1771322400-1771327800@kalender.seniorinnen.wien
SUMMARY:Kreatives Gestalten für Senior:innen
DESCRIPTION:Kreatives Gestalten für Senior:innen\nVHS Simmering\, Gottschalkgasse 10 \, 1110 Wien\n\n17.02.2026 – 03.03.2026\, 10 bis 11:30 Uhr\n4\,5 Unterrichtseinheiten\nKursleitung: Kerstin Wiesinger MA\nTeilnehmer:innen: 8 – 15\nKosten: € 49\,00 \n\n\nKontakt:\nTel.: +43 1 891 74 111 001\nE-Mail: simmering@vhs.at \nAlle aktuellen Kurse kann man auch online finden und buchen: www.vhs.at/simmering/kursangebot \n\n\nFoto: Pixabay
URL:https://kalender.seniorinnen.wien/event/kreatives-gestalten-fuer-seniorinnen/2026-02-17/
LOCATION:VHS Simmering\, Gottschalkgasse 10\, Wien\, 1110\, Österreich
CATEGORIES:Begegnung,Demenz,Unterhaltung
ATTACH;FMTTYPE=image/jpeg:https://kalender.seniorinnen.wien/wp-content/uploads/2024/11/Kreativ_painting-911804_1280_Pixabay.jpg
ORGANIZER;CN="VHS Simmering":MAILTO:simmering@vhs.at
END:VEVENT
BEGIN:VEVENT
DTSTART;TZID=Europe/Berlin:20260217T150000
DTEND;TZID=Europe/Berlin:20260217T150000
DTSTAMP:20260421T144800
CREATED:20250925T142535Z
LAST-MODIFIED:20250925T142535Z
UID:10554-1771340400-1771340400@kalender.seniorinnen.wien
SUMMARY:LEIKO IKEMURA
DESCRIPTION:LEIKO IKEMURA\nEntdecken Sie die poetische Welt der Künstlerin: ihre Werke erzählen von der Kraft und zugleich der Fragilität der Welt. Eine sinnliche Reise durch ihre leuchtenden Gemälde\, reduzierten Zeichnungen und delikaten Terrakotta-Objekte erwartet Sie. \nÖffentliche Führungen für Menschen mit Demenz und Angehörige \nPREISE UND INFOS\n• Führungsdauer 60–90 Minuten\n• 6 EUR | Führungsbeitrag pro Person (inkl. Mwst.)\n• 7 EUR | Ermäßigter Eintritt für demenzbetroffene Personen im Rahmen der Führung (inkl. Mwst.)\n• Eintritt und Führung sind für je eine Begleitperson pro demenzbetroffener Person frei.\n• Führungstickets und Eintritte sind im Online-Shop erhältlich \nALBERTINA\nAlbertinaplatz 1\n1010 Wien\nhttps://www.albertina.at/\nbesucher@albertina.at \nFoto © ALBERTINA Fotostudio
URL:https://kalender.seniorinnen.wien/event/leiko-ikemura/
LOCATION:Albertina\, Albertinaplatz 1\, Wien\, 1010
CATEGORIES:Demenz,Kunst und Kultur
ATTACH;FMTTYPE=image/jpeg:https://kalender.seniorinnen.wien/wp-content/uploads/2025/09/fuehrungen-fuer-demenz-betroffene-albertina.990x0-e1758809917386.jpg
END:VEVENT
END:VCALENDAR