BEGIN:VCALENDAR
VERSION:2.0
PRODID:-//Wien für Senior:innen - ECPv6.15.17.1//NONSGML v1.0//EN
CALSCALE:GREGORIAN
METHOD:PUBLISH
X-WR-CALNAME:Wien für Senior:innen
X-ORIGINAL-URL:https://kalender.seniorinnen.wien
X-WR-CALDESC:Veranstaltungen für Wien für Senior:innen
REFRESH-INTERVAL;VALUE=DURATION:PT1H
X-Robots-Tag:noindex
X-PUBLISHED-TTL:PT1H
BEGIN:VTIMEZONE
TZID:Europe/Berlin
BEGIN:DAYLIGHT
TZOFFSETFROM:+0100
TZOFFSETTO:+0200
TZNAME:CEST
DTSTART:20250330T010000
END:DAYLIGHT
BEGIN:STANDARD
TZOFFSETFROM:+0200
TZOFFSETTO:+0100
TZNAME:CET
DTSTART:20251026T010000
END:STANDARD
BEGIN:DAYLIGHT
TZOFFSETFROM:+0100
TZOFFSETTO:+0200
TZNAME:CEST
DTSTART:20260329T010000
END:DAYLIGHT
BEGIN:STANDARD
TZOFFSETFROM:+0200
TZOFFSETTO:+0100
TZNAME:CET
DTSTART:20261025T010000
END:STANDARD
BEGIN:DAYLIGHT
TZOFFSETFROM:+0100
TZOFFSETTO:+0200
TZNAME:CEST
DTSTART:20270328T010000
END:DAYLIGHT
BEGIN:STANDARD
TZOFFSETFROM:+0200
TZOFFSETTO:+0100
TZNAME:CET
DTSTART:20271031T010000
END:STANDARD
END:VTIMEZONE
BEGIN:VEVENT
DTSTART;TZID=Europe/Berlin:20260211T093000
DTEND;TZID=Europe/Berlin:20260211T113000
DTSTAMP:20260421T145023
CREATED:20260209T132127Z
LAST-MODIFIED:20260209T132127Z
UID:12120-1770802200-1770809400@kalender.seniorinnen.wien
SUMMARY:Salon Servus - GB*Stadtteilbüro\, 16.\, Haberlgasse 76
DESCRIPTION:Alle 14 Tage in ganz Wien gemeinsam spielen\, basteln\, kochen\, plaudern\nGB*Stadtteilbüro\, Haberlgasse 76\, 1160 Wien\nMittwochs\, 9.30 – 11.30 Uhr\n \nDer Salon Servus ist ein Treffpunkt in Ihrer Nähe. Hier können Sie reden\, frühstücken oder jausnen\, spielen\, basteln und zusammen kochen. Für Menschen ab 60 Jahren\, aber alle sind willkommen. Denn gemeinsam ist es schöner! \nUnsere GB*Stadtteilbüros werden alle 14 Tage zu einem gemütlichen Treffpunkt in Ihrer Nähe! Ob beim Plaudern\, beim Brett- und Kartenspielen\, beim Frühstücken oder gemeinsamen Kochen\, Handwerken oder Basteln –im „Salon Servus“ dreht sich alles um das Miteinander! \nDas Angebot ist kostenlos und unverbindlich – alle Interessierten sind willkommen! \nTermine und Standortadressen unter:\ngbstern.at/salon-servus \nKalender: www.gbstern.at/termine/monat/202602/ \nFoto: Salon Servus\, (c) Daniel Dutkowski
URL:https://kalender.seniorinnen.wien/event/salon-servus-gbstadtteilbuero-16-haberlgasse-76/2026-02-11/
LOCATION:Wien
CATEGORIES:Begegnung,Grätzel,Unterhaltung
ATTACH;FMTTYPE=image/jpeg:https://kalender.seniorinnen.wien/wp-content/uploads/2026/02/csm_2504_Salon_Servus_c_Daniel_Dutkowski_15_73921e458d.jpg
ORGANIZER;CN="Gebietsbetreuung Stadterneuerung":MAILTO:info@gbstern.at
END:VEVENT
BEGIN:VEVENT
DTSTART;TZID=Europe/Berlin:20260211T130000
DTEND;TZID=Europe/Berlin:20260211T173000
DTSTAMP:20260421T145023
CREATED:20250905T092913Z
LAST-MODIFIED:20250905T092913Z
UID:9910-1770814800-1770831000@kalender.seniorinnen.wien
SUMMARY:Klick & Kreation – deine digitale Medienwerkstatt
DESCRIPTION:Verwandle dein Smartphone in ein kreatives Werkzeug!\nLerne in diesem kostenlosen Workshop\, Smartphone-Fotos zu verbessern und diese am Computer oder am Smartphone zu bearbeiten. Von den Kamera-Funktionen bis zum fertigen Produkt! In nur 4 Wochen (4x ein halber Tag) arbeiten wir mit Präsenz- und Online-Einheiten an deinem individuellen Projekt! \n\n18 Unterrichtseinheiten à 50 Minuten geblockt auf 4 Termine\nBlended Learning: der dritte Termin findet Online statt!\nmaximal 12 Teilnehmer:innen\nIndividuell: Sie arbeiten an Ihrem eigenen Projekt\nBonus: Optional können Sie ein 30- minütiges 1:1 Online Coaching für Ihre individuellen Fragen in Anspruch nehmen!\n\nAnmeldung unter: https://makethedifference.at/digital-workshops/ \nFoto: Make the Difference
URL:https://kalender.seniorinnen.wien/event/klick-kreation-deine-digitale-medienwerkstatt-3/2026-02-11/
LOCATION:Bücherei Neues Landgut\, Laxenburgerstraße 4/1A\, Wien\, Wien\, 1100\, Austria
CATEGORIES:Digital und Online
ATTACH;FMTTYPE=image/png:https://kalender.seniorinnen.wien/wp-content/uploads/2025/09/Karte_Foto-e1757063689200.png
ORGANIZER;CN="Make the Difference":MAILTO:theres@makethedifference.at
END:VEVENT
BEGIN:VEVENT
DTSTART;TZID=Europe/Berlin:20260211T140000
DTEND;TZID=Europe/Berlin:20260211T163000
DTSTAMP:20260421T145023
CREATED:20251126T112719Z
LAST-MODIFIED:20251126T112719Z
UID:11238-1770818400-1770827400@kalender.seniorinnen.wien
SUMMARY:Wien Museum entschleunigt: Rüben- oder Wiener Schnitzel?
DESCRIPTION:Sonderausstellung  Fleisch\n11.02.2026\nBei einem Rundgang durch die Sonderausstellung „Fleisch“ werfen wir einen historischen Blick auf ein Lebensmittel\, das stets auch ein Ausdruck von Identität und Status war. \nSchon im Mittelalter wurde am zentralen Umschlagplatz der Rinderhandelsrouten mehr Fleisch gegessen als anderswo. Später prägten die großen Schlachthallen von St. Marx und eine schier unendliche Zahl von Fleischereien die Stadt. \nEssen Sie selbst gerne Fleisch? Worauf achten Sie beim Kauf und bei der Zubereitung von Fleisch- und Wurstwaren? Oder bevorzugen Sie die veganen Varianten des Wiener Schnitzels? \nTeilen Sie Ihre Ansichten mit uns und kommen Sie mit uns ins Gespräch. \n\n\nHinweis: Dialog-Führung zu ausgewählten Objekten und Möglichkeiten zum Austausch von Erinnerungen. Mit Sitzgelegenheiten\, langsames Tempo für Menschen mit Demenz und ihre Begleitpersonen sind herzlich willkommen! Anwendung der Timeslips Methode-Anmeldung erforderlich\, bitte geben Sie uns bekannt\, wenn Sie mit einem Rollstuhl kommen\n\n\nhttps://www.wienmuseum.at/kalender?text=Wien%20Museum%20entschleunigt \nBild: Wien Museum/Lisa Rastl
URL:https://kalender.seniorinnen.wien/event/wien-museum-entschleunigt-rueben-oder-wiener-schnitzel/
LOCATION:Wien Museum\, Karlsplatz 8\, Wien\, Wien\, 1040\, Österreich
CATEGORIES:Demenz,Kunst und Kultur
ATTACH;FMTTYPE=image/jpeg:https://kalender.seniorinnen.wien/wp-content/uploads/2025/11/Wien-Museum_Lisa-Rastl-2-scaled.jpg
ORGANIZER;CN="Wien Museum":MAILTO:vermittlung@wienmuseum.at
END:VEVENT
BEGIN:VEVENT
DTSTART;TZID=Europe/Berlin:20260211T153000
DTEND;TZID=Europe/Berlin:20260211T153000
DTSTAMP:20260421T145023
CREATED:20260204T142635Z
LAST-MODIFIED:20260204T142918Z
UID:11763-1770823800-1770823800@kalender.seniorinnen.wien
SUMMARY:Rosen für Dich ...
DESCRIPTION:Das Vindobona Operetten- & Wienerlied Café mit Ingrid Merschl und Irina Nikolayeva \nRosen für Dich….\nBlumen sind ein beliebtes Geschenk zum nahenden Valentinstag. Eigentlich ist es egal was man schenkt\, am wichtigsten ist das Herz dabei. Womit die Herren gerne becircen? Oder wovon Frau träumt? Vielleicht gibt uns die Musik die Antwort\, lassen wir uns überraschen was den Komponisten und Librettisten einfällt um Amor auf die Sprünge zu helfen. \nKonzept\, Gesang und Moderation: Ingrid Merschl\nAm Klavier: Irina Nikolayeva \nOrt: Vindobona Lounge\, 1200 Wien\, Wallensteinplatz 6\nMusikschutz inkl. Kaffee und Kuchen € 14\,90 \nReservierung:0676 534 69 89 (Ingrid Merschl) \nInternet: www.merschl.at\nE-Mail: ingrid@merschl.at \nFoto: www.merschl.at
URL:https://kalender.seniorinnen.wien/event/rosen-fuer-dich/
LOCATION:Das Vindobona\, Wallensteinplatz 6\, Wien\, 1200
CATEGORIES:Kunst und Kultur,Unterhaltung
ATTACH;FMTTYPE=image/jpeg:https://kalender.seniorinnen.wien/wp-content/uploads/2026/02/P1010234aK-e1770215092871.jpg
END:VEVENT
BEGIN:VEVENT
DTSTART;TZID=Europe/Berlin:20260211T160000
DTEND;TZID=Europe/Berlin:20260211T180000
DTSTAMP:20260421T145023
CREATED:20260209T110803Z
LAST-MODIFIED:20260209T113907Z
UID:11993-1770825600-1770832800@kalender.seniorinnen.wien
SUMMARY:Salon Servus - GB*Stadtteilbüro\, 10.\, Quellenstraße 149
DESCRIPTION:Alle 14 Tage in ganz Wien gemeinsam spielen\, basteln\, kochen\, plaudern\nGB*Stadtteilbüro\, Quellenstraße 149\, 1100 Wien\,\nMittwochs\, 16 – 18 Uhr \nDer Salon Servus ist ein Treffpunkt in Ihrer Nähe. Hier können Sie reden\, frühstücken oder jausnen\, spielen\, basteln und zusammen kochen. Für Menschen ab 60 Jahren\, aber alle sind willkommen. Denn gemeinsam ist es schöner! \nUnsere GB*Stadtteilbüros werden alle 14 Tage zu einem gemütlichen Treffpunkt in Ihrer Nähe! Ob beim Plaudern\, beim Brett- und Kartenspielen\, beim Frühstücken oder gemeinsamen Kochen\, Handwerken oder Basteln –im „Salon Servus“ dreht sich alles um das Miteinander! \nDas Angebot ist kostenlos und unverbindlich – alle Interessierten sind willkommen! \nTermine und Standortadressen unter:\ngbstern.at/salon-servus \nKalender: www.gbstern.at/termine/monat/202602/ \nFoto: Salon Servus\, (c) Daniel Dutkowski
URL:https://kalender.seniorinnen.wien/event/salon-servus-alle-14-tage-in-ganz-wien-gemeinsam-spielen-basteln-kochen-plaudern-2/2026-02-11/
LOCATION:Wien
CATEGORIES:Begegnung,Grätzel,Unterhaltung
ATTACH;FMTTYPE=image/jpeg:https://kalender.seniorinnen.wien/wp-content/uploads/2026/02/csm_2504_Salon_Servus_c_Daniel_Dutkowski_15_73921e458d.jpg
ORGANIZER;CN="Gebietsbetreuung Stadterneuerung":MAILTO:info@gbstern.at
END:VEVENT
BEGIN:VEVENT
DTSTART;TZID=Europe/Berlin:20260211T190000
DTEND;TZID=Europe/Berlin:20260211T203000
DTSTAMP:20260421T145023
CREATED:20260130T134021Z
LAST-MODIFIED:20260130T134021Z
UID:11578-1770836400-1770841800@kalender.seniorinnen.wien
SUMMARY:Liebe auf Wienerisch
DESCRIPTION:Liebesgeflüster und zärtliches Turteln in der Kaiserzeit – Passend zum nahenden Valentinstag laden Stefan Franke und Helmuth Martin Wolf zu einer amüsanten Zeitreise in die Vergangenheit. In ihrer Lesung mit musikalischer Begleitung präsentieren die beiden skurrile und unterhaltsame Texte bzw. Lieder\, die zeigen\, wie unsere Vorfahren einst zueinanderfanden. \nStefan Franke „Liebe auf Wienerisch“\n11.02.2026\, 19–20:30 Uhr \nCafé Korb\nBrandstätte 7\, 1010 Wien (leider nicht barrierefrei) \nUms erste Kennenlernen\, ums zärtliche Turteln und nicht zuletzt um die Liebe selbst dreht sich dieser von Stefan Franke und Helmuth Martin Wolf gestaltete Abend. Während der Volkssänger Helmuth Martin Wolf Liebeslieder aus dem alten Wien zum Besten gibt\, schmökert der Autor Stefan Franke in historischen Büchern und Zeitungen und findet dort vor Schmalz triefende Kontaktanzeigen\, Berichte über unwiderstehliche Wienerinnen und allerhand angebrachte aber auch unangebrachte Zärtlichkeiten unserer Vorfahren. \nEinlass: ab 18:15 Uhr\nEintritt: Spende (Richtwert ca. 15\,– €)\nAnmeldung: info@stefanfranke.at\nVeranstalter: Stefan Franke (+43 680 3016765\, https://www.stefanfranke.at/) \nFoto: Stefan Franke
URL:https://kalender.seniorinnen.wien/event/liebe-auf-wienerisch/
LOCATION:Café Korb\, Brandstädte 7\, Wien\, Wien\, 1010\, Austria
CATEGORIES:Kunst und Kultur,Unterhaltung
ATTACH;FMTTYPE=image/jpeg:https://kalender.seniorinnen.wien/wp-content/uploads/2026/01/portrait__stefan-franke-201904-scaled.jpg
ORGANIZER;CN="Stefan Franke":MAILTO:info@stefanfranke.at
END:VEVENT
END:VCALENDAR