BEGIN:VCALENDAR
VERSION:2.0
PRODID:-//Wien für Senior:innen - ECPv6.15.17.1//NONSGML v1.0//EN
CALSCALE:GREGORIAN
METHOD:PUBLISH
X-ORIGINAL-URL:https://kalender.seniorinnen.wien
X-WR-CALDESC:Veranstaltungen für Wien für Senior:innen
REFRESH-INTERVAL;VALUE=DURATION:PT1H
X-Robots-Tag:noindex
X-PUBLISHED-TTL:PT1H
BEGIN:VTIMEZONE
TZID:Europe/Berlin
BEGIN:DAYLIGHT
TZOFFSETFROM:+0100
TZOFFSETTO:+0200
TZNAME:CEST
DTSTART:20250330T010000
END:DAYLIGHT
BEGIN:STANDARD
TZOFFSETFROM:+0200
TZOFFSETTO:+0100
TZNAME:CET
DTSTART:20251026T010000
END:STANDARD
BEGIN:DAYLIGHT
TZOFFSETFROM:+0100
TZOFFSETTO:+0200
TZNAME:CEST
DTSTART:20260329T010000
END:DAYLIGHT
BEGIN:STANDARD
TZOFFSETFROM:+0200
TZOFFSETTO:+0100
TZNAME:CET
DTSTART:20261025T010000
END:STANDARD
BEGIN:DAYLIGHT
TZOFFSETFROM:+0100
TZOFFSETTO:+0200
TZNAME:CEST
DTSTART:20270328T010000
END:DAYLIGHT
BEGIN:STANDARD
TZOFFSETFROM:+0200
TZOFFSETTO:+0100
TZNAME:CET
DTSTART:20271031T010000
END:STANDARD
END:VTIMEZONE
BEGIN:VEVENT
DTSTART;TZID=Europe/Berlin:20260129T100000
DTEND;TZID=Europe/Berlin:20260129T120000
DTSTAMP:20260421T145052
CREATED:20260209T132708Z
LAST-MODIFIED:20260209T132906Z
UID:12147-1769680800-1769688000@kalender.seniorinnen.wien
SUMMARY:Salon Servus - GB*Stadtteilbüro\, 22.\,Bernoullistraße 1
DESCRIPTION:Alle 14 Tage in ganz Wien gemeinsam spielen\, basteln\, kochen\, plaudern\nGB*Stadtteilbüro\, Bernoullistraße 1\, 1220 Wien\nDonnerstags\, 10 – 12 Uhr\n \nDer Salon Servus ist ein Treffpunkt in Ihrer Nähe. Hier können Sie reden\, frühstücken oder jausnen\, spielen\, basteln und zusammen kochen. Für Menschen ab 60 Jahren\, aber alle sind willkommen. Denn gemeinsam ist es schöner! \nUnsere GB*Stadtteilbüros werden alle 14 Tage zu einem gemütlichen Treffpunkt in Ihrer Nähe! Ob beim Plaudern\, beim Brett- und Kartenspielen\, beim Frühstücken oder gemeinsamen Kochen\, Handwerken oder Basteln –im „Salon Servus“ dreht sich alles um das Miteinander! \nDas Angebot ist kostenlos und unverbindlich – alle Interessierten sind willkommen! \nTermine und Standortadressen unter:\ngbstern.at/salon-servus \nKalender: www.gbstern.at/termine/monat/202602/ \nFoto: Salon Servus\, (c) Daniel Dutkowski
URL:https://kalender.seniorinnen.wien/event/salon-servus-gbstadtteilbuero-22-bernoullistrasse-1/2026-01-29/
LOCATION:Wien
CATEGORIES:Begegnung,Grätzel,Unterhaltung
ATTACH;FMTTYPE=image/jpeg:https://kalender.seniorinnen.wien/wp-content/uploads/2026/02/csm_2504_Salon_Servus_c_Daniel_Dutkowski_15_73921e458d.jpg
ORGANIZER;CN="Gebietsbetreuung Stadterneuerung":MAILTO:info@gbstern.at
END:VEVENT
BEGIN:VEVENT
DTSTART;TZID=Europe/Berlin:20260129T120000
DTEND;TZID=Europe/Berlin:20260129T160000
DTSTAMP:20260421T145052
CREATED:20250930T100925Z
LAST-MODIFIED:20250930T100925Z
UID:10586-1769688000-1769702400@kalender.seniorinnen.wien
SUMMARY:Feelgood - Open House
DESCRIPTION:Feelgood ist ein  norwegisches Trainingskonzept für das niemand ist zu alt oder zu schwach ist. Zwölf automatisierte Geräte im Zirkel mobilisieren und kräftigen den gesamten Bewegungsapparat – sanft\, sicher und ohne Leistungsdruck. In nur 40 Minuten werden Muskeln gestärkt\, Gelenke bewegt und das Wohlbefinden gefördert. Jeder steuert individuell den eigenen Krafteinsatz. Ideal für alle\, die fit bleiben oder wieder einsteigen möchten – unabhängig von Alter oder Erfahrung. \nDas Konzept wirkt vorbeugend und therapeutisch\, denn Bewegung ist die beste aktive Medizin! \nÖffnungszeiten für Mitglieder von 8:00-20:00h\, jeden Tag – auch Sonn- und Feiertage.\nNach Abschluss einer Mitgliedschaft kann man das Trainingsangebot ohne Termin und sooft man möchte nutzen. \nJeden Donnerstag zwischen 12:00 und 16:00  Open House – so kann jeder ohne Termin einfach vorbei kommen und schnuppern und wenn es gefällt einen Termin für eine kostenloses Probetraining vereinbaren. \nWeitere Informationen: \nTel.: +43 664 212 6352\nEmail: info@feelgoodwien-waehring.at \n 
URL:https://kalender.seniorinnen.wien/event/feelgood-open-house/2026-01-29/
LOCATION:Feelgood Wien Währing\, Klostergasse 19\, Wien\, 1180
CATEGORIES:Fit und Gesund
ATTACH;FMTTYPE=image/jpeg:https://kalender.seniorinnen.wien/wp-content/uploads/2025/09/202503_feelgood_low_srgb_credit02-e1759226572583.jpg
END:VEVENT
BEGIN:VEVENT
DTSTART;TZID=Europe/Berlin:20260129T130000
DTEND;TZID=Europe/Berlin:20260129T170000
DTSTAMP:20260421T145052
CREATED:20250905T090845Z
LAST-MODIFIED:20250905T091114Z
UID:9887-1769691600-1769706000@kalender.seniorinnen.wien
SUMMARY:Mein Smartphone verstehen – einfach und sicher im Alltag
DESCRIPTION:Sie möchten Ihr Smartphone besser verstehen und sicher im Alltag nutzen?\nIn dem 3-teiligen-Kurs lernen Sie in entspannter Atmosphäre alles\, was Sie wissen müssen. Von den Grundlagen der Bedienung\, Sicherheit\, bis zu sicherer Kommunikation – wir begleiten Sie Schritt für Schritt. Melden Sie sich jetzt an und entdecken Sie die Möglichkeiten Ihres Smartphones! \n\n12 Unterrichtseinheiten à 50 Minuten geblockt auf 3 Termine\nDer Kurs findet in Präsenz am jeweiligen Veranstaltungsort statt!\nKleine Gruppen von maximal 12 Personen\nSie gestalten die Termine mit! Mit Ihren Fragen und Wünschen!\n\nSpeziell für Senior:innen \nAnmeldung unter:\nhttps://makethedifference.at/digital-workshops/ \nFoto: Make the difference
URL:https://kalender.seniorinnen.wien/event/mein-smartphone-verstehen-einfach-und-sicher-im-alltag-2/2026-01-29/
LOCATION:Bücherei Alsergrund\, Alserbachstraße 11\, Wien\, Wien\, 1090\, Austria
CATEGORIES:Digital und Online
ATTACH;FMTTYPE=image/jpeg:https://kalender.seniorinnen.wien/wp-content/uploads/2025/09/Karte_Seniorinnen-e1757063160766.jpg
ORGANIZER;CN="Make the Difference":MAILTO:theres@makethedifference.at
END:VEVENT
BEGIN:VEVENT
DTSTART;TZID=Europe/Berlin:20260129T150000
DTEND;TZID=Europe/Berlin:20260129T163000
DTSTAMP:20260421T145052
CREATED:20260209T114106Z
LAST-MODIFIED:20260209T125631Z
UID:12043-1769698800-1769704200@kalender.seniorinnen.wien
SUMMARY:Salon Servus - GB*Stadtteilbüro\, 2.\, Max-Winter-Platz 23
DESCRIPTION:Alle 14 Tage in ganz Wien gemeinsam spielen\, basteln\, kochen\, plaudern\nGB*Stadtteilbüro\, Max-Winter-Platz 23\, 1020 Wien\nDonnerstags\, 15 – 16.30 Uhr\n \nDer Salon Servus ist ein Treffpunkt in Ihrer Nähe. Hier können Sie reden\, frühstücken oder jausnen\, spielen\, basteln und zusammen kochen. Für Menschen ab 60 Jahren\, aber alle sind willkommen. Denn gemeinsam ist es schöner! \nUnsere GB*Stadtteilbüros werden alle 14 Tage zu einem gemütlichen Treffpunkt in Ihrer Nähe! Ob beim Plaudern\, beim Brett- und Kartenspielen\, beim Frühstücken oder gemeinsamen Kochen\, Handwerken oder Basteln –im „Salon Servus“ dreht sich alles um das Miteinander! \nDas Angebot ist kostenlos und unverbindlich – alle Interessierten sind willkommen! \nTermine und Standortadressen unter:\ngbstern.at/salon-servus \nKalender: www.gbstern.at/termine/monat/202602/ \nFoto: Salon Servus\, (c) Daniel Dutkowski
URL:https://kalender.seniorinnen.wien/event/salon-servus-gbstadtteilbuero-2-max-winter-platz-23/2026-01-29/
LOCATION:Wien
CATEGORIES:Begegnung,Grätzel,Unterhaltung
ATTACH;FMTTYPE=image/jpeg:https://kalender.seniorinnen.wien/wp-content/uploads/2026/02/csm_2504_Salon_Servus_c_Daniel_Dutkowski_15_73921e458d.jpg
ORGANIZER;CN="Gebietsbetreuung Stadterneuerung":MAILTO:info@gbstern.at
END:VEVENT
BEGIN:VEVENT
DTSTART;TZID=Europe/Berlin:20260129T150000
DTEND;TZID=Europe/Berlin:20260129T170000
DTSTAMP:20260421T145052
CREATED:20260209T130637Z
LAST-MODIFIED:20260209T130637Z
UID:12093-1769698800-1769706000@kalender.seniorinnen.wien
SUMMARY:Salon Servus - GB*Stadtteilbüro\, 15.\, Sechshauser Straße 2
DESCRIPTION:Alle 14 Tage in ganz Wien gemeinsam spielen\, basteln\, kochen\, plaudern\nGB*Stadtteilbüro\, Sechshauser Straße 23\, 1150 Wien\nDonnerstags\, 15 – 17 Uhr\n \nDer Salon Servus ist ein Treffpunkt in Ihrer Nähe. Hier können Sie reden\, frühstücken oder jausnen\, spielen\, basteln und zusammen kochen. Für Menschen ab 60 Jahren\, aber alle sind willkommen. Denn gemeinsam ist es schöner! \nUnsere GB*Stadtteilbüros werden alle 14 Tage zu einem gemütlichen Treffpunkt in Ihrer Nähe! Ob beim Plaudern\, beim Brett- und Kartenspielen\, beim Frühstücken oder gemeinsamen Kochen\, Handwerken oder Basteln –im „Salon Servus“ dreht sich alles um das Miteinander! \nDas Angebot ist kostenlos und unverbindlich – alle Interessierten sind willkommen! \nTermine und Standortadressen unter:\ngbstern.at/salon-servus \nKalender: www.gbstern.at/termine/monat/202602/ \nFoto: Salon Servus\, (c) Daniel Dutkowski
URL:https://kalender.seniorinnen.wien/event/salon-servus-gbstadtteilbuero-15-sechshauser-strasse-2/2026-01-29/
LOCATION:Wien
CATEGORIES:Begegnung,Grätzel,Unterhaltung
ATTACH;FMTTYPE=image/jpeg:https://kalender.seniorinnen.wien/wp-content/uploads/2026/02/csm_2504_Salon_Servus_c_Daniel_Dutkowski_15_73921e458d.jpg
ORGANIZER;CN="Gebietsbetreuung Stadterneuerung":MAILTO:info@gbstern.at
END:VEVENT
BEGIN:VEVENT
DTSTART;TZID=Europe/Berlin:20260129T180000
DTEND;TZID=Europe/Berlin:20260129T180000
DTSTAMP:20260421T145052
CREATED:20251001T111609Z
LAST-MODIFIED:20251001T111609Z
UID:11018-1769709600-1769709600@kalender.seniorinnen.wien
SUMMARY:BLEIBE FIT FÜRS LEBEN
DESCRIPTION:BLEIBE FIT FÜRS LEBEN\nfitfellows: Les Mills THRIVE – Dein sanftes Krafttraining für Seniorinnen und Senioren \nDonnerstags\, 18:00 Uhr (weitere Termine in Planung!)\nPrinz-Eugen-Straße 34\, 1040 Wien (im New Wave Gym) \nFür wen ist dieser Kurs geeignet?\nDieser Kurs richtet sich an alle Senior:innen\, die ihre Mobilität\, Balance und Kraft im Alltag erhalten und verbessern möchten – ideal für Einsteiger:innen\, Wiedereinsteiger:innen und alle\, die ein gelenkschonendes Training mit Spaß und Gemeinschaft suchen. \nWas erwartet dich?\nIn 45 Minuten kombinieren wir gezielte Übungen aus dem Les Mills THRIVE-Programm\, das speziell für Menschen ab 55 Jahren entwickelt wurde. Das Training ist begleitet von motivierender Musik\, die jede Bewegung unterstützt und den Rhythmus vorgibt – so wird dein Krafttraining zu einem lebendigen Erlebnis. Du stärkst deine Bein- und Rumpfmuskulatur\, verbesserst deine Flexibilität und Balance – alles in deinem eigenen Tempo und mit individueller Unterstützung. \nWarum Les Mills THRIVE bei fitfellows?\n• gelenkschonend und sicher – ideal für alle Fitnesslevels\n• mit optionaler Unterstützung durch Sessel\, Matte\, Widerstandsbänder oder leichte Gewichte\n• wissenschaftlich fundiert und von Expert:innen entwickelt\n• mit motivierender Musik\, die jede Übung unterstützt\n• persönliche Betreuung in kleiner Gruppe \nWenn du persönliche Betreuung mit Herz suchst\, bist du bei fitfellows genau richtig! \nkostenloses Schnuppern für Senior:innen\nAnmeldung oder Fragen: michael@fitfellows.at \nWeitere Kurszeiten sind bei entsprechender Nachfrage möglich! \nFoto: Fitfellows
URL:https://kalender.seniorinnen.wien/event/bleibe-fit-fuers-leben/2026-01-29/
LOCATION:New Wave Gym\, Prinz-Eugen-Straße 34\, Wien\, Wien\, 1040
CATEGORIES:Fit und Gesund
ATTACH;FMTTYPE=image/jpeg:https://kalender.seniorinnen.wien/wp-content/uploads/2025/10/fitfellows-e1759316912688.jpg
END:VEVENT
END:VCALENDAR