BEGIN:VCALENDAR
VERSION:2.0
PRODID:-//Wien für Senior:innen - ECPv6.15.17.1//NONSGML v1.0//EN
CALSCALE:GREGORIAN
METHOD:PUBLISH
X-ORIGINAL-URL:https://kalender.seniorinnen.wien
X-WR-CALDESC:Veranstaltungen für Wien für Senior:innen
REFRESH-INTERVAL;VALUE=DURATION:PT1H
X-Robots-Tag:noindex
X-PUBLISHED-TTL:PT1H
BEGIN:VTIMEZONE
TZID:Europe/Berlin
BEGIN:DAYLIGHT
TZOFFSETFROM:+0100
TZOFFSETTO:+0200
TZNAME:CEST
DTSTART:20250330T010000
END:DAYLIGHT
BEGIN:STANDARD
TZOFFSETFROM:+0200
TZOFFSETTO:+0100
TZNAME:CET
DTSTART:20251026T010000
END:STANDARD
BEGIN:DAYLIGHT
TZOFFSETFROM:+0100
TZOFFSETTO:+0200
TZNAME:CEST
DTSTART:20260329T010000
END:DAYLIGHT
BEGIN:STANDARD
TZOFFSETFROM:+0200
TZOFFSETTO:+0100
TZNAME:CET
DTSTART:20261025T010000
END:STANDARD
BEGIN:DAYLIGHT
TZOFFSETFROM:+0100
TZOFFSETTO:+0200
TZNAME:CEST
DTSTART:20270328T010000
END:DAYLIGHT
BEGIN:STANDARD
TZOFFSETFROM:+0200
TZOFFSETTO:+0100
TZNAME:CET
DTSTART:20271031T010000
END:STANDARD
END:VTIMEZONE
BEGIN:VEVENT
DTSTART;TZID=Europe/Berlin:20260128T093000
DTEND;TZID=Europe/Berlin:20260128T113000
DTSTAMP:20260421T145149
CREATED:20260109T095749Z
LAST-MODIFIED:20260109T095749Z
UID:11443-1769592600-1769599800@kalender.seniorinnen.wien
SUMMARY:Kontaktbesuchsdienst: Infotisch Sozialmarkt Caritas
DESCRIPTION:Infotisch Sozialmarkt Caritas\n9:30 bis 11:30 Uhr\n \nPfarre Erlöserkirche\nEndresstraße 57A\n123o Wien \n  \nFoto: Wiener Sozialdienste
URL:https://kalender.seniorinnen.wien/event/kontaktbesuchsdienst-infotisch-sozialmarkt-caritas-4/2026-01-28/
LOCATION:Pfarre Erlöserkirche\, Endresstraße 57A\, Wien\, Wien\, 1230
CATEGORIES:Information
ATTACH;FMTTYPE=image/jpeg:https://kalender.seniorinnen.wien/wp-content/uploads/2019/08/WISO_Kontaktbesuchsdienst.jpg
END:VEVENT
BEGIN:VEVENT
DTSTART;TZID=Europe/Berlin:20260128T093000
DTEND;TZID=Europe/Berlin:20260128T113000
DTSTAMP:20260421T145149
CREATED:20260209T132127Z
LAST-MODIFIED:20260209T132127Z
UID:12119-1769592600-1769599800@kalender.seniorinnen.wien
SUMMARY:Salon Servus - GB*Stadtteilbüro\, 16.\, Haberlgasse 76
DESCRIPTION:Alle 14 Tage in ganz Wien gemeinsam spielen\, basteln\, kochen\, plaudern\nGB*Stadtteilbüro\, Haberlgasse 76\, 1160 Wien\nMittwochs\, 9.30 – 11.30 Uhr\n \nDer Salon Servus ist ein Treffpunkt in Ihrer Nähe. Hier können Sie reden\, frühstücken oder jausnen\, spielen\, basteln und zusammen kochen. Für Menschen ab 60 Jahren\, aber alle sind willkommen. Denn gemeinsam ist es schöner! \nUnsere GB*Stadtteilbüros werden alle 14 Tage zu einem gemütlichen Treffpunkt in Ihrer Nähe! Ob beim Plaudern\, beim Brett- und Kartenspielen\, beim Frühstücken oder gemeinsamen Kochen\, Handwerken oder Basteln –im „Salon Servus“ dreht sich alles um das Miteinander! \nDas Angebot ist kostenlos und unverbindlich – alle Interessierten sind willkommen! \nTermine und Standortadressen unter:\ngbstern.at/salon-servus \nKalender: www.gbstern.at/termine/monat/202602/ \nFoto: Salon Servus\, (c) Daniel Dutkowski
URL:https://kalender.seniorinnen.wien/event/salon-servus-gbstadtteilbuero-16-haberlgasse-76/2026-01-28/
LOCATION:Wien
CATEGORIES:Begegnung,Grätzel,Unterhaltung
ATTACH;FMTTYPE=image/jpeg:https://kalender.seniorinnen.wien/wp-content/uploads/2026/02/csm_2504_Salon_Servus_c_Daniel_Dutkowski_15_73921e458d.jpg
ORGANIZER;CN="Gebietsbetreuung Stadterneuerung":MAILTO:info@gbstern.at
END:VEVENT
BEGIN:VEVENT
DTSTART;TZID=Europe/Berlin:20260128T100000
DTEND;TZID=Europe/Berlin:20260128T113000
DTSTAMP:20260421T145149
CREATED:20251014T101300Z
LAST-MODIFIED:20251014T101300Z
UID:11002-1769594400-1769599800@kalender.seniorinnen.wien
SUMMARY:Contemporary mit 60+
DESCRIPTION:BasicPlus (für Tanzende mit ein wenig Tanzerfahrung)\nnicht aufbauend \nFür meine Einheiten habe ich kein Konzept von Stil\, kein ästhetisches Urteil.\nEs ist essentiell und notwendig für mich\, meinen Blick an die Teilnehmer:innen anzupassen.\nDas Wichtigste ist die Freude. Meine Einheiten ist eine Einladung.\nEin Moment des Teilens. Es ist also Teilen und die Freude am Teilen.\nIch baue meinen Unterricht auf Respekt und Liebe auf.\nBruno \nPreis & Anmeldung: www.beat1060.wien\nOrt: Millergasse 42-44\, 1060 Wien \nEinstieg und Schnuppern jederzeit möglich!
URL:https://kalender.seniorinnen.wien/event/contemporary-mit-60/2026-01-28/
LOCATION:beat1060\, Millergasse 42-44\, Wien\, Wien\, 1060\, Austria
ATTACH;FMTTYPE=image/jpeg:https://kalender.seniorinnen.wien/wp-content/uploads/2025/10/beat-1060-Contemporary-mit-60-e1760437314616.jpg
ORGANIZER;CN="beat1060":MAILTO:office@beat1060.wien
END:VEVENT
BEGIN:VEVENT
DTSTART;TZID=Europe/Berlin:20260128T130000
DTEND;TZID=Europe/Berlin:20260128T163000
DTSTAMP:20260421T145149
CREATED:20250905T091052Z
LAST-MODIFIED:20250905T091052Z
UID:9892-1769605200-1769617800@kalender.seniorinnen.wien
SUMMARY:Mein Smartphone verstehen – einfach und sicher im Alltag
DESCRIPTION:Sie möchten Ihr Smartphone besser verstehen und sicher im Alltag nutzen?\nIn dem 3-teiligen-Kurs lernen Sie in entspannter Atmosphäre alles\, was Sie wissen müssen. Von den Grundlagen der Bedienung\, Sicherheit\, bis zu sicherer Kommunikation – wir begleiten Sie Schritt für Schritt. Melden Sie sich jetzt an und entdecken Sie die Möglichkeiten Ihres Smartphones! \n\n12 Unterrichtseinheiten à 50 Minuten geblockt auf 3 Termine\nDer Kurs findet in Präsenz am jeweiligen Veranstaltungsort statt!\nKleine Gruppen von maximal 12 Personen\nSie gestalten die Termine mit! Mit Ihren Fragen und Wünschen!\n\nSpeziell für Senior:innen \nAnmeldung unter:\nhttps://makethedifference.at/digital-workshops/ \nFoto: Make the difference
URL:https://kalender.seniorinnen.wien/event/mein-smartphone-verstehen-einfach-und-sicher-im-alltag-3/2026-01-28/
LOCATION:Bücherei Neues Landgut\, Laxenburgerstraße 4/1A\, Wien\, Wien\, 1100\, Austria
CATEGORIES:Digital und Online
ATTACH;FMTTYPE=image/jpeg:https://kalender.seniorinnen.wien/wp-content/uploads/2025/09/Karte_Seniorinnen-e1757063160766.jpg
ORGANIZER;CN="Make the Difference":MAILTO:theres@makethedifference.at
END:VEVENT
BEGIN:VEVENT
DTSTART;TZID=Europe/Berlin:20260128T160000
DTEND;TZID=Europe/Berlin:20260128T180000
DTSTAMP:20260421T145149
CREATED:20260209T110803Z
LAST-MODIFIED:20260209T113906Z
UID:11992-1769616000-1769623200@kalender.seniorinnen.wien
SUMMARY:Salon Servus - GB*Stadtteilbüro\, 10.\, Quellenstraße 149
DESCRIPTION:Alle 14 Tage in ganz Wien gemeinsam spielen\, basteln\, kochen\, plaudern\nGB*Stadtteilbüro\, Quellenstraße 149\, 1100 Wien\,\nMittwochs\, 16 – 18 Uhr \nDer Salon Servus ist ein Treffpunkt in Ihrer Nähe. Hier können Sie reden\, frühstücken oder jausnen\, spielen\, basteln und zusammen kochen. Für Menschen ab 60 Jahren\, aber alle sind willkommen. Denn gemeinsam ist es schöner! \nUnsere GB*Stadtteilbüros werden alle 14 Tage zu einem gemütlichen Treffpunkt in Ihrer Nähe! Ob beim Plaudern\, beim Brett- und Kartenspielen\, beim Frühstücken oder gemeinsamen Kochen\, Handwerken oder Basteln –im „Salon Servus“ dreht sich alles um das Miteinander! \nDas Angebot ist kostenlos und unverbindlich – alle Interessierten sind willkommen! \nTermine und Standortadressen unter:\ngbstern.at/salon-servus \nKalender: www.gbstern.at/termine/monat/202602/ \nFoto: Salon Servus\, (c) Daniel Dutkowski
URL:https://kalender.seniorinnen.wien/event/salon-servus-alle-14-tage-in-ganz-wien-gemeinsam-spielen-basteln-kochen-plaudern-2/2026-01-28/
LOCATION:Wien
CATEGORIES:Begegnung,Grätzel,Unterhaltung
ATTACH;FMTTYPE=image/jpeg:https://kalender.seniorinnen.wien/wp-content/uploads/2026/02/csm_2504_Salon_Servus_c_Daniel_Dutkowski_15_73921e458d.jpg
ORGANIZER;CN="Gebietsbetreuung Stadterneuerung":MAILTO:info@gbstern.at
END:VEVENT
END:VCALENDAR