BEGIN:VCALENDAR
VERSION:2.0
PRODID:-//Wien für Senior:innen - ECPv6.15.17.1//NONSGML v1.0//EN
CALSCALE:GREGORIAN
METHOD:PUBLISH
X-ORIGINAL-URL:https://kalender.seniorinnen.wien
X-WR-CALDESC:Veranstaltungen für Wien für Senior:innen
REFRESH-INTERVAL;VALUE=DURATION:PT1H
X-Robots-Tag:noindex
X-PUBLISHED-TTL:PT1H
BEGIN:VTIMEZONE
TZID:Europe/Berlin
BEGIN:DAYLIGHT
TZOFFSETFROM:+0100
TZOFFSETTO:+0200
TZNAME:CEST
DTSTART:20250330T010000
END:DAYLIGHT
BEGIN:STANDARD
TZOFFSETFROM:+0200
TZOFFSETTO:+0100
TZNAME:CET
DTSTART:20251026T010000
END:STANDARD
BEGIN:DAYLIGHT
TZOFFSETFROM:+0100
TZOFFSETTO:+0200
TZNAME:CEST
DTSTART:20260329T010000
END:DAYLIGHT
BEGIN:STANDARD
TZOFFSETFROM:+0200
TZOFFSETTO:+0100
TZNAME:CET
DTSTART:20261025T010000
END:STANDARD
BEGIN:DAYLIGHT
TZOFFSETFROM:+0100
TZOFFSETTO:+0200
TZNAME:CEST
DTSTART:20270328T010000
END:DAYLIGHT
BEGIN:STANDARD
TZOFFSETFROM:+0200
TZOFFSETTO:+0100
TZNAME:CET
DTSTART:20271031T010000
END:STANDARD
END:VTIMEZONE
BEGIN:VEVENT
DTSTART;TZID=Europe/Berlin:20260127T100000
DTEND;TZID=Europe/Berlin:20260127T120000
DTSTAMP:20260421T145909
CREATED:20260109T085223Z
LAST-MODIFIED:20260109T085223Z
UID:11404-1769508000-1769515200@kalender.seniorinnen.wien
SUMMARY:Kontaktbesuchsdienst: Infotisch im Pensionistenklub Gumpendorfer Straße
DESCRIPTION:Pensionistenklub Gumpendorfer Straße\nGumpendorfer Straße 117\n1060\, Wien \nWir errichten unsere Infotische an gut erreichbaren Orten\, damit Sie uns ohne Voranmeldung persönlich sprechen können. Kurze Fragen beantworten wir direkt vor Ort. Wenn Sie ein ausführlicheres Gespräch wünschen\, rufen Sie uns bitte an oder vereinbaren Sie einen Sprechstundentermin mit uns. \nFoto: Wiener Sozialdienste
URL:https://kalender.seniorinnen.wien/event/kontaktbesuchsdienst-infotisch-im-pensionistenklub-gumpendorfer-strasse/2026-01-27/
LOCATION:Pensionistenklub Gumpendorferstraße\, Gumpendorfer Straße 117\, Wien\, Wien\, 1060\, Austria
CATEGORIES:Information
ATTACH;FMTTYPE=image/jpeg:https://kalender.seniorinnen.wien/wp-content/uploads/2019/08/WISO_Kontaktbesuchsdienst.jpg
END:VEVENT
BEGIN:VEVENT
DTSTART;TZID=Europe/Berlin:20260127T130000
DTEND;TZID=Europe/Berlin:20260127T160000
DTSTAMP:20260421T145909
CREATED:20260115T094605Z
LAST-MODIFIED:20260115T094605Z
UID:11537-1769518800-1769529600@kalender.seniorinnen.wien
SUMMARY:Wine & Art Event
DESCRIPTION:Dienstag\, 27. Januar 2026\, 13 bis 16 Uhr\nLjuba-Welitsch-Promenade 12A/B\, 1030 Wien\n\n\nBei einem Glas Wein erschaffen die Teilnehmenden Kunstwerke. Genießen Sie einen entspannten Nachmittag und probieren Sie etwas Neues aus. \n\n\nLassen Sie sich von unserem künstlerischen Event begeistern!\n\n\nVeranstalter: Klub+ All in Village3\nEine Anmeldung im Klub ist erforderlich: Tel. 01 313 99 273121 oder allinvillage3@kwp.at\n\n\nWebsite: kwp.at/veranstaltungen/\n\n\nFoto: Pixabay
URL:https://kalender.seniorinnen.wien/event/wine-art-event/
LOCATION:Klub+ All in Village3\, Ljuba-Welitsch-Promenade 12A/B\, Wien\, Wien\, 1030\, Austria
CATEGORIES:Begegnung,Unterhaltung
ATTACH;FMTTYPE=image/jpeg:https://kalender.seniorinnen.wien/wp-content/uploads/2024/07/paint-brush-2927794_1280-e1721201007621.jpg
END:VEVENT
END:VCALENDAR