BEGIN:VCALENDAR
VERSION:2.0
PRODID:-//Wien für Senior:innen - ECPv6.15.17.1//NONSGML v1.0//EN
CALSCALE:GREGORIAN
METHOD:PUBLISH
X-WR-CALNAME:Wien für Senior:innen
X-ORIGINAL-URL:https://kalender.seniorinnen.wien
X-WR-CALDESC:Veranstaltungen für Wien für Senior:innen
REFRESH-INTERVAL;VALUE=DURATION:PT1H
X-Robots-Tag:noindex
X-PUBLISHED-TTL:PT1H
BEGIN:VTIMEZONE
TZID:Europe/Berlin
BEGIN:DAYLIGHT
TZOFFSETFROM:+0100
TZOFFSETTO:+0200
TZNAME:CEST
DTSTART:20250330T010000
END:DAYLIGHT
BEGIN:STANDARD
TZOFFSETFROM:+0200
TZOFFSETTO:+0100
TZNAME:CET
DTSTART:20251026T010000
END:STANDARD
BEGIN:DAYLIGHT
TZOFFSETFROM:+0100
TZOFFSETTO:+0200
TZNAME:CEST
DTSTART:20260329T010000
END:DAYLIGHT
BEGIN:STANDARD
TZOFFSETFROM:+0200
TZOFFSETTO:+0100
TZNAME:CET
DTSTART:20261025T010000
END:STANDARD
BEGIN:DAYLIGHT
TZOFFSETFROM:+0100
TZOFFSETTO:+0200
TZNAME:CEST
DTSTART:20270328T010000
END:DAYLIGHT
BEGIN:STANDARD
TZOFFSETFROM:+0200
TZOFFSETTO:+0100
TZNAME:CET
DTSTART:20271031T010000
END:STANDARD
END:VTIMEZONE
BEGIN:VEVENT
DTSTART;TZID=Europe/Berlin:20260126T080000
DTEND;TZID=Europe/Berlin:20260126T170000
DTSTAMP:20260421T145015
CREATED:20250915T125317Z
LAST-MODIFIED:20251014T061732Z
UID:10446-1769414400-1769446800@kalender.seniorinnen.wien
SUMMARY:Kreativatelier für Senior:innen
DESCRIPTION:Kreativatelier für Senior:innen\nEntdecken Sie Ihre kreative Seite in unserem speziell für Seniorinnen und Senioren konzipierten Kreativkurs! Dieser Kurs bietet Ihnen die Möglichkeit\, die Grundlagen des Malens und Zeichnens zu erlernen oder Ihre bereits vorhandenen Fähigkeiten zu vertiefen. In einer entspannten und unterstützenden Atmosphäre können Sie Ihrer Fantasie freien Lauf lassen und neue Techniken ausprobieren. \nKursinhalte:\n• Grundlagen des Zeichnens: Erlernen Sie die Techniken des Skizzierens\, Schattierens und Perspektivzeichnens.\n• Maltechniken: Entdecken Sie verschiedene Maltechniken wie Aquarell\, Acryl und Pastell.\n• Kreative Projekte: Arbeiten Sie an individuellen Projekten und lassen Sie sich von der Natur\, Stillleben oder Ihrer eigenen Vorstellungskraft inspirieren.\n• Gemeinschaft und Austausch: Genießen Sie die Gesellschaft Gleichgesinnter und tauschen Sie sich über Ihre Werke und Erfahrungen aus.\nUnser Kursleiter ist ein erfahrener Künstler\, der Ihnen mit Rat und Tat zur Seite steht und Sie individuell unterstützt. Egal\, ob Sie Anfänger*in sind oder bereits Erfahrung haben – bei uns sind Sie herzlich willkommen! \nTrevor Schleusner hat 2003 das Minneapolis College of Art and Design\, Minnesota\, mit einem Bachelor of Arts abgeschlossen\, wo er v.a. Zeichnen\, Malerei und Druckgrafik studierte. 2013 Umzug nach Wien\, Studium der Pädagogik und Kunst an der Akademie der bildenden Künste. \nAußer einer Malschürze müssen Sie nichts mitbringen – alle Materialien (Pastellkreiden\, Acrylfarben\, usw.) werden vom Kursleiter mitgebracht.\nDer Materialbeitrag von maximal € 15\,- ist nicht in der Kursgebühr enthalten und wird direkt mit dem Kursleiter verrechnet. \nTeilnehmer*inneninfos \n22.09.-20.10.2025 | Mo. 10:00-11:30\n7\,5 UE | 5x | ab 8 TN | € 69\,-\nKursnr: 25GG1024\nTrevor Schleusner\, BFA \n03.11.-01.12.2025 | Mo. 10:00-11:30 Uhr\n7\,5 UE | 5x | ab 8 TN | € 69\,-\nKursnr: 25GG1025\nTrevor Schleusner\, BFA \n12.01.-26.01.2026 | Mo. 10:00-11:30 Uhr\n4\,5 UE | 3x | ab 8 TN | € 41\,-\nKursnr: 25GG1026\nTrevor Schleusner\, BFA \nKontakt:\nTel.: +43 1 891 74 111 000\nE-Mail: simmering@vhs.at \nFoto: Pixabay
URL:https://kalender.seniorinnen.wien/event/kreativatelier-fuer-seniorinnen-2/2026-01-26/
LOCATION:VHS Simmering\, Gottschalkgasse 10\, Wien\, 1110\, Österreich
CATEGORIES:Kunst und Kultur
ATTACH;FMTTYPE=image/jpeg:https://kalender.seniorinnen.wien/wp-content/uploads/2024/11/Kreativ_painting-911804_1280_Pixabay.jpg
END:VEVENT
END:VCALENDAR