BEGIN:VCALENDAR
VERSION:2.0
PRODID:-//Wien für Senior:innen - ECPv6.15.17.1//NONSGML v1.0//EN
CALSCALE:GREGORIAN
METHOD:PUBLISH
X-ORIGINAL-URL:https://kalender.seniorinnen.wien
X-WR-CALDESC:Veranstaltungen für Wien für Senior:innen
REFRESH-INTERVAL;VALUE=DURATION:PT1H
X-Robots-Tag:noindex
X-PUBLISHED-TTL:PT1H
BEGIN:VTIMEZONE
TZID:Europe/Berlin
BEGIN:DAYLIGHT
TZOFFSETFROM:+0100
TZOFFSETTO:+0200
TZNAME:CEST
DTSTART:20250330T010000
END:DAYLIGHT
BEGIN:STANDARD
TZOFFSETFROM:+0200
TZOFFSETTO:+0100
TZNAME:CET
DTSTART:20251026T010000
END:STANDARD
BEGIN:DAYLIGHT
TZOFFSETFROM:+0100
TZOFFSETTO:+0200
TZNAME:CEST
DTSTART:20260329T010000
END:DAYLIGHT
BEGIN:STANDARD
TZOFFSETFROM:+0200
TZOFFSETTO:+0100
TZNAME:CET
DTSTART:20261025T010000
END:STANDARD
BEGIN:DAYLIGHT
TZOFFSETFROM:+0100
TZOFFSETTO:+0200
TZNAME:CEST
DTSTART:20270328T010000
END:DAYLIGHT
BEGIN:STANDARD
TZOFFSETFROM:+0200
TZOFFSETTO:+0100
TZNAME:CET
DTSTART:20271031T010000
END:STANDARD
END:VTIMEZONE
BEGIN:VEVENT
DTSTART;TZID=Europe/Berlin:20260124T170000
DTEND;TZID=Europe/Berlin:20260124T170000
DTSTAMP:20260421T174315
CREATED:20260112T123431Z
LAST-MODIFIED:20260112T123431Z
UID:11448-1769274000-1769274000@kalender.seniorinnen.wien
SUMMARY:Kammermusikabend für Querflöte und Klavier
DESCRIPTION:CLUB  DER  WIENER  MUSIKERINNEN \nSamstag\, 24. Jänner 2026\, 17.00 Uhr\n1090 Wien\, Wilhelm Exnergasse 34 \nLisa Eder\, Clara Eitzinger\, Klara Hellsberg\, Theresa Schmid\, Viktoria Solodilova\nQuerflöte \nMaryam Rahbari\nOboe \nMika Mori\nKlavier \nWerke von Ludwig van Beethoven\, Cécile Chaminade\, Benjamin Godard\, Charles Koechlin\, Wolfgang Amadeus Mozart \nGäste herzlich willkommen!\nPlatzreservierung unter Tel. 01 889 53 68 (Anrufbeantworter) \n  \n  \nFoto/Grafik: Freepik
URL:https://kalender.seniorinnen.wien/event/kammermusikabend-fuer-querfloete-und-klavier-2/
LOCATION:Club der Wiener Musikerinnen\, Wilhelm Exnergasse 34\, Wien\, 1190\, Austria
CATEGORIES:Kunst und Kultur,Unterhaltung
ATTACH;FMTTYPE=image/jpeg:https://kalender.seniorinnen.wien/wp-content/uploads/2025/09/abstract_music_notes_background_2504-scaled-e1757432292614.jpg
END:VEVENT
END:VCALENDAR