BEGIN:VCALENDAR
VERSION:2.0
PRODID:-//Wien für Senior:innen - ECPv6.15.17.1//NONSGML v1.0//EN
CALSCALE:GREGORIAN
METHOD:PUBLISH
X-ORIGINAL-URL:https://kalender.seniorinnen.wien
X-WR-CALDESC:Veranstaltungen für Wien für Senior:innen
REFRESH-INTERVAL;VALUE=DURATION:PT1H
X-Robots-Tag:noindex
X-PUBLISHED-TTL:PT1H
BEGIN:VTIMEZONE
TZID:Europe/Berlin
BEGIN:DAYLIGHT
TZOFFSETFROM:+0100
TZOFFSETTO:+0200
TZNAME:CEST
DTSTART:20250330T010000
END:DAYLIGHT
BEGIN:STANDARD
TZOFFSETFROM:+0200
TZOFFSETTO:+0100
TZNAME:CET
DTSTART:20251026T010000
END:STANDARD
BEGIN:DAYLIGHT
TZOFFSETFROM:+0100
TZOFFSETTO:+0200
TZNAME:CEST
DTSTART:20260329T010000
END:DAYLIGHT
BEGIN:STANDARD
TZOFFSETFROM:+0200
TZOFFSETTO:+0100
TZNAME:CET
DTSTART:20261025T010000
END:STANDARD
BEGIN:DAYLIGHT
TZOFFSETFROM:+0100
TZOFFSETTO:+0200
TZNAME:CEST
DTSTART:20270328T010000
END:DAYLIGHT
BEGIN:STANDARD
TZOFFSETFROM:+0200
TZOFFSETTO:+0100
TZNAME:CET
DTSTART:20271031T010000
END:STANDARD
END:VTIMEZONE
BEGIN:VEVENT
DTSTART;TZID=Europe/Berlin:20260122T100000
DTEND;TZID=Europe/Berlin:20260122T120000
DTSTAMP:20260423T105512
CREATED:20260109T095325Z
LAST-MODIFIED:20260109T095325Z
UID:11439-1769076000-1769083200@kalender.seniorinnen.wien
SUMMARY:Kontaktbesuchsdienst: Infotisch in der Bücherei Großjedlersdorf
DESCRIPTION:Infotisch in der Bücherei Großjedlersdorf\n10 bis 12 Uhr\n \nBücherei Großjedlersdorf\nBrünner Straße 138\n1210 Wien \n  \nFoto: Wiener Sozialdienste
URL:https://kalender.seniorinnen.wien/event/kontaktbesuchsdienst-infotisch-in-der-buecherei-grossjedlersdorf/2026-01-22/
LOCATION:Bücherei Großjedlersdorf\, Brünner Str. 138\, Wien\, 1210
CATEGORIES:Information
ATTACH;FMTTYPE=image/jpeg:https://kalender.seniorinnen.wien/wp-content/uploads/2019/08/WISO_Kontaktbesuchsdienst.jpg
END:VEVENT
BEGIN:VEVENT
DTSTART;TZID=Europe/Berlin:20260122T120000
DTEND;TZID=Europe/Berlin:20260122T160000
DTSTAMP:20260423T105512
CREATED:20250930T100925Z
LAST-MODIFIED:20250930T100925Z
UID:10585-1769083200-1769097600@kalender.seniorinnen.wien
SUMMARY:Feelgood - Open House
DESCRIPTION:Feelgood ist ein  norwegisches Trainingskonzept für das niemand ist zu alt oder zu schwach ist. Zwölf automatisierte Geräte im Zirkel mobilisieren und kräftigen den gesamten Bewegungsapparat – sanft\, sicher und ohne Leistungsdruck. In nur 40 Minuten werden Muskeln gestärkt\, Gelenke bewegt und das Wohlbefinden gefördert. Jeder steuert individuell den eigenen Krafteinsatz. Ideal für alle\, die fit bleiben oder wieder einsteigen möchten – unabhängig von Alter oder Erfahrung. \nDas Konzept wirkt vorbeugend und therapeutisch\, denn Bewegung ist die beste aktive Medizin! \nÖffnungszeiten für Mitglieder von 8:00-20:00h\, jeden Tag – auch Sonn- und Feiertage.\nNach Abschluss einer Mitgliedschaft kann man das Trainingsangebot ohne Termin und sooft man möchte nutzen. \nJeden Donnerstag zwischen 12:00 und 16:00  Open House – so kann jeder ohne Termin einfach vorbei kommen und schnuppern und wenn es gefällt einen Termin für eine kostenloses Probetraining vereinbaren. \nWeitere Informationen: \nTel.: +43 664 212 6352\nEmail: info@feelgoodwien-waehring.at \n 
URL:https://kalender.seniorinnen.wien/event/feelgood-open-house/2026-01-22/
LOCATION:Feelgood Wien Währing\, Klostergasse 19\, Wien\, 1180
CATEGORIES:Fit und Gesund
ATTACH;FMTTYPE=image/jpeg:https://kalender.seniorinnen.wien/wp-content/uploads/2025/09/202503_feelgood_low_srgb_credit02-e1759226572583.jpg
END:VEVENT
BEGIN:VEVENT
DTSTART;TZID=Europe/Berlin:20260122T130000
DTEND;TZID=Europe/Berlin:20260122T170000
DTSTAMP:20260423T105512
CREATED:20250905T090845Z
LAST-MODIFIED:20250905T091114Z
UID:9886-1769086800-1769101200@kalender.seniorinnen.wien
SUMMARY:Mein Smartphone verstehen – einfach und sicher im Alltag
DESCRIPTION:Sie möchten Ihr Smartphone besser verstehen und sicher im Alltag nutzen?\nIn dem 3-teiligen-Kurs lernen Sie in entspannter Atmosphäre alles\, was Sie wissen müssen. Von den Grundlagen der Bedienung\, Sicherheit\, bis zu sicherer Kommunikation – wir begleiten Sie Schritt für Schritt. Melden Sie sich jetzt an und entdecken Sie die Möglichkeiten Ihres Smartphones! \n\n12 Unterrichtseinheiten à 50 Minuten geblockt auf 3 Termine\nDer Kurs findet in Präsenz am jeweiligen Veranstaltungsort statt!\nKleine Gruppen von maximal 12 Personen\nSie gestalten die Termine mit! Mit Ihren Fragen und Wünschen!\n\nSpeziell für Senior:innen \nAnmeldung unter:\nhttps://makethedifference.at/digital-workshops/ \nFoto: Make the difference
URL:https://kalender.seniorinnen.wien/event/mein-smartphone-verstehen-einfach-und-sicher-im-alltag-2/2026-01-22/
LOCATION:Bücherei Alsergrund\, Alserbachstraße 11\, Wien\, Wien\, 1090\, Austria
CATEGORIES:Digital und Online
ATTACH;FMTTYPE=image/jpeg:https://kalender.seniorinnen.wien/wp-content/uploads/2025/09/Karte_Seniorinnen-e1757063160766.jpg
ORGANIZER;CN="Make the Difference":MAILTO:theres@makethedifference.at
END:VEVENT
BEGIN:VEVENT
DTSTART;TZID=Europe/Berlin:20260122T140000
DTEND;TZID=Europe/Berlin:20260122T160000
DTSTAMP:20260423T105512
CREATED:20250630T133245Z
LAST-MODIFIED:20251027T074823Z
UID:11140-1769090400-1769097600@kalender.seniorinnen.wien
SUMMARY:Kontaktbesuchsdienst: Sprechstunde für Menschen ab 60 Jahren in Wieden
DESCRIPTION:Die Wiener Sozialdienste informieren alle in Wien lebenden Personen ab 60 Jahren über die sozialen Dienstleistungen der Stadt. \nIn speziellen Sprechstunden werden im 4. Bezirk passende Ansprechpartner:innen\, Telefonnummern und Adressen genannt – rund um Themen wie Freizeitaktivitäten\, Unterstützung für pflegende Angehörige\, Wohnen\, Vorsorge und das digitale Angebot der Stadt. \nTermine jeweils von 11 bis 13 Uhr \n\nDonnerstag\, 10.07.2025\nDonnerstag\, 24.07.2025\nDonnerstag\, 07.08.2025\nDonnerstag\, 21.08.2025\nDonnerstag\, 04.09.2025\n\nTermine jeweils von 14 bis 16 Uhr \n\nDonnerstag\, 20.11.2025\nDonnerstag\, 11.12.2025\nDonnerstag\, 22.01.2026\n\nVeranstaltungsort: \nBücherei Wieden\nFavoritenstraße 8/Eingang Paulanergasse\n1040 Wien \n  \nDie Sprechstunde ist kostenlos. Es ist keine Anmeldung erforderlich. \nOder Sie informieren sich telefonisch während der wöchentlichen Telefonsprechstunde.\nSie erreichen die Wiener Sozialdienste jeden Donnerstag von 13–15 Uhr unter: +43 (1) 98121 1730 oder 1740. \n  \n 
URL:https://kalender.seniorinnen.wien/event/kontaktbesuchsdienst-sprechstunde-fuer-menschen-ab-60-jahren-in-wieden/2026-01-22/
LOCATION:Wien
CATEGORIES:Information
ATTACH;FMTTYPE=image/jpeg:https://kalender.seniorinnen.wien/wp-content/uploads/2019/08/WISO_Kontaktbesuchsdienst.jpg
END:VEVENT
BEGIN:VEVENT
DTSTART;TZID=Europe/Berlin:20260122T163000
DTEND;TZID=Europe/Berlin:20260122T180000
DTSTAMP:20260423T105512
CREATED:20260115T080925Z
LAST-MODIFIED:20260115T080925Z
UID:11516-1769099400-1769104800@kalender.seniorinnen.wien
SUMMARY:Gelesene Erinnerungen\, Buchpräsentation
DESCRIPTION:Jüdisches Museum Wien\, Museum Dorotheergasse\nEintritt frei für die Lesungen zwischen 16.30 bis 18 Uhr \nMuseumsbesuch zu normalen Eintrittspreisen\nAnmeldung/Buchung: möglich\, aber nicht notwendig \nhttps://www.jmw.at/events/gelesene_erinnerungen \nFoto: JMW
URL:https://kalender.seniorinnen.wien/event/gelesene-erinnerungen-buchpraesentation/
LOCATION:Jüdisches Museum Wien – Museum Dorotheergasse\, Dorotheergasse 11\, Wien\, 1010
CATEGORIES:Begegnung,Bildung
ATTACH;FMTTYPE=image/jpeg:https://kalender.seniorinnen.wien/wp-content/uploads/2026/01/Gelesene-Erinnerungen-JMW.jpg
END:VEVENT
BEGIN:VEVENT
DTSTART;TZID=Europe/Berlin:20260122T180000
DTEND;TZID=Europe/Berlin:20260122T180000
DTSTAMP:20260423T105512
CREATED:20251001T111609Z
LAST-MODIFIED:20251001T111609Z
UID:11017-1769104800-1769104800@kalender.seniorinnen.wien
SUMMARY:BLEIBE FIT FÜRS LEBEN
DESCRIPTION:BLEIBE FIT FÜRS LEBEN\nfitfellows: Les Mills THRIVE – Dein sanftes Krafttraining für Seniorinnen und Senioren \nDonnerstags\, 18:00 Uhr (weitere Termine in Planung!)\nPrinz-Eugen-Straße 34\, 1040 Wien (im New Wave Gym) \nFür wen ist dieser Kurs geeignet?\nDieser Kurs richtet sich an alle Senior:innen\, die ihre Mobilität\, Balance und Kraft im Alltag erhalten und verbessern möchten – ideal für Einsteiger:innen\, Wiedereinsteiger:innen und alle\, die ein gelenkschonendes Training mit Spaß und Gemeinschaft suchen. \nWas erwartet dich?\nIn 45 Minuten kombinieren wir gezielte Übungen aus dem Les Mills THRIVE-Programm\, das speziell für Menschen ab 55 Jahren entwickelt wurde. Das Training ist begleitet von motivierender Musik\, die jede Bewegung unterstützt und den Rhythmus vorgibt – so wird dein Krafttraining zu einem lebendigen Erlebnis. Du stärkst deine Bein- und Rumpfmuskulatur\, verbesserst deine Flexibilität und Balance – alles in deinem eigenen Tempo und mit individueller Unterstützung. \nWarum Les Mills THRIVE bei fitfellows?\n• gelenkschonend und sicher – ideal für alle Fitnesslevels\n• mit optionaler Unterstützung durch Sessel\, Matte\, Widerstandsbänder oder leichte Gewichte\n• wissenschaftlich fundiert und von Expert:innen entwickelt\n• mit motivierender Musik\, die jede Übung unterstützt\n• persönliche Betreuung in kleiner Gruppe \nWenn du persönliche Betreuung mit Herz suchst\, bist du bei fitfellows genau richtig! \nkostenloses Schnuppern für Senior:innen\nAnmeldung oder Fragen: michael@fitfellows.at \nWeitere Kurszeiten sind bei entsprechender Nachfrage möglich! \nFoto: Fitfellows
URL:https://kalender.seniorinnen.wien/event/bleibe-fit-fuers-leben/2026-01-22/
LOCATION:New Wave Gym\, Prinz-Eugen-Straße 34\, Wien\, Wien\, 1040
CATEGORIES:Fit und Gesund
ATTACH;FMTTYPE=image/jpeg:https://kalender.seniorinnen.wien/wp-content/uploads/2025/10/fitfellows-e1759316912688.jpg
END:VEVENT
END:VCALENDAR