BEGIN:VCALENDAR
VERSION:2.0
PRODID:-//Wien für Senior:innen - ECPv6.15.17.1//NONSGML v1.0//EN
CALSCALE:GREGORIAN
METHOD:PUBLISH
X-ORIGINAL-URL:https://kalender.seniorinnen.wien
X-WR-CALDESC:Veranstaltungen für Wien für Senior:innen
REFRESH-INTERVAL;VALUE=DURATION:PT1H
X-Robots-Tag:noindex
X-PUBLISHED-TTL:PT1H
BEGIN:VTIMEZONE
TZID:Europe/Berlin
BEGIN:DAYLIGHT
TZOFFSETFROM:+0100
TZOFFSETTO:+0200
TZNAME:CEST
DTSTART:20240331T010000
END:DAYLIGHT
BEGIN:STANDARD
TZOFFSETFROM:+0200
TZOFFSETTO:+0100
TZNAME:CET
DTSTART:20241027T010000
END:STANDARD
BEGIN:DAYLIGHT
TZOFFSETFROM:+0100
TZOFFSETTO:+0200
TZNAME:CEST
DTSTART:20250330T010000
END:DAYLIGHT
BEGIN:STANDARD
TZOFFSETFROM:+0200
TZOFFSETTO:+0100
TZNAME:CET
DTSTART:20251026T010000
END:STANDARD
BEGIN:DAYLIGHT
TZOFFSETFROM:+0100
TZOFFSETTO:+0200
TZNAME:CEST
DTSTART:20260329T010000
END:DAYLIGHT
BEGIN:STANDARD
TZOFFSETFROM:+0200
TZOFFSETTO:+0100
TZNAME:CET
DTSTART:20261025T010000
END:STANDARD
END:VTIMEZONE
BEGIN:VEVENT
DTSTART;TZID=Europe/Berlin:20251219T133000
DTEND;TZID=Europe/Berlin:20251219T143000
DTSTAMP:20260424T213121
CREATED:20251127T115856Z
LAST-MODIFIED:20251127T115856Z
UID:11283-1766151000-1766154600@kalender.seniorinnen.wien
SUMMARY:Haus Neubau: Demenzsprechstunden
DESCRIPTION:Netzwerk Demenzfreundlicher Bezirk Neubau\nDemenzsprechstunden\n19.12.2025\, 13:30-14:30 Uhr.\nBitte mit Anmeldung! \nSprechstunden\nOnline im Veranstaltungskalender der Pensionist*innenklubs. Dieser wird monatlich befüllt. \nFoto: Pixabay
URL:https://kalender.seniorinnen.wien/event/haus-neubau-demenzsprechstunden/
LOCATION:Haus Neubau\, Schottenfeldgasse 25-27\, Wien\, Wien\, 1070\, Austria
CATEGORIES:Demenz,Information
ATTACH;FMTTYPE=image/jpeg:https://kalender.seniorinnen.wien/wp-content/uploads/2025/05/Schriftzug-Demenz-©Pixabay.jpg
END:VEVENT
END:VCALENDAR