BEGIN:VCALENDAR
VERSION:2.0
PRODID:-//Wien für Senior:innen - ECPv6.15.17.1//NONSGML v1.0//EN
CALSCALE:GREGORIAN
METHOD:PUBLISH
X-ORIGINAL-URL:https://kalender.seniorinnen.wien
X-WR-CALDESC:Veranstaltungen für Wien für Senior:innen
REFRESH-INTERVAL;VALUE=DURATION:PT1H
X-Robots-Tag:noindex
X-PUBLISHED-TTL:PT1H
BEGIN:VTIMEZONE
TZID:Europe/Berlin
BEGIN:DAYLIGHT
TZOFFSETFROM:+0100
TZOFFSETTO:+0200
TZNAME:CEST
DTSTART:20240331T010000
END:DAYLIGHT
BEGIN:STANDARD
TZOFFSETFROM:+0200
TZOFFSETTO:+0100
TZNAME:CET
DTSTART:20241027T010000
END:STANDARD
BEGIN:DAYLIGHT
TZOFFSETFROM:+0100
TZOFFSETTO:+0200
TZNAME:CEST
DTSTART:20250330T010000
END:DAYLIGHT
BEGIN:STANDARD
TZOFFSETFROM:+0200
TZOFFSETTO:+0100
TZNAME:CET
DTSTART:20251026T010000
END:STANDARD
BEGIN:DAYLIGHT
TZOFFSETFROM:+0100
TZOFFSETTO:+0200
TZNAME:CEST
DTSTART:20260329T010000
END:DAYLIGHT
BEGIN:STANDARD
TZOFFSETFROM:+0200
TZOFFSETTO:+0100
TZNAME:CET
DTSTART:20261025T010000
END:STANDARD
END:VTIMEZONE
BEGIN:VEVENT
DTSTART;TZID=Europe/Berlin:20251023T130000
DTEND;TZID=Europe/Berlin:20251023T160000
DTSTAMP:20260425T002046
CREATED:20250905T101944Z
LAST-MODIFIED:20250905T132239Z
UID:9920-1761224400-1761235200@kalender.seniorinnen.wien
SUMMARY:Informations-Nachmittag im Haus Döbling
DESCRIPTION:Das Haus Döbling lädt Sie herzlich ein\, unser Pensionisten-Wohnhaus bei einem Info-Nachmittag näher kennenzulernen. \nAn diesem Nachmittag bieten wir Ihnen \n• Hausführungen\, bei denen Sie unsere Räumlichkeiten persönlich sehen können\n• Informationen zum Ehrenamt in unserem Haus\n• Einblicke in den HausKlub – unser vielfältiges Freizeitangebot\n• Wissenswertes zum Zivildienst\, sowie\n• eine Ausstellung von Bildern unserer Bewohner*innen \nEine Anmeldung ist nicht erforderlich – kommen Sie einfach vorbei. \nFoto: KWP \n 
URL:https://kalender.seniorinnen.wien/event/informations-nachmittag-im-haus-doebling/
LOCATION:KWP – Haus Döbling\, Grinzinger Allee 26\, Wien\, Wien\, 1190\, Austria
ATTACH;FMTTYPE=image/jpeg:https://kalender.seniorinnen.wien/wp-content/uploads/2025/09/Haus-Doebling-e1757067524850.jpg
END:VEVENT
BEGIN:VEVENT
DTSTART;TZID=Europe/Berlin:20251023T140000
DTEND;TZID=Europe/Berlin:20251023T160000
DTSTAMP:20260425T002046
CREATED:20250831T230018Z
LAST-MODIFIED:20250828T100818Z
UID:8923-1761228000-1761235200@kalender.seniorinnen.wien
SUMMARY:Halloween-Party
DESCRIPTION:Auch die Klubs feiern Halloween und laden zu einer schwungvollen und gruseligen Feier bei schaurig-schöner Deko und Musik zum Mitschunkeln. Es herrscht kein Kostümzwang\, aber Monster\, Hexen und Vampire sind herzlich willkommen! Haben Sie schon Gänsehaut? \nAnmeldung bis 16.10. \nTel: 01 313 99 276 101\nE-Mail: pk.gumpendorferstraße@kwp.at\nWebsite: www.dieklubs.at \nFoto: KWP
URL:https://kalender.seniorinnen.wien/event/halloween-party/
LOCATION:Pensionist:innen Klub Gumpendorf\, Gumpendorfer Straße 117\, Wien\, Wien\, 1060\, Austria
CATEGORIES:Monat der Senior:innen
ATTACH;FMTTYPE=image/jpeg:https://kalender.seniorinnen.wien/wp-content/uploads/2025/08/Halloween-e1755783509578.jpg
ORGANIZER;CN="Pensionist*innenklubs f%C3%BCr die Stadt Wien":MAILTO:pk.gumpendorferstraße@kwp.at
END:VEVENT
BEGIN:VEVENT
DTSTART;TZID=Europe/Berlin:20251023T143000
DTEND;TZID=Europe/Berlin:20251023T170000
DTSTAMP:20260425T002046
CREATED:20250831T230003Z
LAST-MODIFIED:20250826T115959Z
UID:8817-1761229800-1761238800@kalender.seniorinnen.wien
SUMMARY:Auf den Spuren berühmter Meidlinger Frauen
DESCRIPTION:Ein gemütlicher Spaziergang auf den Spuren berühmter Meidlinger Frauen: von Hedy Lamarr\, Helene Potetz\, Gertrude Wondrack\, Helly Möslein\, Miep Gies bis Kaiserin Elisabeth.\nAusklang in einem Gastgarten. \nTreffpunkt um 14:30 Uhr: Klub Meidlinger Hauptstraße 4\, 1120 Wien \nMaximal 30 Teilnehmende \nAnmeldung bis 12.10.:\nTel.: 0664 460 45 33\nE-Mail: anna.bolovich@spw.at
URL:https://kalender.seniorinnen.wien/event/auf-den-spuren-beruehmter-meidlinger-frauen/
LOCATION:Pensionist*innenklub Meidling\, Meidlinger Hauptstraße 4\, Wien\, Wien\, 1120\, Österreich
CATEGORIES:Bildung,Demenz,Kunst und Kultur,Monat der Senior:innen
ATTACH;FMTTYPE=image/jpeg:https://kalender.seniorinnen.wien/wp-content/uploads/2025/08/Pixabay_happy-holidays-2567915_1280-e1754480710679.jpg
END:VEVENT
END:VCALENDAR