BEGIN:VCALENDAR
VERSION:2.0
PRODID:-//Wien für Senior:innen - ECPv6.15.17.1//NONSGML v1.0//EN
CALSCALE:GREGORIAN
METHOD:PUBLISH
X-WR-CALNAME:Wien für Senior:innen
X-ORIGINAL-URL:https://kalender.seniorinnen.wien
X-WR-CALDESC:Veranstaltungen für Wien für Senior:innen
REFRESH-INTERVAL;VALUE=DURATION:PT1H
X-Robots-Tag:noindex
X-PUBLISHED-TTL:PT1H
BEGIN:VTIMEZONE
TZID:Europe/Berlin
BEGIN:DAYLIGHT
TZOFFSETFROM:+0100
TZOFFSETTO:+0200
TZNAME:CEST
DTSTART:20240331T010000
END:DAYLIGHT
BEGIN:STANDARD
TZOFFSETFROM:+0200
TZOFFSETTO:+0100
TZNAME:CET
DTSTART:20241027T010000
END:STANDARD
BEGIN:DAYLIGHT
TZOFFSETFROM:+0100
TZOFFSETTO:+0200
TZNAME:CEST
DTSTART:20250330T010000
END:DAYLIGHT
BEGIN:STANDARD
TZOFFSETFROM:+0200
TZOFFSETTO:+0100
TZNAME:CET
DTSTART:20251026T010000
END:STANDARD
BEGIN:DAYLIGHT
TZOFFSETFROM:+0100
TZOFFSETTO:+0200
TZNAME:CEST
DTSTART:20260329T010000
END:DAYLIGHT
BEGIN:STANDARD
TZOFFSETFROM:+0200
TZOFFSETTO:+0100
TZNAME:CET
DTSTART:20261025T010000
END:STANDARD
END:VTIMEZONE
BEGIN:VEVENT
DTSTART;TZID=Europe/Berlin:20251022T150000
DTEND;TZID=Europe/Berlin:20251022T170000
DTSTAMP:20260425T002038
CREATED:20250831T230044Z
LAST-MODIFIED:20250828T100043Z
UID:8894-1761145200-1761152400@kalender.seniorinnen.wien
SUMMARY:VHS-Senior:innenquiz
DESCRIPTION:Treten Sie in einem 4er-Team an und testen Sie Ihr Wissen: Auf die klügsten Köpfe warten tolle Preise. Oder rätseln Sie nur zum Spaß im Publikum mit. \nAnmeldung unter: \nTel: 01 313 99 170 112\nWebsite: www.dieklubs.at \n  \nFoto: Pixabay
URL:https://kalender.seniorinnen.wien/event/vhs-seniorinnenquiz/
LOCATION:Klub Rabengasse 2-10\, 1030 Wien\, Rabengasse 2-10\, 1030 Wien\, Wien\, 1030\, Austria
CATEGORIES:Monat der Senior:innen
ATTACH;FMTTYPE=image/jpeg:https://kalender.seniorinnen.wien/wp-content/uploads/2025/08/woman-687560_1280-e1755782039464.jpg
END:VEVENT
END:VCALENDAR