BEGIN:VCALENDAR
VERSION:2.0
PRODID:-//Wien für Senior:innen - ECPv6.15.17.1//NONSGML v1.0//EN
CALSCALE:GREGORIAN
METHOD:PUBLISH
X-WR-CALNAME:Wien für Senior:innen
X-ORIGINAL-URL:https://kalender.seniorinnen.wien
X-WR-CALDESC:Veranstaltungen für Wien für Senior:innen
REFRESH-INTERVAL;VALUE=DURATION:PT1H
X-Robots-Tag:noindex
X-PUBLISHED-TTL:PT1H
BEGIN:VTIMEZONE
TZID:Europe/Berlin
BEGIN:DAYLIGHT
TZOFFSETFROM:+0100
TZOFFSETTO:+0200
TZNAME:CEST
DTSTART:20240331T010000
END:DAYLIGHT
BEGIN:STANDARD
TZOFFSETFROM:+0200
TZOFFSETTO:+0100
TZNAME:CET
DTSTART:20241027T010000
END:STANDARD
BEGIN:DAYLIGHT
TZOFFSETFROM:+0100
TZOFFSETTO:+0200
TZNAME:CEST
DTSTART:20250330T010000
END:DAYLIGHT
BEGIN:STANDARD
TZOFFSETFROM:+0200
TZOFFSETTO:+0100
TZNAME:CET
DTSTART:20251026T010000
END:STANDARD
BEGIN:DAYLIGHT
TZOFFSETFROM:+0100
TZOFFSETTO:+0200
TZNAME:CEST
DTSTART:20260329T010000
END:DAYLIGHT
BEGIN:STANDARD
TZOFFSETFROM:+0200
TZOFFSETTO:+0100
TZNAME:CET
DTSTART:20261025T010000
END:STANDARD
END:VTIMEZONE
BEGIN:VEVENT
DTSTART;TZID=Europe/Berlin:20251009T120000
DTEND;TZID=Europe/Berlin:20251009T170000
DTSTAMP:20260425T002022
CREATED:20250831T230008Z
LAST-MODIFIED:20250828T120028Z
UID:8992-1760011200-1760029200@kalender.seniorinnen.wien
SUMMARY:Info-Heurigen-Nachmittag
DESCRIPTION:Informieren Sie sich über die kostenlosen Angebote in den Klubs und genießen Sie in netter Atmosphäre und guter Gesellschaft gemeinsame Stunden. \nMax. 60 Teilnehmer:innen \nAnmeldung bis 26.9. \nTel: 0676 832 501 069 \n  \nFoto: Pixabay
URL:https://kalender.seniorinnen.wien/event/info-heurigen-nachmittag/
LOCATION:Pensionist*innenklub Obkirchergasse\, Obkirchergasse 16 / 3\, Wien\, 1190
CATEGORIES:Monat der Senior:innen,Unterhaltung
ATTACH;FMTTYPE=image/jpeg:https://kalender.seniorinnen.wien/wp-content/uploads/2024/08/beer-garden-685258_1280-e1755853311325.jpg
ORGANIZER;CN="Pensionist*innenklubs f%C3%BCr die Stadt Wien":MAILTO:pk.gumpendorferstraße@kwp.at
END:VEVENT
BEGIN:VEVENT
DTSTART;TZID=Europe/Berlin:20251009T140000
DTEND;TZID=Europe/Berlin:20251009T160000
DTSTAMP:20260425T002022
CREATED:20250831T230023Z
LAST-MODIFIED:20250929T094041Z
UID:9087-1760018400-1760025600@kalender.seniorinnen.wien
SUMMARY:ABGESAGT Resilienz und Selbstfürsorge
DESCRIPTION:Diese Veranstaltung wurde leider abgesagt.\nSensibilisierung und Fachwissen\nEigene Bedürfnisse bewusst wahrzunehmen und gut für den eigenen Körper und Geist zu sorgen ist mitunter nicht immer einfach. Fachexpert:innen des Fonds Soziales Wien (FSW) kommen in den Klub und informieren in einem kostenlosen Workshop zum Thema Resilienz und Selbstfürsorge. \nmax. 20 Teilnehmer:innen \nAnmeldung bis 30.9. \nTel.: 01 313 99 170112\nE-Mail: pk@kwp.at \nFoto: KWP
URL:https://kalender.seniorinnen.wien/event/resilienz-und-selbstfuersorge/
LOCATION:Klub+ „All in Breitenlee“\, Lotte-Hass-Weg 2/1A\, Wien\, Wien\, 1220\, Austria
CATEGORIES:Monat der Senior:innen
ATTACH;FMTTYPE=image/png:https://kalender.seniorinnen.wien/wp-content/uploads/2025/08/Resilienz-e1755867507148.png
END:VEVENT
BEGIN:VEVENT
DTSTART;TZID=Europe/Berlin:20251009T150000
DTEND;TZID=Europe/Berlin:20251009T160000
DTSTAMP:20260425T002022
CREATED:20250831T230050Z
LAST-MODIFIED:20250828T093029Z
UID:8758-1760022000-1760025600@kalender.seniorinnen.wien
SUMMARY:Workshop "Rechte der Senior:innen"
DESCRIPTION:Informieren Sie sich über die neue Rechtslage für Senior:innen und stellen Sie Ihre juristischen Fragen! \nKeine Anmeldung erforderlich! \nWebsite: https://kwp.at/pensionistenklubs/clubs/ketzergasse-40-siebenhirten/ \n  \nFoto: pixabay
URL:https://kalender.seniorinnen.wien/event/workshop-rechte-der-seniorinnen/
LOCATION:Klub Ketzergasse 40\, Ketzergasse 40\, Wien\, Wien\, 1230\, Austria
CATEGORIES:Monat der Senior:innen
ATTACH;FMTTYPE=image/jpeg:https://kalender.seniorinnen.wien/wp-content/uploads/2025/08/20250813-Buch-Block-Stift-pixabay-e1757430096225.jpg
END:VEVENT
BEGIN:VEVENT
DTSTART;TZID=Europe/Berlin:20251009T150000
DTEND;TZID=Europe/Berlin:20251009T160000
DTSTAMP:20260425T002022
CREATED:20250905T121939Z
LAST-MODIFIED:20250905T123957Z
UID:9929-1760022000-1760025600@kalender.seniorinnen.wien
SUMMARY:Konzert "Zauber einer Geige"
DESCRIPTION:Konzert\nMag. Doina Fischer tritt mit ihrem Programm „Zauber einer Geige“ im GastHaus auf. Für eine süße Köstlichkeit wird gesorgt. \nmax. 30 Teilnehmer:innen \nAnmeldung am MarktPlatz:\nTel.: 01313 99 1260 \nFür Klubmitglieder kostenlos\, 10€ für Nicht-Klubmitglieder \nFoto: Freepik
URL:https://kalender.seniorinnen.wien/event/konzert-zauber-einer-geige/
LOCATION:KWP – Haus am Mühlengrund\, Breitenfurter Str. 269-279\, Wien\, Wien\, 1230\, Austria
CATEGORIES:Unterhaltung
ATTACH;FMTTYPE=image/jpeg:https://kalender.seniorinnen.wien/wp-content/uploads/2025/09/old-violin-black-background-scaled-e1757074620536.jpg
END:VEVENT
END:VCALENDAR