BEGIN:VCALENDAR
VERSION:2.0
PRODID:-//Wien für Senior:innen - ECPv6.15.17.1//NONSGML v1.0//EN
CALSCALE:GREGORIAN
METHOD:PUBLISH
X-ORIGINAL-URL:https://kalender.seniorinnen.wien
X-WR-CALDESC:Veranstaltungen für Wien für Senior:innen
REFRESH-INTERVAL;VALUE=DURATION:PT1H
X-Robots-Tag:noindex
X-PUBLISHED-TTL:PT1H
BEGIN:VTIMEZONE
TZID:Europe/Berlin
BEGIN:DAYLIGHT
TZOFFSETFROM:+0100
TZOFFSETTO:+0200
TZNAME:CEST
DTSTART:20240331T010000
END:DAYLIGHT
BEGIN:STANDARD
TZOFFSETFROM:+0200
TZOFFSETTO:+0100
TZNAME:CET
DTSTART:20241027T010000
END:STANDARD
BEGIN:DAYLIGHT
TZOFFSETFROM:+0100
TZOFFSETTO:+0200
TZNAME:CEST
DTSTART:20250330T010000
END:DAYLIGHT
BEGIN:STANDARD
TZOFFSETFROM:+0200
TZOFFSETTO:+0100
TZNAME:CET
DTSTART:20251026T010000
END:STANDARD
BEGIN:DAYLIGHT
TZOFFSETFROM:+0100
TZOFFSETTO:+0200
TZNAME:CEST
DTSTART:20260329T010000
END:DAYLIGHT
BEGIN:STANDARD
TZOFFSETFROM:+0200
TZOFFSETTO:+0100
TZNAME:CET
DTSTART:20261025T010000
END:STANDARD
END:VTIMEZONE
BEGIN:VEVENT
DTSTART;VALUE=DATE:20250501
DTEND;VALUE=DATE:20251001
DTSTAMP:20260425T004316
CREATED:20240416T090348Z
LAST-MODIFIED:20250512T140258Z
UID:5654-1746057600-1759276799@kalender.seniorinnen.wien
SUMMARY:„Auf geht’s“ in die Ausflugs-Saison 2025 mit dem KWP
DESCRIPTION:Erleben Sie unvergessliche Abenteuer und erholsame „Kurzurlaube“: \nEine Schifffahrt am malerischen Neusiedlersee\, einen Spaziergang auf der Rax oder am Alpaka-Hof\, wo tierische Freundschaften geknüpft werden  – diese und viele weitere begleitete  Tages- und Halbtagesausflüge können Sie in der Broschüre „Ausflüge 2025“ entdecken. \nVon Mai bis September können alle Senior*innen Wiens zu kostengünstigen Tarifen an vielfältigen Ausflugsfahrten teilnehmen. Entweder Ausflugsbroschüre direkt in einem Bezirksklub abholen oder online ansehen: Ausflüge – Pensionist*innenklubs (kwp.at). \nFür alle Fragen und Auskünfte steht Ihnen die KWP-Hotline zur Verfügung unter: 01 313 99-170 112.
URL:https://kalender.seniorinnen.wien/event/auf-gehts-in-die-ausflugs-saison-mit-dem-kwp/
LOCATION:Wien
CATEGORIES:Ausflüge,Begegnung
ATTACH;FMTTYPE=image/jpeg:https://kalender.seniorinnen.wien/wp-content/uploads/2025/05/Ausflug-01©Haeuser-zum-Leben.jpg
END:VEVENT
BEGIN:VEVENT
DTSTART;TZID=Europe/Berlin:20250930T110000
DTEND;TZID=Europe/Berlin:20250930T153000
DTSTAMP:20260425T004316
CREATED:20250630T123406Z
LAST-MODIFIED:20250826T112559Z
UID:7969-1759230000-1759246200@kalender.seniorinnen.wien
SUMMARY:7. Senior:innen Nordic Walking Day 2025
DESCRIPTION:Am 30. September 2025 findet von 11 bis 15:30 Uhr der Nordic Walking Day der Pensionist:innenklubs in der Prater Hauptallee (Höhe Planetarium) statt. \nDie Klubs widmen dem beliebten Ausdauersport einen Tag voll Bewegung\, Geselligkeit und Lebensfreude. Sichern Sie sich einen Startplatz (gegen Gebühr) oder seien Sie als Zuschauer:in beim großen Sportfest dabei! \nGestartet wird in mehreren Startblöcken\, getrennt nach Geschlechtern sowie in den Alterskategorien unter 60\, 60plus\, 70plus\, 80plus und 90plus.\nZur Auswahl stehen die Streckendistanzen von 2\,5 Kilometer oder 5 Kilometer. \nDie Veranstalter weisen darauf hin\, dass der gemeinsame Lauf offen für alle Senior:innen und unabhängig von ihrer Mobilität ist.\nUnterstützung für immobile Teilnehmer:innen ist daher ausdrücklich erlaubt und erwünscht. \nEin buntes Rahmenprogramm in der Hauptallee und auf der Kaiserwiesn rundet den Besuch ab. \nSiegerehrung um 13 Uhr im Kaiserzelt! \nDie Teilnahmegebühr beträgt 10 Euro pro Person. \nDie Anmeldung ist online oder persönlich in allen Pensionist*innenklubs für die Stadt Wien (Tel. 01 313 99 170 112) möglich.\nAnmeldeschluss ist am 23. September 2025. \nFoto: KWP
URL:https://kalender.seniorinnen.wien/event/7-seniorinnen-nordic-walking-day-2025/
LOCATION:Prater Hauptallee\, Prater Hauptallee\, Wien\, 1020
CATEGORIES:Begegnung,Fit und Gesund,Monat der Senior:innen
ATTACH;FMTTYPE=image/jpeg:https://kalender.seniorinnen.wien/wp-content/uploads/2025/06/Nordic-Walking-Day_cKWP.jpg
END:VEVENT
END:VCALENDAR