BEGIN:VCALENDAR
VERSION:2.0
PRODID:-//Wien für Senior:innen - ECPv6.15.17.1//NONSGML v1.0//EN
CALSCALE:GREGORIAN
METHOD:PUBLISH
X-WR-CALNAME:Wien für Senior:innen
X-ORIGINAL-URL:https://kalender.seniorinnen.wien
X-WR-CALDESC:Veranstaltungen für Wien für Senior:innen
REFRESH-INTERVAL;VALUE=DURATION:PT1H
X-Robots-Tag:noindex
X-PUBLISHED-TTL:PT1H
BEGIN:VTIMEZONE
TZID:Europe/Berlin
BEGIN:DAYLIGHT
TZOFFSETFROM:+0100
TZOFFSETTO:+0200
TZNAME:CEST
DTSTART:20240331T010000
END:DAYLIGHT
BEGIN:STANDARD
TZOFFSETFROM:+0200
TZOFFSETTO:+0100
TZNAME:CET
DTSTART:20241027T010000
END:STANDARD
BEGIN:DAYLIGHT
TZOFFSETFROM:+0100
TZOFFSETTO:+0200
TZNAME:CEST
DTSTART:20250330T010000
END:DAYLIGHT
BEGIN:STANDARD
TZOFFSETFROM:+0200
TZOFFSETTO:+0100
TZNAME:CET
DTSTART:20251026T010000
END:STANDARD
BEGIN:DAYLIGHT
TZOFFSETFROM:+0100
TZOFFSETTO:+0200
TZNAME:CEST
DTSTART:20260329T010000
END:DAYLIGHT
BEGIN:STANDARD
TZOFFSETFROM:+0200
TZOFFSETTO:+0100
TZNAME:CET
DTSTART:20261025T010000
END:STANDARD
END:VTIMEZONE
BEGIN:VEVENT
DTSTART;VALUE=DATE:20250501
DTEND;VALUE=DATE:20251001
DTSTAMP:20260425T045656
CREATED:20240416T090348Z
LAST-MODIFIED:20250512T140258Z
UID:5654-1746057600-1759276799@kalender.seniorinnen.wien
SUMMARY:„Auf geht’s“ in die Ausflugs-Saison 2025 mit dem KWP
DESCRIPTION:Erleben Sie unvergessliche Abenteuer und erholsame „Kurzurlaube“: \nEine Schifffahrt am malerischen Neusiedlersee\, einen Spaziergang auf der Rax oder am Alpaka-Hof\, wo tierische Freundschaften geknüpft werden  – diese und viele weitere begleitete  Tages- und Halbtagesausflüge können Sie in der Broschüre „Ausflüge 2025“ entdecken. \nVon Mai bis September können alle Senior*innen Wiens zu kostengünstigen Tarifen an vielfältigen Ausflugsfahrten teilnehmen. Entweder Ausflugsbroschüre direkt in einem Bezirksklub abholen oder online ansehen: Ausflüge – Pensionist*innenklubs (kwp.at). \nFür alle Fragen und Auskünfte steht Ihnen die KWP-Hotline zur Verfügung unter: 01 313 99-170 112.
URL:https://kalender.seniorinnen.wien/event/auf-gehts-in-die-ausflugs-saison-mit-dem-kwp/
LOCATION:Wien
CATEGORIES:Ausflüge,Begegnung
ATTACH;FMTTYPE=image/jpeg:https://kalender.seniorinnen.wien/wp-content/uploads/2025/05/Ausflug-01©Haeuser-zum-Leben.jpg
END:VEVENT
BEGIN:VEVENT
DTSTART;TZID=Europe/Berlin:20250717T130000
DTEND;TZID=Europe/Berlin:20250717T180000
DTSTAMP:20260425T045656
CREATED:20250512T134146Z
LAST-MODIFIED:20250512T134146Z
UID:7909-1752757200-1752775200@kalender.seniorinnen.wien
SUMMARY:Senior:innen unterwegs – Ausflüge Juli & August 2025
DESCRIPTION:Die Pensionist:innenklubs bieten im Juli und August zum Preis von EUR 7\,- begleitete Nachmittagsausflüge mit klimatisierten Reisebussen in Erholungsgebiete in und um Wien. \n  \nDie Fahrten finden in den Monaten Juli und August\, immer Montags bis Donnerstag in der Zeit von 13 bis 18 Uhr statt. Feiertage sind ausgenommen. \nEin klimatisierter Reisebus bringt die Teilnehmerinnen und Teilnehmer sicher ans gewünschte Ausflugsziel. \nDie Ausflüge starten bei unterschiedlichen Abfahrtsstellen in ganz Wien. \nDie Fahrkarten können um 7 Euro direkt im Bus erworben werden. Keine Anmeldung notwendig! \nSenior*innen unterwegs 2025 – Pensionist*innenklubs \nInfos zu Senior*innen unterwegs:\nPensionist*innenklubs für die Stadt Wien\nTel.: 01 313 99-170 112\nE-Mail: pk-ausfluege@kwp.at\nwww.dieklubs.at
URL:https://kalender.seniorinnen.wien/event/seniorinnen-unterwegs-ausfluege-juli-august-2025/2025-07-17/
LOCATION:Wien
CATEGORIES:Ausflüge,Begegnung
ATTACH;FMTTYPE=image/jpeg:https://kalender.seniorinnen.wien/wp-content/uploads/2025/05/Ausflug-02©Haeuser-zum-Leben.jpg
END:VEVENT
BEGIN:VEVENT
DTSTART;TZID=Europe/Berlin:20250717T150000
DTEND;TZID=Europe/Berlin:20250717T180000
DTSTAMP:20260425T045656
CREATED:20250717T092311Z
LAST-MODIFIED:20250717T092728Z
UID:8006-1752764400-1752775200@kalender.seniorinnen.wien
SUMMARY:Lebenslust am Donaukanal
DESCRIPTION:Die Pensionist:innenklubs der Stadt Wien rocken den Donaukanal und bespielen in Kooperation mit der Kulturinitiative das WERK die Freiluftbühne am Wiener Donaukanal. \nSalsa mit Yuri und Freddy \nVeranstaltungstermin:\n17. Juli 2025\, 15 – 18 Uhr \nDer Eintritt ist frei.\nEs herrscht Selbstkonsumation vor Ort. \nVeranstaltungsort:\nFreiluftbühne das WERK\, Spittelauerlände 12\, Stadtbahnbögen 331/333\, 1090 Wien
URL:https://kalender.seniorinnen.wien/event/lebenslust-am-donaukanal/
LOCATION:Werk\, Spittelauerlände 12\, Stadtbahnbögen 331/333\, Wien\, Wien\, 1090\, Austria
CATEGORIES:Begegnung,Unterhaltung
ATTACH;FMTTYPE=image/jpeg:https://kalender.seniorinnen.wien/wp-content/uploads/2025/07/Lebenslust-am-Donaukanal_Auftakt_Foto_DieKlubs.jpg
END:VEVENT
END:VCALENDAR