BEGIN:VCALENDAR
VERSION:2.0
PRODID:-//Wien für Senior:innen - ECPv6.15.17.1//NONSGML v1.0//EN
CALSCALE:GREGORIAN
METHOD:PUBLISH
X-ORIGINAL-URL:https://kalender.seniorinnen.wien
X-WR-CALDESC:Veranstaltungen für Wien für Senior:innen
REFRESH-INTERVAL;VALUE=DURATION:PT1H
X-Robots-Tag:noindex
X-PUBLISHED-TTL:PT1H
BEGIN:VTIMEZONE
TZID:Europe/Berlin
BEGIN:DAYLIGHT
TZOFFSETFROM:+0100
TZOFFSETTO:+0200
TZNAME:CEST
DTSTART:20230326T010000
END:DAYLIGHT
BEGIN:STANDARD
TZOFFSETFROM:+0200
TZOFFSETTO:+0100
TZNAME:CET
DTSTART:20231029T010000
END:STANDARD
BEGIN:DAYLIGHT
TZOFFSETFROM:+0100
TZOFFSETTO:+0200
TZNAME:CEST
DTSTART:20240331T010000
END:DAYLIGHT
BEGIN:STANDARD
TZOFFSETFROM:+0200
TZOFFSETTO:+0100
TZNAME:CET
DTSTART:20241027T010000
END:STANDARD
BEGIN:DAYLIGHT
TZOFFSETFROM:+0100
TZOFFSETTO:+0200
TZNAME:CEST
DTSTART:20250330T010000
END:DAYLIGHT
BEGIN:STANDARD
TZOFFSETFROM:+0200
TZOFFSETTO:+0100
TZNAME:CET
DTSTART:20251026T010000
END:STANDARD
END:VTIMEZONE
BEGIN:VEVENT
DTSTART;TZID=Europe/Berlin:20240214T183000
DTEND;TZID=Europe/Berlin:20240214T200000
DTSTAMP:20260420T172544
CREATED:20240209T143757Z
LAST-MODIFIED:20240209T150447Z
UID:5070-1707935400-1707940800@kalender.seniorinnen.wien
SUMMARY:Yoga leicht gemacht – im Sitzen/Liegen für Menschen mit und ohne Bewegungseinschränkungen
DESCRIPTION:Ein Yoga-Kurs zum Lösen\, Kräftigen und Dehnen in entspannter Position: Praktizieren Sie einfache Yogaübungen im Liegen\, Sitzen und Vierfußstand. \nDieser Kurs ist besonders geeignet für Menschen mit Bewegungseinschränkungen\, die sich in diesen Positionen wohlfühlen. Egal\, ob Schwangere\, Senior*innen oder Menschen mit Demenz – auf Ihre individuellen Bedürfnisse wird eingegangen. \nDas Bewegungsangebot findet 7x mittwochs statt (14.02.2024 – 03.04.2024)\, jeweils von 18:30 – 20:00 Uhr und kostet 85 Euro. \nAssistenz-/Begleitpersonen für Menschen mit erhöhtem Unterstützungsbedarf dürfen kostenlos mitgenommen werden. \nOrt: VHS Simmering\, Gottschalkgasse 10\, 1110 Wien \nAnmeldung: \n\nGleich online: https://www.vhs.at/de/k/281671017\,\nper E-Mail an simmering@vhs.at oder\npersönlich an jedem VHS-Standort!
URL:https://kalender.seniorinnen.wien/event/yoga-leicht-gemacht-im-sitzen-liegen-fuer-menschen-mit-und-ohne-bewegungseinschraenkungen/2024-02-14/
LOCATION:VHS Simmering\, Gottschalkgasse 10\, Wien\, 1110\, Österreich
CATEGORIES:Demenz,Fit und Gesund
ATTACH;FMTTYPE=image/jpeg:https://kalender.seniorinnen.wien/wp-content/uploads/2024/02/yoga-1434787_1920-e1707489348275.jpg
ORGANIZER;CN="VHS Simmering":MAILTO:simmering@vhs.at
END:VEVENT
END:VCALENDAR