BEGIN:VCALENDAR
VERSION:2.0
PRODID:-//Wien für Senior:innen - ECPv6.15.17.1//NONSGML v1.0//EN
CALSCALE:GREGORIAN
METHOD:PUBLISH
X-WR-CALNAME:Wien für Senior:innen
X-ORIGINAL-URL:https://kalender.seniorinnen.wien
X-WR-CALDESC:Veranstaltungen für Wien für Senior:innen
REFRESH-INTERVAL;VALUE=DURATION:PT1H
X-Robots-Tag:noindex
X-PUBLISHED-TTL:PT1H
BEGIN:VTIMEZONE
TZID:Europe/Berlin
BEGIN:DAYLIGHT
TZOFFSETFROM:+0100
TZOFFSETTO:+0200
TZNAME:CEST
DTSTART:20250330T010000
END:DAYLIGHT
BEGIN:STANDARD
TZOFFSETFROM:+0200
TZOFFSETTO:+0100
TZNAME:CET
DTSTART:20251026T010000
END:STANDARD
BEGIN:DAYLIGHT
TZOFFSETFROM:+0100
TZOFFSETTO:+0200
TZNAME:CEST
DTSTART:20260329T010000
END:DAYLIGHT
BEGIN:STANDARD
TZOFFSETFROM:+0200
TZOFFSETTO:+0100
TZNAME:CET
DTSTART:20261025T010000
END:STANDARD
BEGIN:DAYLIGHT
TZOFFSETFROM:+0100
TZOFFSETTO:+0200
TZNAME:CEST
DTSTART:20270328T010000
END:DAYLIGHT
BEGIN:STANDARD
TZOFFSETFROM:+0200
TZOFFSETTO:+0100
TZNAME:CET
DTSTART:20271031T010000
END:STANDARD
END:VTIMEZONE
BEGIN:VEVENT
DTSTART;TZID=Europe/Berlin:20260420T150000
DTEND;TZID=Europe/Berlin:20260420T160000
DTSTAMP:20260420T125402
CREATED:20260417T114016Z
LAST-MODIFIED:20260417T114016Z
UID:12714-1776697200-1776700800@kalender.seniorinnen.wien
SUMMARY:Yoga für Senior:innen
DESCRIPTION:Montags 7 x\, 20.04. bis 8.06.2026\, 15 bis 16 Uhr\, \nKursleitung: Linda Samaraweerova \nVHS Simmering\nGottschalkgasse 10\n1110 Wien \nIn Verbindung mit gezielter Atmung trainieren die Körperübungen (Asanas) des Hatha Yoga die Beweglichkeit\,\nKraftausdauer\, Koordination\, Haltung und das Gleichgewicht. Durch die Konzentration auf die jeweilige Übung\nkommen auch die Gedanken zur Ruhe.\nIn diesem Kurs orientiert sich das Programm an den jeweils vorhandenen körperlichen Voraussetzungen\, die\nÜbungen werden behutsam angepasst.\nDieses Angebot soll besonders barrierearm für Sie sein. Bitte sagen Sie uns vorher\, wenn Sie individuelle\nUnterstützung brauchen.\nBitte bequeme Bekleidung\, Socken\, großes Handtuch und Trinkflasche mitnehmen.\nBitte bequeme Kleidung\, Hallenturnschuhe/Socken (keine Straßenschuhe)\, Handtuch und Trinkflasche mitbringen. \nGebühr: 58 € \nFoto: Pixabay
URL:https://kalender.seniorinnen.wien/event/yoga-fuer-seniorinnen-6/2026-04-20/
LOCATION:VHS Simmering\, Gottschalkgasse 10\, Wien\, 1110\, Österreich
CATEGORIES:Fit und Gesund
ATTACH;FMTTYPE=image/jpeg:https://kalender.seniorinnen.wien/wp-content/uploads/2024/08/yoga-4650150_1280-e1757937933698.jpg
ORGANIZER;CN="VHS Simmering":MAILTO:simmering@vhs.at
END:VEVENT
BEGIN:VEVENT
DTSTART;TZID=Europe/Berlin:20260427T150000
DTEND;TZID=Europe/Berlin:20260427T160000
DTSTAMP:20260420T125402
CREATED:20260417T114016Z
LAST-MODIFIED:20260417T114016Z
UID:12716-1777302000-1777305600@kalender.seniorinnen.wien
SUMMARY:Yoga für Senior:innen
DESCRIPTION:Montags 7 x\, 20.04. bis 8.06.2026\, 15 bis 16 Uhr\, \nKursleitung: Linda Samaraweerova \nVHS Simmering\nGottschalkgasse 10\n1110 Wien \nIn Verbindung mit gezielter Atmung trainieren die Körperübungen (Asanas) des Hatha Yoga die Beweglichkeit\,\nKraftausdauer\, Koordination\, Haltung und das Gleichgewicht. Durch die Konzentration auf die jeweilige Übung\nkommen auch die Gedanken zur Ruhe.\nIn diesem Kurs orientiert sich das Programm an den jeweils vorhandenen körperlichen Voraussetzungen\, die\nÜbungen werden behutsam angepasst.\nDieses Angebot soll besonders barrierearm für Sie sein. Bitte sagen Sie uns vorher\, wenn Sie individuelle\nUnterstützung brauchen.\nBitte bequeme Bekleidung\, Socken\, großes Handtuch und Trinkflasche mitnehmen.\nBitte bequeme Kleidung\, Hallenturnschuhe/Socken (keine Straßenschuhe)\, Handtuch und Trinkflasche mitbringen. \nGebühr: 58 € \nFoto: Pixabay
URL:https://kalender.seniorinnen.wien/event/yoga-fuer-seniorinnen-6/2026-04-27/
LOCATION:VHS Simmering\, Gottschalkgasse 10\, Wien\, 1110\, Österreich
CATEGORIES:Fit und Gesund
ATTACH;FMTTYPE=image/jpeg:https://kalender.seniorinnen.wien/wp-content/uploads/2024/08/yoga-4650150_1280-e1757937933698.jpg
ORGANIZER;CN="VHS Simmering":MAILTO:simmering@vhs.at
END:VEVENT
BEGIN:VEVENT
DTSTART;TZID=Europe/Berlin:20260504T150000
DTEND;TZID=Europe/Berlin:20260504T160000
DTSTAMP:20260420T125402
CREATED:20260417T114016Z
LAST-MODIFIED:20260417T114016Z
UID:12717-1777906800-1777910400@kalender.seniorinnen.wien
SUMMARY:Yoga für Senior:innen
DESCRIPTION:Montags 7 x\, 20.04. bis 8.06.2026\, 15 bis 16 Uhr\, \nKursleitung: Linda Samaraweerova \nVHS Simmering\nGottschalkgasse 10\n1110 Wien \nIn Verbindung mit gezielter Atmung trainieren die Körperübungen (Asanas) des Hatha Yoga die Beweglichkeit\,\nKraftausdauer\, Koordination\, Haltung und das Gleichgewicht. Durch die Konzentration auf die jeweilige Übung\nkommen auch die Gedanken zur Ruhe.\nIn diesem Kurs orientiert sich das Programm an den jeweils vorhandenen körperlichen Voraussetzungen\, die\nÜbungen werden behutsam angepasst.\nDieses Angebot soll besonders barrierearm für Sie sein. Bitte sagen Sie uns vorher\, wenn Sie individuelle\nUnterstützung brauchen.\nBitte bequeme Bekleidung\, Socken\, großes Handtuch und Trinkflasche mitnehmen.\nBitte bequeme Kleidung\, Hallenturnschuhe/Socken (keine Straßenschuhe)\, Handtuch und Trinkflasche mitbringen. \nGebühr: 58 € \nFoto: Pixabay
URL:https://kalender.seniorinnen.wien/event/yoga-fuer-seniorinnen-6/2026-05-04/
LOCATION:VHS Simmering\, Gottschalkgasse 10\, Wien\, 1110\, Österreich
CATEGORIES:Fit und Gesund
ATTACH;FMTTYPE=image/jpeg:https://kalender.seniorinnen.wien/wp-content/uploads/2024/08/yoga-4650150_1280-e1757937933698.jpg
ORGANIZER;CN="VHS Simmering":MAILTO:simmering@vhs.at
END:VEVENT
BEGIN:VEVENT
DTSTART;TZID=Europe/Berlin:20260511T150000
DTEND;TZID=Europe/Berlin:20260511T160000
DTSTAMP:20260420T125402
CREATED:20260417T114016Z
LAST-MODIFIED:20260417T114016Z
UID:12718-1778511600-1778515200@kalender.seniorinnen.wien
SUMMARY:Yoga für Senior:innen
DESCRIPTION:Montags 7 x\, 20.04. bis 8.06.2026\, 15 bis 16 Uhr\, \nKursleitung: Linda Samaraweerova \nVHS Simmering\nGottschalkgasse 10\n1110 Wien \nIn Verbindung mit gezielter Atmung trainieren die Körperübungen (Asanas) des Hatha Yoga die Beweglichkeit\,\nKraftausdauer\, Koordination\, Haltung und das Gleichgewicht. Durch die Konzentration auf die jeweilige Übung\nkommen auch die Gedanken zur Ruhe.\nIn diesem Kurs orientiert sich das Programm an den jeweils vorhandenen körperlichen Voraussetzungen\, die\nÜbungen werden behutsam angepasst.\nDieses Angebot soll besonders barrierearm für Sie sein. Bitte sagen Sie uns vorher\, wenn Sie individuelle\nUnterstützung brauchen.\nBitte bequeme Bekleidung\, Socken\, großes Handtuch und Trinkflasche mitnehmen.\nBitte bequeme Kleidung\, Hallenturnschuhe/Socken (keine Straßenschuhe)\, Handtuch und Trinkflasche mitbringen. \nGebühr: 58 € \nFoto: Pixabay
URL:https://kalender.seniorinnen.wien/event/yoga-fuer-seniorinnen-6/2026-05-11/
LOCATION:VHS Simmering\, Gottschalkgasse 10\, Wien\, 1110\, Österreich
CATEGORIES:Fit und Gesund
ATTACH;FMTTYPE=image/jpeg:https://kalender.seniorinnen.wien/wp-content/uploads/2024/08/yoga-4650150_1280-e1757937933698.jpg
ORGANIZER;CN="VHS Simmering":MAILTO:simmering@vhs.at
END:VEVENT
BEGIN:VEVENT
DTSTART;TZID=Europe/Berlin:20260518T150000
DTEND;TZID=Europe/Berlin:20260518T160000
DTSTAMP:20260420T125402
CREATED:20260417T114016Z
LAST-MODIFIED:20260417T114016Z
UID:12719-1779116400-1779120000@kalender.seniorinnen.wien
SUMMARY:Yoga für Senior:innen
DESCRIPTION:Montags 7 x\, 20.04. bis 8.06.2026\, 15 bis 16 Uhr\, \nKursleitung: Linda Samaraweerova \nVHS Simmering\nGottschalkgasse 10\n1110 Wien \nIn Verbindung mit gezielter Atmung trainieren die Körperübungen (Asanas) des Hatha Yoga die Beweglichkeit\,\nKraftausdauer\, Koordination\, Haltung und das Gleichgewicht. Durch die Konzentration auf die jeweilige Übung\nkommen auch die Gedanken zur Ruhe.\nIn diesem Kurs orientiert sich das Programm an den jeweils vorhandenen körperlichen Voraussetzungen\, die\nÜbungen werden behutsam angepasst.\nDieses Angebot soll besonders barrierearm für Sie sein. Bitte sagen Sie uns vorher\, wenn Sie individuelle\nUnterstützung brauchen.\nBitte bequeme Bekleidung\, Socken\, großes Handtuch und Trinkflasche mitnehmen.\nBitte bequeme Kleidung\, Hallenturnschuhe/Socken (keine Straßenschuhe)\, Handtuch und Trinkflasche mitbringen. \nGebühr: 58 € \nFoto: Pixabay
URL:https://kalender.seniorinnen.wien/event/yoga-fuer-seniorinnen-6/2026-05-18/
LOCATION:VHS Simmering\, Gottschalkgasse 10\, Wien\, 1110\, Österreich
CATEGORIES:Fit und Gesund
ATTACH;FMTTYPE=image/jpeg:https://kalender.seniorinnen.wien/wp-content/uploads/2024/08/yoga-4650150_1280-e1757937933698.jpg
ORGANIZER;CN="VHS Simmering":MAILTO:simmering@vhs.at
END:VEVENT
BEGIN:VEVENT
DTSTART;TZID=Europe/Berlin:20260525T150000
DTEND;TZID=Europe/Berlin:20260525T160000
DTSTAMP:20260420T125402
CREATED:20260417T114016Z
LAST-MODIFIED:20260417T114016Z
UID:12720-1779721200-1779724800@kalender.seniorinnen.wien
SUMMARY:Yoga für Senior:innen
DESCRIPTION:Montags 7 x\, 20.04. bis 8.06.2026\, 15 bis 16 Uhr\, \nKursleitung: Linda Samaraweerova \nVHS Simmering\nGottschalkgasse 10\n1110 Wien \nIn Verbindung mit gezielter Atmung trainieren die Körperübungen (Asanas) des Hatha Yoga die Beweglichkeit\,\nKraftausdauer\, Koordination\, Haltung und das Gleichgewicht. Durch die Konzentration auf die jeweilige Übung\nkommen auch die Gedanken zur Ruhe.\nIn diesem Kurs orientiert sich das Programm an den jeweils vorhandenen körperlichen Voraussetzungen\, die\nÜbungen werden behutsam angepasst.\nDieses Angebot soll besonders barrierearm für Sie sein. Bitte sagen Sie uns vorher\, wenn Sie individuelle\nUnterstützung brauchen.\nBitte bequeme Bekleidung\, Socken\, großes Handtuch und Trinkflasche mitnehmen.\nBitte bequeme Kleidung\, Hallenturnschuhe/Socken (keine Straßenschuhe)\, Handtuch und Trinkflasche mitbringen. \nGebühr: 58 € \nFoto: Pixabay
URL:https://kalender.seniorinnen.wien/event/yoga-fuer-seniorinnen-6/2026-05-25/
LOCATION:VHS Simmering\, Gottschalkgasse 10\, Wien\, 1110\, Österreich
CATEGORIES:Fit und Gesund
ATTACH;FMTTYPE=image/jpeg:https://kalender.seniorinnen.wien/wp-content/uploads/2024/08/yoga-4650150_1280-e1757937933698.jpg
ORGANIZER;CN="VHS Simmering":MAILTO:simmering@vhs.at
END:VEVENT
BEGIN:VEVENT
DTSTART;TZID=Europe/Berlin:20260601T150000
DTEND;TZID=Europe/Berlin:20260601T160000
DTSTAMP:20260420T125402
CREATED:20260417T114016Z
LAST-MODIFIED:20260417T114016Z
UID:12721-1780326000-1780329600@kalender.seniorinnen.wien
SUMMARY:Yoga für Senior:innen
DESCRIPTION:Montags 7 x\, 20.04. bis 8.06.2026\, 15 bis 16 Uhr\, \nKursleitung: Linda Samaraweerova \nVHS Simmering\nGottschalkgasse 10\n1110 Wien \nIn Verbindung mit gezielter Atmung trainieren die Körperübungen (Asanas) des Hatha Yoga die Beweglichkeit\,\nKraftausdauer\, Koordination\, Haltung und das Gleichgewicht. Durch die Konzentration auf die jeweilige Übung\nkommen auch die Gedanken zur Ruhe.\nIn diesem Kurs orientiert sich das Programm an den jeweils vorhandenen körperlichen Voraussetzungen\, die\nÜbungen werden behutsam angepasst.\nDieses Angebot soll besonders barrierearm für Sie sein. Bitte sagen Sie uns vorher\, wenn Sie individuelle\nUnterstützung brauchen.\nBitte bequeme Bekleidung\, Socken\, großes Handtuch und Trinkflasche mitnehmen.\nBitte bequeme Kleidung\, Hallenturnschuhe/Socken (keine Straßenschuhe)\, Handtuch und Trinkflasche mitbringen. \nGebühr: 58 € \nFoto: Pixabay
URL:https://kalender.seniorinnen.wien/event/yoga-fuer-seniorinnen-6/2026-06-01/
LOCATION:VHS Simmering\, Gottschalkgasse 10\, Wien\, 1110\, Österreich
CATEGORIES:Fit und Gesund
ATTACH;FMTTYPE=image/jpeg:https://kalender.seniorinnen.wien/wp-content/uploads/2024/08/yoga-4650150_1280-e1757937933698.jpg
ORGANIZER;CN="VHS Simmering":MAILTO:simmering@vhs.at
END:VEVENT
BEGIN:VEVENT
DTSTART;TZID=Europe/Berlin:20260608T150000
DTEND;TZID=Europe/Berlin:20260608T160000
DTSTAMP:20260420T125402
CREATED:20260417T114016Z
LAST-MODIFIED:20260417T114016Z
UID:12722-1780930800-1780934400@kalender.seniorinnen.wien
SUMMARY:Yoga für Senior:innen
DESCRIPTION:Montags 7 x\, 20.04. bis 8.06.2026\, 15 bis 16 Uhr\, \nKursleitung: Linda Samaraweerova \nVHS Simmering\nGottschalkgasse 10\n1110 Wien \nIn Verbindung mit gezielter Atmung trainieren die Körperübungen (Asanas) des Hatha Yoga die Beweglichkeit\,\nKraftausdauer\, Koordination\, Haltung und das Gleichgewicht. Durch die Konzentration auf die jeweilige Übung\nkommen auch die Gedanken zur Ruhe.\nIn diesem Kurs orientiert sich das Programm an den jeweils vorhandenen körperlichen Voraussetzungen\, die\nÜbungen werden behutsam angepasst.\nDieses Angebot soll besonders barrierearm für Sie sein. Bitte sagen Sie uns vorher\, wenn Sie individuelle\nUnterstützung brauchen.\nBitte bequeme Bekleidung\, Socken\, großes Handtuch und Trinkflasche mitnehmen.\nBitte bequeme Kleidung\, Hallenturnschuhe/Socken (keine Straßenschuhe)\, Handtuch und Trinkflasche mitbringen. \nGebühr: 58 € \nFoto: Pixabay
URL:https://kalender.seniorinnen.wien/event/yoga-fuer-seniorinnen-6/2026-06-08/
LOCATION:VHS Simmering\, Gottschalkgasse 10\, Wien\, 1110\, Österreich
CATEGORIES:Fit und Gesund
ATTACH;FMTTYPE=image/jpeg:https://kalender.seniorinnen.wien/wp-content/uploads/2024/08/yoga-4650150_1280-e1757937933698.jpg
ORGANIZER;CN="VHS Simmering":MAILTO:simmering@vhs.at
END:VEVENT
END:VCALENDAR