BEGIN:VCALENDAR
VERSION:2.0
PRODID:-//Wien für Senior:innen - ECPv6.15.17.1//NONSGML v1.0//EN
CALSCALE:GREGORIAN
METHOD:PUBLISH
X-ORIGINAL-URL:https://kalender.seniorinnen.wien
X-WR-CALDESC:Veranstaltungen für Wien für Senior:innen
REFRESH-INTERVAL;VALUE=DURATION:PT1H
X-Robots-Tag:noindex
X-PUBLISHED-TTL:PT1H
BEGIN:VTIMEZONE
TZID:Europe/Berlin
BEGIN:DAYLIGHT
TZOFFSETFROM:+0100
TZOFFSETTO:+0200
TZNAME:CEST
DTSTART:20240331T010000
END:DAYLIGHT
BEGIN:STANDARD
TZOFFSETFROM:+0200
TZOFFSETTO:+0100
TZNAME:CET
DTSTART:20241027T010000
END:STANDARD
BEGIN:DAYLIGHT
TZOFFSETFROM:+0100
TZOFFSETTO:+0200
TZNAME:CEST
DTSTART:20250330T010000
END:DAYLIGHT
BEGIN:STANDARD
TZOFFSETFROM:+0200
TZOFFSETTO:+0100
TZNAME:CET
DTSTART:20251026T010000
END:STANDARD
BEGIN:DAYLIGHT
TZOFFSETFROM:+0100
TZOFFSETTO:+0200
TZNAME:CEST
DTSTART:20260329T010000
END:DAYLIGHT
BEGIN:STANDARD
TZOFFSETFROM:+0200
TZOFFSETTO:+0100
TZNAME:CET
DTSTART:20261025T010000
END:STANDARD
END:VTIMEZONE
BEGIN:VEVENT
DTSTART;TZID=Europe/Berlin:20251112T090000
DTEND;TZID=Europe/Berlin:20251112T100000
DTSTAMP:20260420T231946
CREATED:20251001T092145Z
LAST-MODIFIED:20251001T092636Z
UID:10776-1762938000-1762941600@kalender.seniorinnen.wien
SUMMARY:Yoga für Senior:innen
DESCRIPTION:Yoga für Senior:innen – Anfänger:innen\n8-15 Teilnehmer:innen\nZeit: Mi 7 x\, 24.09.-12.11.2025\, 9-10 Uhr\, 7 UE \nKursleitung: Manuela Sideras\, BEd\nRaum: Gym. 1\nOrt: VHS Meidling\, 1120 Wien\, Längenfeldgasse 13-15\nVHS Meidling\nKursnummer: 31510100a \nKosten: € 85\,00 \nFoto: Pixabay
URL:https://kalender.seniorinnen.wien/event/yoga-fuer-seniorinnen-2/2025-11-12/
LOCATION:VHS Meidling\, Längenfeldgasse 13-15\, Wien\, 1120
CATEGORIES:Fit und Gesund
ATTACH;FMTTYPE=image/jpeg:https://kalender.seniorinnen.wien/wp-content/uploads/2024/08/yoga-4650150_1280-e1757937933698.jpg
END:VEVENT
BEGIN:VEVENT
DTSTART;TZID=Europe/Berlin:20251105T090000
DTEND;TZID=Europe/Berlin:20251105T100000
DTSTAMP:20260420T231946
CREATED:20251001T092145Z
LAST-MODIFIED:20251001T092636Z
UID:10775-1762333200-1762336800@kalender.seniorinnen.wien
SUMMARY:Yoga für Senior:innen
DESCRIPTION:Yoga für Senior:innen – Anfänger:innen\n8-15 Teilnehmer:innen\nZeit: Mi 7 x\, 24.09.-12.11.2025\, 9-10 Uhr\, 7 UE \nKursleitung: Manuela Sideras\, BEd\nRaum: Gym. 1\nOrt: VHS Meidling\, 1120 Wien\, Längenfeldgasse 13-15\nVHS Meidling\nKursnummer: 31510100a \nKosten: € 85\,00 \nFoto: Pixabay
URL:https://kalender.seniorinnen.wien/event/yoga-fuer-seniorinnen-2/2025-11-05/
LOCATION:VHS Meidling\, Längenfeldgasse 13-15\, Wien\, 1120
CATEGORIES:Fit und Gesund
ATTACH;FMTTYPE=image/jpeg:https://kalender.seniorinnen.wien/wp-content/uploads/2024/08/yoga-4650150_1280-e1757937933698.jpg
END:VEVENT
BEGIN:VEVENT
DTSTART;TZID=Europe/Berlin:20251029T090000
DTEND;TZID=Europe/Berlin:20251029T100000
DTSTAMP:20260420T231946
CREATED:20251001T092145Z
LAST-MODIFIED:20251001T092635Z
UID:10774-1761728400-1761732000@kalender.seniorinnen.wien
SUMMARY:Yoga für Senior:innen
DESCRIPTION:Yoga für Senior:innen – Anfänger:innen\n8-15 Teilnehmer:innen\nZeit: Mi 7 x\, 24.09.-12.11.2025\, 9-10 Uhr\, 7 UE \nKursleitung: Manuela Sideras\, BEd\nRaum: Gym. 1\nOrt: VHS Meidling\, 1120 Wien\, Längenfeldgasse 13-15\nVHS Meidling\nKursnummer: 31510100a \nKosten: € 85\,00 \nFoto: Pixabay
URL:https://kalender.seniorinnen.wien/event/yoga-fuer-seniorinnen-2/2025-10-29/
LOCATION:VHS Meidling\, Längenfeldgasse 13-15\, Wien\, 1120
CATEGORIES:Fit und Gesund
ATTACH;FMTTYPE=image/jpeg:https://kalender.seniorinnen.wien/wp-content/uploads/2024/08/yoga-4650150_1280-e1757937933698.jpg
END:VEVENT
BEGIN:VEVENT
DTSTART;TZID=Europe/Berlin:20251022T090000
DTEND;TZID=Europe/Berlin:20251022T100000
DTSTAMP:20260420T231946
CREATED:20251001T092145Z
LAST-MODIFIED:20251001T092635Z
UID:10773-1761123600-1761127200@kalender.seniorinnen.wien
SUMMARY:Yoga für Senior:innen
DESCRIPTION:Yoga für Senior:innen – Anfänger:innen\n8-15 Teilnehmer:innen\nZeit: Mi 7 x\, 24.09.-12.11.2025\, 9-10 Uhr\, 7 UE \nKursleitung: Manuela Sideras\, BEd\nRaum: Gym. 1\nOrt: VHS Meidling\, 1120 Wien\, Längenfeldgasse 13-15\nVHS Meidling\nKursnummer: 31510100a \nKosten: € 85\,00 \nFoto: Pixabay
URL:https://kalender.seniorinnen.wien/event/yoga-fuer-seniorinnen-2/2025-10-22/
LOCATION:VHS Meidling\, Längenfeldgasse 13-15\, Wien\, 1120
CATEGORIES:Fit und Gesund
ATTACH;FMTTYPE=image/jpeg:https://kalender.seniorinnen.wien/wp-content/uploads/2024/08/yoga-4650150_1280-e1757937933698.jpg
END:VEVENT
BEGIN:VEVENT
DTSTART;TZID=Europe/Berlin:20251015T090000
DTEND;TZID=Europe/Berlin:20251015T100000
DTSTAMP:20260420T231946
CREATED:20251001T092145Z
LAST-MODIFIED:20251001T092635Z
UID:10772-1760518800-1760522400@kalender.seniorinnen.wien
SUMMARY:Yoga für Senior:innen
DESCRIPTION:Yoga für Senior:innen – Anfänger:innen\n8-15 Teilnehmer:innen\nZeit: Mi 7 x\, 24.09.-12.11.2025\, 9-10 Uhr\, 7 UE \nKursleitung: Manuela Sideras\, BEd\nRaum: Gym. 1\nOrt: VHS Meidling\, 1120 Wien\, Längenfeldgasse 13-15\nVHS Meidling\nKursnummer: 31510100a \nKosten: € 85\,00 \nFoto: Pixabay
URL:https://kalender.seniorinnen.wien/event/yoga-fuer-seniorinnen-2/2025-10-15/
LOCATION:VHS Meidling\, Längenfeldgasse 13-15\, Wien\, 1120
CATEGORIES:Fit und Gesund
ATTACH;FMTTYPE=image/jpeg:https://kalender.seniorinnen.wien/wp-content/uploads/2024/08/yoga-4650150_1280-e1757937933698.jpg
END:VEVENT
BEGIN:VEVENT
DTSTART;TZID=Europe/Berlin:20251008T090000
DTEND;TZID=Europe/Berlin:20251008T100000
DTSTAMP:20260420T231946
CREATED:20251001T092145Z
LAST-MODIFIED:20251001T092635Z
UID:10771-1759914000-1759917600@kalender.seniorinnen.wien
SUMMARY:Yoga für Senior:innen
DESCRIPTION:Yoga für Senior:innen – Anfänger:innen\n8-15 Teilnehmer:innen\nZeit: Mi 7 x\, 24.09.-12.11.2025\, 9-10 Uhr\, 7 UE \nKursleitung: Manuela Sideras\, BEd\nRaum: Gym. 1\nOrt: VHS Meidling\, 1120 Wien\, Längenfeldgasse 13-15\nVHS Meidling\nKursnummer: 31510100a \nKosten: € 85\,00 \nFoto: Pixabay
URL:https://kalender.seniorinnen.wien/event/yoga-fuer-seniorinnen-2/2025-10-08/
LOCATION:VHS Meidling\, Längenfeldgasse 13-15\, Wien\, 1120
CATEGORIES:Fit und Gesund
ATTACH;FMTTYPE=image/jpeg:https://kalender.seniorinnen.wien/wp-content/uploads/2024/08/yoga-4650150_1280-e1757937933698.jpg
END:VEVENT
BEGIN:VEVENT
DTSTART;TZID=Europe/Berlin:20251001T090000
DTEND;TZID=Europe/Berlin:20251001T100000
DTSTAMP:20260420T231946
CREATED:20251001T092145Z
LAST-MODIFIED:20251001T092634Z
UID:10770-1759309200-1759312800@kalender.seniorinnen.wien
SUMMARY:Yoga für Senior:innen
DESCRIPTION:Yoga für Senior:innen – Anfänger:innen\n8-15 Teilnehmer:innen\nZeit: Mi 7 x\, 24.09.-12.11.2025\, 9-10 Uhr\, 7 UE \nKursleitung: Manuela Sideras\, BEd\nRaum: Gym. 1\nOrt: VHS Meidling\, 1120 Wien\, Längenfeldgasse 13-15\nVHS Meidling\nKursnummer: 31510100a \nKosten: € 85\,00 \nFoto: Pixabay
URL:https://kalender.seniorinnen.wien/event/yoga-fuer-seniorinnen-2/2025-10-01/
LOCATION:VHS Meidling\, Längenfeldgasse 13-15\, Wien\, 1120
CATEGORIES:Fit und Gesund
ATTACH;FMTTYPE=image/jpeg:https://kalender.seniorinnen.wien/wp-content/uploads/2024/08/yoga-4650150_1280-e1757937933698.jpg
END:VEVENT
BEGIN:VEVENT
DTSTART;TZID=Europe/Berlin:20250924T090000
DTEND;TZID=Europe/Berlin:20250924T100000
DTSTAMP:20260420T231946
CREATED:20251001T092145Z
LAST-MODIFIED:20251001T092634Z
UID:10768-1758704400-1758708000@kalender.seniorinnen.wien
SUMMARY:Yoga für Senior:innen
DESCRIPTION:Yoga für Senior:innen – Anfänger:innen\n8-15 Teilnehmer:innen\nZeit: Mi 7 x\, 24.09.-12.11.2025\, 9-10 Uhr\, 7 UE \nKursleitung: Manuela Sideras\, BEd\nRaum: Gym. 1\nOrt: VHS Meidling\, 1120 Wien\, Längenfeldgasse 13-15\nVHS Meidling\nKursnummer: 31510100a \nKosten: € 85\,00 \nFoto: Pixabay
URL:https://kalender.seniorinnen.wien/event/yoga-fuer-seniorinnen-2/2025-09-24/
LOCATION:VHS Meidling\, Längenfeldgasse 13-15\, Wien\, 1120
CATEGORIES:Fit und Gesund
ATTACH;FMTTYPE=image/jpeg:https://kalender.seniorinnen.wien/wp-content/uploads/2024/08/yoga-4650150_1280-e1757937933698.jpg
END:VEVENT
END:VCALENDAR