BEGIN:VCALENDAR
VERSION:2.0
PRODID:-//Wien für Senior:innen - ECPv6.15.17.1//NONSGML v1.0//EN
CALSCALE:GREGORIAN
METHOD:PUBLISH
X-WR-CALNAME:Wien für Senior:innen
X-ORIGINAL-URL:https://kalender.seniorinnen.wien
X-WR-CALDESC:Veranstaltungen für Wien für Senior:innen
REFRESH-INTERVAL;VALUE=DURATION:PT1H
X-Robots-Tag:noindex
X-PUBLISHED-TTL:PT1H
BEGIN:VTIMEZONE
TZID:Europe/Berlin
BEGIN:DAYLIGHT
TZOFFSETFROM:+0100
TZOFFSETTO:+0200
TZNAME:CEST
DTSTART:20250330T010000
END:DAYLIGHT
BEGIN:STANDARD
TZOFFSETFROM:+0200
TZOFFSETTO:+0100
TZNAME:CET
DTSTART:20251026T010000
END:STANDARD
BEGIN:DAYLIGHT
TZOFFSETFROM:+0100
TZOFFSETTO:+0200
TZNAME:CEST
DTSTART:20260329T010000
END:DAYLIGHT
BEGIN:STANDARD
TZOFFSETFROM:+0200
TZOFFSETTO:+0100
TZNAME:CET
DTSTART:20261025T010000
END:STANDARD
BEGIN:DAYLIGHT
TZOFFSETFROM:+0100
TZOFFSETTO:+0200
TZNAME:CEST
DTSTART:20270328T010000
END:DAYLIGHT
BEGIN:STANDARD
TZOFFSETFROM:+0200
TZOFFSETTO:+0100
TZNAME:CET
DTSTART:20271031T010000
END:STANDARD
END:VTIMEZONE
BEGIN:VEVENT
DTSTART;TZID=Europe/Berlin:20260304T140000
DTEND;TZID=Europe/Berlin:20260304T163000
DTSTAMP:20260423T134828
CREATED:20251126T114204Z
LAST-MODIFIED:20251126T114704Z
UID:11248-1772632800-1772641800@kalender.seniorinnen.wien
SUMMARY:Wien Museum kreativ: Flower Power
DESCRIPTION:Flower Power\n18.02. und 4.03.2026\nDie 1960er und 1970er Jahre waren auch in Wien eine Zeit des gesellschaftlichen Aufbruchs. Wie haben Sie diese Zeit erlebt? Waren Sie ein Hippie? \nBei diesem Workshop können Sie den Panzer des Alltags abschütteln und sich freitanzen. Wir wärmen uns auf\, hören die Hits der Zeit und schauen\, was von den Hippies im Wien Museum zu finden ist. \nKeine Vorkenntnisse erforderlich. Zum gemeinsamen Bewegen und Tanzen bitte bequeme Kleidung anziehen. \nhttps://www.wienmuseum.at/kalender?text=Wien%20Museum%20kreativ \nBild: Wien Museum/Lisa Rastl
URL:https://kalender.seniorinnen.wien/event/wien-museum-kreativ-flower-power/2026-03-04/
LOCATION:Wien Museum\, Karlsplatz 8\, Wien\, Wien\, 1040\, Österreich
CATEGORIES:Kunst und Kultur
ATTACH;FMTTYPE=image/jpeg:https://kalender.seniorinnen.wien/wp-content/uploads/2025/11/Wien-Museum_Lisa-Rastl-2-scaled.jpg
ORGANIZER;CN="Wien Museum":MAILTO:vermittlung@wienmuseum.at
END:VEVENT
BEGIN:VEVENT
DTSTART;TZID=Europe/Berlin:20260218T140000
DTEND;TZID=Europe/Berlin:20260218T163000
DTSTAMP:20260423T134828
CREATED:20251126T114204Z
LAST-MODIFIED:20251126T114703Z
UID:11246-1771423200-1771432200@kalender.seniorinnen.wien
SUMMARY:Wien Museum kreativ: Flower Power
DESCRIPTION:Flower Power\n18.02. und 4.03.2026\nDie 1960er und 1970er Jahre waren auch in Wien eine Zeit des gesellschaftlichen Aufbruchs. Wie haben Sie diese Zeit erlebt? Waren Sie ein Hippie? \nBei diesem Workshop können Sie den Panzer des Alltags abschütteln und sich freitanzen. Wir wärmen uns auf\, hören die Hits der Zeit und schauen\, was von den Hippies im Wien Museum zu finden ist. \nKeine Vorkenntnisse erforderlich. Zum gemeinsamen Bewegen und Tanzen bitte bequeme Kleidung anziehen. \nhttps://www.wienmuseum.at/kalender?text=Wien%20Museum%20kreativ \nBild: Wien Museum/Lisa Rastl
URL:https://kalender.seniorinnen.wien/event/wien-museum-kreativ-flower-power/2026-02-18/
LOCATION:Wien Museum\, Karlsplatz 8\, Wien\, Wien\, 1040\, Österreich
CATEGORIES:Kunst und Kultur
ATTACH;FMTTYPE=image/jpeg:https://kalender.seniorinnen.wien/wp-content/uploads/2025/11/Wien-Museum_Lisa-Rastl-2-scaled.jpg
ORGANIZER;CN="Wien Museum":MAILTO:vermittlung@wienmuseum.at
END:VEVENT
END:VCALENDAR