BEGIN:VCALENDAR
VERSION:2.0
PRODID:-//Wien für Senior:innen - ECPv6.15.17.1//NONSGML v1.0//EN
CALSCALE:GREGORIAN
METHOD:PUBLISH
X-WR-CALNAME:Wien für Senior:innen
X-ORIGINAL-URL:https://kalender.seniorinnen.wien
X-WR-CALDESC:Veranstaltungen für Wien für Senior:innen
REFRESH-INTERVAL;VALUE=DURATION:PT1H
X-Robots-Tag:noindex
X-PUBLISHED-TTL:PT1H
BEGIN:VTIMEZONE
TZID:Europe/Berlin
BEGIN:DAYLIGHT
TZOFFSETFROM:+0100
TZOFFSETTO:+0200
TZNAME:CEST
DTSTART:20240331T010000
END:DAYLIGHT
BEGIN:STANDARD
TZOFFSETFROM:+0200
TZOFFSETTO:+0100
TZNAME:CET
DTSTART:20241027T010000
END:STANDARD
BEGIN:DAYLIGHT
TZOFFSETFROM:+0100
TZOFFSETTO:+0200
TZNAME:CEST
DTSTART:20250330T010000
END:DAYLIGHT
BEGIN:STANDARD
TZOFFSETFROM:+0200
TZOFFSETTO:+0100
TZNAME:CET
DTSTART:20251026T010000
END:STANDARD
BEGIN:DAYLIGHT
TZOFFSETFROM:+0100
TZOFFSETTO:+0200
TZNAME:CEST
DTSTART:20260329T010000
END:DAYLIGHT
BEGIN:STANDARD
TZOFFSETFROM:+0200
TZOFFSETTO:+0100
TZNAME:CET
DTSTART:20261025T010000
END:STANDARD
END:VTIMEZONE
BEGIN:VEVENT
DTSTART;TZID=Europe/Berlin:20251016T150000
DTEND;TZID=Europe/Berlin:20251016T163000
DTSTAMP:20260420T231840
CREATED:20250831T230842Z
LAST-MODIFIED:20250826T095531Z
UID:9017-1760626800-1760632200@kalender.seniorinnen.wien
SUMMARY:Unterstützte Selbsthilfegruppe für Menschen mit Vergesslichkeit
DESCRIPTION:Promenzgruppe 1030  – Gruppentreffen für von Vergesslichkeit\, Demenz oder Alzheimer Betroffene.\nDiese Gruppe ist ein wöchentliches Angebot\, damit Menschen mit Vergesslichkeit sich in einem gestützten und geschützten Rahmen austauschen können. \nEine Anmeldung ist laufend möglich. \nAnmeldung bis 29.9. \nTel.: 0660 94 90 438 \nE-Mail: buchegger@promenz.at oder nbz3@wiener.hilfswerk.at \nFoto: Wiener Hilfswerk
URL:https://kalender.seniorinnen.wien/event/unterstuetzte-selbsthilfegruppe-fuer-menschen-mit-vergesslichkeit/2025-10-16/
LOCATION:Wiener Hilfswerk – Nachbarschaftszentrum 3 Landstraße\, Barichgasse 8\, Wien\, Wien\, 1030\, Austria
CATEGORIES:Monat der Senior:innen
ATTACH;FMTTYPE=image/jpeg:https://kalender.seniorinnen.wien/wp-content/uploads/2025/08/Promenz_Dragan_Dok-e1755855690129.jpeg
ORGANIZER;CN="Wiener Hilfswerk - Nachbarschaftszentrum 3 Landstra%C3%9Fe":MAILTO:Jenny.reuter@wiener.hilfswerk.at
END:VEVENT
BEGIN:VEVENT
DTSTART;TZID=Europe/Berlin:20251009T150000
DTEND;TZID=Europe/Berlin:20251009T163000
DTSTAMP:20260420T231840
CREATED:20250831T230842Z
LAST-MODIFIED:20250826T095530Z
UID:9016-1760022000-1760027400@kalender.seniorinnen.wien
SUMMARY:Unterstützte Selbsthilfegruppe für Menschen mit Vergesslichkeit
DESCRIPTION:Promenzgruppe 1030  – Gruppentreffen für von Vergesslichkeit\, Demenz oder Alzheimer Betroffene.\nDiese Gruppe ist ein wöchentliches Angebot\, damit Menschen mit Vergesslichkeit sich in einem gestützten und geschützten Rahmen austauschen können. \nEine Anmeldung ist laufend möglich. \nAnmeldung bis 29.9. \nTel.: 0660 94 90 438 \nE-Mail: buchegger@promenz.at oder nbz3@wiener.hilfswerk.at \nFoto: Wiener Hilfswerk
URL:https://kalender.seniorinnen.wien/event/unterstuetzte-selbsthilfegruppe-fuer-menschen-mit-vergesslichkeit/2025-10-09/
LOCATION:Wiener Hilfswerk – Nachbarschaftszentrum 3 Landstraße\, Barichgasse 8\, Wien\, Wien\, 1030\, Austria
CATEGORIES:Monat der Senior:innen
ATTACH;FMTTYPE=image/jpeg:https://kalender.seniorinnen.wien/wp-content/uploads/2025/08/Promenz_Dragan_Dok-e1755855690129.jpeg
ORGANIZER;CN="Wiener Hilfswerk - Nachbarschaftszentrum 3 Landstra%C3%9Fe":MAILTO:Jenny.reuter@wiener.hilfswerk.at
END:VEVENT
BEGIN:VEVENT
DTSTART;TZID=Europe/Berlin:20251002T150000
DTEND;TZID=Europe/Berlin:20251002T163000
DTSTAMP:20260420T231840
CREATED:20250831T230842Z
LAST-MODIFIED:20250826T095530Z
UID:9014-1759417200-1759422600@kalender.seniorinnen.wien
SUMMARY:Unterstützte Selbsthilfegruppe für Menschen mit Vergesslichkeit
DESCRIPTION:Promenzgruppe 1030  – Gruppentreffen für von Vergesslichkeit\, Demenz oder Alzheimer Betroffene.\nDiese Gruppe ist ein wöchentliches Angebot\, damit Menschen mit Vergesslichkeit sich in einem gestützten und geschützten Rahmen austauschen können. \nEine Anmeldung ist laufend möglich. \nAnmeldung bis 29.9. \nTel.: 0660 94 90 438 \nE-Mail: buchegger@promenz.at oder nbz3@wiener.hilfswerk.at \nFoto: Wiener Hilfswerk
URL:https://kalender.seniorinnen.wien/event/unterstuetzte-selbsthilfegruppe-fuer-menschen-mit-vergesslichkeit/2025-10-02/
LOCATION:Wiener Hilfswerk – Nachbarschaftszentrum 3 Landstraße\, Barichgasse 8\, Wien\, Wien\, 1030\, Austria
CATEGORIES:Monat der Senior:innen
ATTACH;FMTTYPE=image/jpeg:https://kalender.seniorinnen.wien/wp-content/uploads/2025/08/Promenz_Dragan_Dok-e1755855690129.jpeg
ORGANIZER;CN="Wiener Hilfswerk - Nachbarschaftszentrum 3 Landstra%C3%9Fe":MAILTO:Jenny.reuter@wiener.hilfswerk.at
END:VEVENT
END:VCALENDAR