BEGIN:VCALENDAR
VERSION:2.0
PRODID:-//Wien für Senior:innen - ECPv6.15.17.1//NONSGML v1.0//EN
CALSCALE:GREGORIAN
METHOD:PUBLISH
X-ORIGINAL-URL:https://kalender.seniorinnen.wien
X-WR-CALDESC:Veranstaltungen für Wien für Senior:innen
REFRESH-INTERVAL;VALUE=DURATION:PT1H
X-Robots-Tag:noindex
X-PUBLISHED-TTL:PT1H
BEGIN:VTIMEZONE
TZID:Europe/Berlin
BEGIN:DAYLIGHT
TZOFFSETFROM:+0100
TZOFFSETTO:+0200
TZNAME:CEST
DTSTART:20240331T010000
END:DAYLIGHT
BEGIN:STANDARD
TZOFFSETFROM:+0200
TZOFFSETTO:+0100
TZNAME:CET
DTSTART:20241027T010000
END:STANDARD
BEGIN:DAYLIGHT
TZOFFSETFROM:+0100
TZOFFSETTO:+0200
TZNAME:CEST
DTSTART:20250330T010000
END:DAYLIGHT
BEGIN:STANDARD
TZOFFSETFROM:+0200
TZOFFSETTO:+0100
TZNAME:CET
DTSTART:20251026T010000
END:STANDARD
BEGIN:DAYLIGHT
TZOFFSETFROM:+0100
TZOFFSETTO:+0200
TZNAME:CEST
DTSTART:20260329T010000
END:DAYLIGHT
BEGIN:STANDARD
TZOFFSETFROM:+0200
TZOFFSETTO:+0100
TZNAME:CET
DTSTART:20261025T010000
END:STANDARD
END:VTIMEZONE
BEGIN:VEVENT
DTSTART;TZID=Europe/Berlin:20250624T093000
DTEND;TZID=Europe/Berlin:20250624T110000
DTSTAMP:20260421T020026
CREATED:20250328T150759Z
LAST-MODIFIED:20250422T090050Z
UID:7720-1750757400-1750762800@kalender.seniorinnen.wien
SUMMARY:Thai Chi
DESCRIPTION:Tai Chi ist eine sanfte chinesische Bewegungskunst\, die Meditation\, körperliches Training und Achtsamkeit vereint. Sie hat einen positiven Einfluss auf die Lebensenergie und bringt Körper und Geist in Einklang. \nDienstag\, 09:30 – 11:00 Uhr \nTermine: 22.04.\, 29.04.\, 06.05.\, 13.05.\, 20.05.\, 27.05.\, 03.06.\, 10.06.\, 17.06.\, 24.06.2025 \nOrt: Hamerlingpark\, 1080 Wien
URL:https://kalender.seniorinnen.wien/event/thai-chi/2025-06-24/
LOCATION:Hamerlingpark\, Wien\, 1080
CATEGORIES:Begegnung,Fit und Gesund,Grätzel
ATTACH;FMTTYPE=image/jpeg:https://kalender.seniorinnen.wien/wp-content/uploads/2024/03/csm_ISS_26764_02118_5c17b03da4-e1709728360409.jpg
END:VEVENT
BEGIN:VEVENT
DTSTART;TZID=Europe/Berlin:20250617T093000
DTEND;TZID=Europe/Berlin:20250617T110000
DTSTAMP:20260421T020026
CREATED:20250328T150759Z
LAST-MODIFIED:20250422T090049Z
UID:7719-1750152600-1750158000@kalender.seniorinnen.wien
SUMMARY:Thai Chi
DESCRIPTION:Tai Chi ist eine sanfte chinesische Bewegungskunst\, die Meditation\, körperliches Training und Achtsamkeit vereint. Sie hat einen positiven Einfluss auf die Lebensenergie und bringt Körper und Geist in Einklang. \nDienstag\, 09:30 – 11:00 Uhr \nTermine: 22.04.\, 29.04.\, 06.05.\, 13.05.\, 20.05.\, 27.05.\, 03.06.\, 10.06.\, 17.06.\, 24.06.2025 \nOrt: Hamerlingpark\, 1080 Wien
URL:https://kalender.seniorinnen.wien/event/thai-chi/2025-06-17/
LOCATION:Hamerlingpark\, Wien\, 1080
CATEGORIES:Begegnung,Fit und Gesund,Grätzel
ATTACH;FMTTYPE=image/jpeg:https://kalender.seniorinnen.wien/wp-content/uploads/2024/03/csm_ISS_26764_02118_5c17b03da4-e1709728360409.jpg
END:VEVENT
BEGIN:VEVENT
DTSTART;TZID=Europe/Berlin:20250610T093000
DTEND;TZID=Europe/Berlin:20250610T110000
DTSTAMP:20260421T020026
CREATED:20250328T150759Z
LAST-MODIFIED:20250422T090049Z
UID:7718-1749547800-1749553200@kalender.seniorinnen.wien
SUMMARY:Thai Chi
DESCRIPTION:Tai Chi ist eine sanfte chinesische Bewegungskunst\, die Meditation\, körperliches Training und Achtsamkeit vereint. Sie hat einen positiven Einfluss auf die Lebensenergie und bringt Körper und Geist in Einklang. \nDienstag\, 09:30 – 11:00 Uhr \nTermine: 22.04.\, 29.04.\, 06.05.\, 13.05.\, 20.05.\, 27.05.\, 03.06.\, 10.06.\, 17.06.\, 24.06.2025 \nOrt: Hamerlingpark\, 1080 Wien
URL:https://kalender.seniorinnen.wien/event/thai-chi/2025-06-10/
LOCATION:Hamerlingpark\, Wien\, 1080
CATEGORIES:Begegnung,Fit und Gesund,Grätzel
ATTACH;FMTTYPE=image/jpeg:https://kalender.seniorinnen.wien/wp-content/uploads/2024/03/csm_ISS_26764_02118_5c17b03da4-e1709728360409.jpg
END:VEVENT
BEGIN:VEVENT
DTSTART;TZID=Europe/Berlin:20250603T093000
DTEND;TZID=Europe/Berlin:20250603T110000
DTSTAMP:20260421T020026
CREATED:20250328T150759Z
LAST-MODIFIED:20250422T090049Z
UID:7717-1748943000-1748948400@kalender.seniorinnen.wien
SUMMARY:Thai Chi
DESCRIPTION:Tai Chi ist eine sanfte chinesische Bewegungskunst\, die Meditation\, körperliches Training und Achtsamkeit vereint. Sie hat einen positiven Einfluss auf die Lebensenergie und bringt Körper und Geist in Einklang. \nDienstag\, 09:30 – 11:00 Uhr \nTermine: 22.04.\, 29.04.\, 06.05.\, 13.05.\, 20.05.\, 27.05.\, 03.06.\, 10.06.\, 17.06.\, 24.06.2025 \nOrt: Hamerlingpark\, 1080 Wien
URL:https://kalender.seniorinnen.wien/event/thai-chi/2025-06-03/
LOCATION:Hamerlingpark\, Wien\, 1080
CATEGORIES:Begegnung,Fit und Gesund,Grätzel
ATTACH;FMTTYPE=image/jpeg:https://kalender.seniorinnen.wien/wp-content/uploads/2024/03/csm_ISS_26764_02118_5c17b03da4-e1709728360409.jpg
END:VEVENT
BEGIN:VEVENT
DTSTART;TZID=Europe/Berlin:20250527T093000
DTEND;TZID=Europe/Berlin:20250527T110000
DTSTAMP:20260421T020026
CREATED:20250328T150759Z
LAST-MODIFIED:20250422T090049Z
UID:7716-1748338200-1748343600@kalender.seniorinnen.wien
SUMMARY:Thai Chi
DESCRIPTION:Tai Chi ist eine sanfte chinesische Bewegungskunst\, die Meditation\, körperliches Training und Achtsamkeit vereint. Sie hat einen positiven Einfluss auf die Lebensenergie und bringt Körper und Geist in Einklang. \nDienstag\, 09:30 – 11:00 Uhr \nTermine: 22.04.\, 29.04.\, 06.05.\, 13.05.\, 20.05.\, 27.05.\, 03.06.\, 10.06.\, 17.06.\, 24.06.2025 \nOrt: Hamerlingpark\, 1080 Wien
URL:https://kalender.seniorinnen.wien/event/thai-chi/2025-05-27/
LOCATION:Hamerlingpark\, Wien\, 1080
CATEGORIES:Begegnung,Fit und Gesund,Grätzel
ATTACH;FMTTYPE=image/jpeg:https://kalender.seniorinnen.wien/wp-content/uploads/2024/03/csm_ISS_26764_02118_5c17b03da4-e1709728360409.jpg
END:VEVENT
BEGIN:VEVENT
DTSTART;TZID=Europe/Berlin:20250520T093000
DTEND;TZID=Europe/Berlin:20250520T110000
DTSTAMP:20260421T020026
CREATED:20250328T150759Z
LAST-MODIFIED:20250422T090048Z
UID:7715-1747733400-1747738800@kalender.seniorinnen.wien
SUMMARY:Thai Chi
DESCRIPTION:Tai Chi ist eine sanfte chinesische Bewegungskunst\, die Meditation\, körperliches Training und Achtsamkeit vereint. Sie hat einen positiven Einfluss auf die Lebensenergie und bringt Körper und Geist in Einklang. \nDienstag\, 09:30 – 11:00 Uhr \nTermine: 22.04.\, 29.04.\, 06.05.\, 13.05.\, 20.05.\, 27.05.\, 03.06.\, 10.06.\, 17.06.\, 24.06.2025 \nOrt: Hamerlingpark\, 1080 Wien
URL:https://kalender.seniorinnen.wien/event/thai-chi/2025-05-20/
LOCATION:Hamerlingpark\, Wien\, 1080
CATEGORIES:Begegnung,Fit und Gesund,Grätzel
ATTACH;FMTTYPE=image/jpeg:https://kalender.seniorinnen.wien/wp-content/uploads/2024/03/csm_ISS_26764_02118_5c17b03da4-e1709728360409.jpg
END:VEVENT
BEGIN:VEVENT
DTSTART;TZID=Europe/Berlin:20250513T093000
DTEND;TZID=Europe/Berlin:20250513T110000
DTSTAMP:20260421T020026
CREATED:20250328T150759Z
LAST-MODIFIED:20250422T090048Z
UID:7714-1747128600-1747134000@kalender.seniorinnen.wien
SUMMARY:Thai Chi
DESCRIPTION:Tai Chi ist eine sanfte chinesische Bewegungskunst\, die Meditation\, körperliches Training und Achtsamkeit vereint. Sie hat einen positiven Einfluss auf die Lebensenergie und bringt Körper und Geist in Einklang. \nDienstag\, 09:30 – 11:00 Uhr \nTermine: 22.04.\, 29.04.\, 06.05.\, 13.05.\, 20.05.\, 27.05.\, 03.06.\, 10.06.\, 17.06.\, 24.06.2025 \nOrt: Hamerlingpark\, 1080 Wien
URL:https://kalender.seniorinnen.wien/event/thai-chi/2025-05-13/
LOCATION:Hamerlingpark\, Wien\, 1080
CATEGORIES:Begegnung,Fit und Gesund,Grätzel
ATTACH;FMTTYPE=image/jpeg:https://kalender.seniorinnen.wien/wp-content/uploads/2024/03/csm_ISS_26764_02118_5c17b03da4-e1709728360409.jpg
END:VEVENT
BEGIN:VEVENT
DTSTART;TZID=Europe/Berlin:20250506T093000
DTEND;TZID=Europe/Berlin:20250506T110000
DTSTAMP:20260421T020026
CREATED:20250328T150759Z
LAST-MODIFIED:20250422T090047Z
UID:7713-1746523800-1746529200@kalender.seniorinnen.wien
SUMMARY:Thai Chi
DESCRIPTION:Tai Chi ist eine sanfte chinesische Bewegungskunst\, die Meditation\, körperliches Training und Achtsamkeit vereint. Sie hat einen positiven Einfluss auf die Lebensenergie und bringt Körper und Geist in Einklang. \nDienstag\, 09:30 – 11:00 Uhr \nTermine: 22.04.\, 29.04.\, 06.05.\, 13.05.\, 20.05.\, 27.05.\, 03.06.\, 10.06.\, 17.06.\, 24.06.2025 \nOrt: Hamerlingpark\, 1080 Wien
URL:https://kalender.seniorinnen.wien/event/thai-chi/2025-05-06/
LOCATION:Hamerlingpark\, Wien\, 1080
CATEGORIES:Begegnung,Fit und Gesund,Grätzel
ATTACH;FMTTYPE=image/jpeg:https://kalender.seniorinnen.wien/wp-content/uploads/2024/03/csm_ISS_26764_02118_5c17b03da4-e1709728360409.jpg
END:VEVENT
BEGIN:VEVENT
DTSTART;TZID=Europe/Berlin:20250429T093000
DTEND;TZID=Europe/Berlin:20250429T110000
DTSTAMP:20260421T020026
CREATED:20250328T150759Z
LAST-MODIFIED:20250422T090047Z
UID:7712-1745919000-1745924400@kalender.seniorinnen.wien
SUMMARY:Thai Chi
DESCRIPTION:Tai Chi ist eine sanfte chinesische Bewegungskunst\, die Meditation\, körperliches Training und Achtsamkeit vereint. Sie hat einen positiven Einfluss auf die Lebensenergie und bringt Körper und Geist in Einklang. \nDienstag\, 09:30 – 11:00 Uhr \nTermine: 22.04.\, 29.04.\, 06.05.\, 13.05.\, 20.05.\, 27.05.\, 03.06.\, 10.06.\, 17.06.\, 24.06.2025 \nOrt: Hamerlingpark\, 1080 Wien
URL:https://kalender.seniorinnen.wien/event/thai-chi/2025-04-29/
LOCATION:Hamerlingpark\, Wien\, 1080
CATEGORIES:Begegnung,Fit und Gesund,Grätzel
ATTACH;FMTTYPE=image/jpeg:https://kalender.seniorinnen.wien/wp-content/uploads/2024/03/csm_ISS_26764_02118_5c17b03da4-e1709728360409.jpg
END:VEVENT
BEGIN:VEVENT
DTSTART;TZID=Europe/Berlin:20250422T093000
DTEND;TZID=Europe/Berlin:20250422T110000
DTSTAMP:20260421T020026
CREATED:20250328T150759Z
LAST-MODIFIED:20250422T090047Z
UID:7689-1745314200-1745319600@kalender.seniorinnen.wien
SUMMARY:Thai Chi
DESCRIPTION:Tai Chi ist eine sanfte chinesische Bewegungskunst\, die Meditation\, körperliches Training und Achtsamkeit vereint. Sie hat einen positiven Einfluss auf die Lebensenergie und bringt Körper und Geist in Einklang. \nDienstag\, 09:30 – 11:00 Uhr \nTermine: 22.04.\, 29.04.\, 06.05.\, 13.05.\, 20.05.\, 27.05.\, 03.06.\, 10.06.\, 17.06.\, 24.06.2025 \nOrt: Hamerlingpark\, 1080 Wien
URL:https://kalender.seniorinnen.wien/event/thai-chi/2025-04-22/
LOCATION:Hamerlingpark\, Wien\, 1080
CATEGORIES:Begegnung,Fit und Gesund,Grätzel
ATTACH;FMTTYPE=image/jpeg:https://kalender.seniorinnen.wien/wp-content/uploads/2024/03/csm_ISS_26764_02118_5c17b03da4-e1709728360409.jpg
END:VEVENT
END:VCALENDAR