BEGIN:VCALENDAR
VERSION:2.0
PRODID:-//Wien für Senior:innen - ECPv6.15.17.1//NONSGML v1.0//EN
CALSCALE:GREGORIAN
METHOD:PUBLISH
X-ORIGINAL-URL:https://kalender.seniorinnen.wien
X-WR-CALDESC:Veranstaltungen für Wien für Senior:innen
REFRESH-INTERVAL;VALUE=DURATION:PT1H
X-Robots-Tag:noindex
X-PUBLISHED-TTL:PT1H
BEGIN:VTIMEZONE
TZID:Europe/Berlin
BEGIN:DAYLIGHT
TZOFFSETFROM:+0100
TZOFFSETTO:+0200
TZNAME:CEST
DTSTART:20220327T010000
END:DAYLIGHT
BEGIN:STANDARD
TZOFFSETFROM:+0200
TZOFFSETTO:+0100
TZNAME:CET
DTSTART:20221030T010000
END:STANDARD
BEGIN:DAYLIGHT
TZOFFSETFROM:+0100
TZOFFSETTO:+0200
TZNAME:CEST
DTSTART:20230326T010000
END:DAYLIGHT
BEGIN:STANDARD
TZOFFSETFROM:+0200
TZOFFSETTO:+0100
TZNAME:CET
DTSTART:20231029T010000
END:STANDARD
BEGIN:DAYLIGHT
TZOFFSETFROM:+0100
TZOFFSETTO:+0200
TZNAME:CEST
DTSTART:20240331T010000
END:DAYLIGHT
BEGIN:STANDARD
TZOFFSETFROM:+0200
TZOFFSETTO:+0100
TZNAME:CET
DTSTART:20241027T010000
END:STANDARD
END:VTIMEZONE
BEGIN:VEVENT
DTSTART;TZID=Europe/Berlin:20231124T160000
DTEND;TZID=Europe/Berlin:20231124T170000
DTSTAMP:20260421T010818
CREATED:20231107T133041Z
LAST-MODIFIED:20231107T134443Z
UID:4541-1700841600-1700845200@kalender.seniorinnen.wien
SUMMARY:Tanz für blinde\, sehbeeinträchtigte und sehende Personen
DESCRIPTION:7x Freitag\, 24.11.2023 – 26.01.2024\, 16:00 – 17:00 Uhr \n€ 52\,00 \nKursort: VHS Simmering\, Gottschalkgasse 10 \, 1110 Wien \nDas Haus ist barrierefrei. \nAssistenz-/Begleitpersonen für Menschen mit erhöhtem Unterstützungsbedarf dürfen kostenlos mitgenommen werden! \nAuf Wunsch ist eine Abholung bei den nächstgelegenen Stationen der öffentlichen Verkehrsmittel möglich (U3 Enkplatz\, 15A\, Straßenbahnen 11 und 71) \nAlle inklusiven Angebote der VHS Simmering\, eine Wegbeschreibung für blinde Menschen sowie Informationen in einfacher Sprache gibt es hier: \nwww.vhs.at/simmering/inklusion \n⁣Inklusion | VHS Simmering
URL:https://kalender.seniorinnen.wien/event/tanz-fuer-blinde-sehbeeintraechtigte-und-sehende-personen/2023-11-24/
LOCATION:VHS Simmering\, Gottschalkgasse 10\, Wien\, 1110\, Österreich
CATEGORIES:Fit und Gesund
END:VEVENT
END:VCALENDAR