BEGIN:VCALENDAR
VERSION:2.0
PRODID:-//Wien für Senior:innen - ECPv6.15.17.1//NONSGML v1.0//EN
CALSCALE:GREGORIAN
METHOD:PUBLISH
X-WR-CALNAME:Wien für Senior:innen
X-ORIGINAL-URL:https://kalender.seniorinnen.wien
X-WR-CALDESC:Veranstaltungen für Wien für Senior:innen
REFRESH-INTERVAL;VALUE=DURATION:PT1H
X-Robots-Tag:noindex
X-PUBLISHED-TTL:PT1H
BEGIN:VTIMEZONE
TZID:Europe/Berlin
BEGIN:DAYLIGHT
TZOFFSETFROM:+0100
TZOFFSETTO:+0200
TZNAME:CEST
DTSTART:20240331T010000
END:DAYLIGHT
BEGIN:STANDARD
TZOFFSETFROM:+0200
TZOFFSETTO:+0100
TZNAME:CET
DTSTART:20241027T010000
END:STANDARD
BEGIN:DAYLIGHT
TZOFFSETFROM:+0100
TZOFFSETTO:+0200
TZNAME:CEST
DTSTART:20250330T010000
END:DAYLIGHT
BEGIN:STANDARD
TZOFFSETFROM:+0200
TZOFFSETTO:+0100
TZNAME:CET
DTSTART:20251026T010000
END:STANDARD
BEGIN:DAYLIGHT
TZOFFSETFROM:+0100
TZOFFSETTO:+0200
TZNAME:CEST
DTSTART:20260329T010000
END:DAYLIGHT
BEGIN:STANDARD
TZOFFSETFROM:+0200
TZOFFSETTO:+0100
TZNAME:CET
DTSTART:20261025T010000
END:STANDARD
END:VTIMEZONE
BEGIN:VEVENT
DTSTART;TZID=Europe/Berlin:20251027T140000
DTEND;TZID=Europe/Berlin:20251027T153000
DTSTAMP:20260420T212133
CREATED:20250831T230014Z
LAST-MODIFIED:20250828T094354Z
UID:8640-1761573600-1761579000@kalender.seniorinnen.wien
SUMMARY:Sonderführung: Rathaus
DESCRIPTION:Wie gut kennen Sie das Wiener Rathaus? Der PVÖ Wien lädt Sie zu einer Sonderführung durch das historische Gebäude ein. Erfahren Sie allerhand Wissenswertes über dieses wichtige Wahrzeichen Wiens im Stil der Neogotik. \nHinweis: Das Wiener Rathaus ist bei Führungen nur bedingt barrierefrei. \nMax. 35 Teilnehmer:innen pro Termin  \nAnmeldung bis 15.10. bzw. 22.10. \nDie Teilnahme ist nur möglich nach Anmeldung und entsprechender Bestätigung des PVÖ Wien. \nTel.: 0 1 319 40 12\nMail: pvoe-wien@pvoe.at \nFoto: PVÖ
URL:https://kalender.seniorinnen.wien/event/sonderfuehrung-rathaus/2025-10-27/
LOCATION:Rathaus\, Friedrich-Schmidt-Platz 1\, 1010 Wien\, Friedrich-Schmidt-Platz 1\, Wien\, Wien\, 1010\, Austria
CATEGORIES:Ausflüge,Begegnung,Monat der Senior:innen
ATTACH;FMTTYPE=image/jpeg:https://kalender.seniorinnen.wien/wp-content/uploads/2023/08/GettyImages©Trifonov_Evgeniy-993658656-scaled-e1756374150727.jpg
END:VEVENT
BEGIN:VEVENT
DTSTART;TZID=Europe/Berlin:20251020T140000
DTEND;TZID=Europe/Berlin:20251020T153000
DTSTAMP:20260420T212133
CREATED:20250831T230014Z
LAST-MODIFIED:20250828T094354Z
UID:8612-1760968800-1760974200@kalender.seniorinnen.wien
SUMMARY:Sonderführung: Rathaus
DESCRIPTION:Wie gut kennen Sie das Wiener Rathaus? Der PVÖ Wien lädt Sie zu einer Sonderführung durch das historische Gebäude ein. Erfahren Sie allerhand Wissenswertes über dieses wichtige Wahrzeichen Wiens im Stil der Neogotik. \nHinweis: Das Wiener Rathaus ist bei Führungen nur bedingt barrierefrei. \nMax. 35 Teilnehmer:innen pro Termin  \nAnmeldung bis 15.10. bzw. 22.10. \nDie Teilnahme ist nur möglich nach Anmeldung und entsprechender Bestätigung des PVÖ Wien. \nTel.: 0 1 319 40 12\nMail: pvoe-wien@pvoe.at \nFoto: PVÖ
URL:https://kalender.seniorinnen.wien/event/sonderfuehrung-rathaus/2025-10-20/
LOCATION:Rathaus\, Friedrich-Schmidt-Platz 1\, 1010 Wien\, Friedrich-Schmidt-Platz 1\, Wien\, Wien\, 1010\, Austria
CATEGORIES:Ausflüge,Begegnung,Monat der Senior:innen
ATTACH;FMTTYPE=image/jpeg:https://kalender.seniorinnen.wien/wp-content/uploads/2023/08/GettyImages©Trifonov_Evgeniy-993658656-scaled-e1756374150727.jpg
END:VEVENT
END:VCALENDAR