BEGIN:VCALENDAR
VERSION:2.0
PRODID:-//Wien für Senior:innen - ECPv6.15.17.1//NONSGML v1.0//EN
CALSCALE:GREGORIAN
METHOD:PUBLISH
X-WR-CALNAME:Wien für Senior:innen
X-ORIGINAL-URL:https://kalender.seniorinnen.wien
X-WR-CALDESC:Veranstaltungen für Wien für Senior:innen
REFRESH-INTERVAL;VALUE=DURATION:PT1H
X-Robots-Tag:noindex
X-PUBLISHED-TTL:PT1H
BEGIN:VTIMEZONE
TZID:Europe/Berlin
BEGIN:DAYLIGHT
TZOFFSETFROM:+0100
TZOFFSETTO:+0200
TZNAME:CEST
DTSTART:20230326T010000
END:DAYLIGHT
BEGIN:STANDARD
TZOFFSETFROM:+0200
TZOFFSETTO:+0100
TZNAME:CET
DTSTART:20231029T010000
END:STANDARD
BEGIN:DAYLIGHT
TZOFFSETFROM:+0100
TZOFFSETTO:+0200
TZNAME:CEST
DTSTART:20240331T010000
END:DAYLIGHT
BEGIN:STANDARD
TZOFFSETFROM:+0200
TZOFFSETTO:+0100
TZNAME:CET
DTSTART:20241027T010000
END:STANDARD
BEGIN:DAYLIGHT
TZOFFSETFROM:+0100
TZOFFSETTO:+0200
TZNAME:CEST
DTSTART:20250330T010000
END:DAYLIGHT
BEGIN:STANDARD
TZOFFSETFROM:+0200
TZOFFSETTO:+0100
TZNAME:CET
DTSTART:20251026T010000
END:STANDARD
BEGIN:DAYLIGHT
TZOFFSETFROM:+0100
TZOFFSETTO:+0200
TZNAME:CEST
DTSTART:20260329T010000
END:DAYLIGHT
BEGIN:STANDARD
TZOFFSETFROM:+0200
TZOFFSETTO:+0100
TZNAME:CET
DTSTART:20261025T010000
END:STANDARD
END:VTIMEZONE
BEGIN:VEVENT
DTSTART;TZID=Europe/Berlin:20250115T150000
DTEND;TZID=Europe/Berlin:20250115T173000
DTSTAMP:20260420T131739
CREATED:20240717T102335Z
LAST-MODIFIED:20240717T102335Z
UID:7057-1736953200-1736962200@kalender.seniorinnen.wien
SUMMARY:Senior:innen aktiv: Vortragsreihe der VHS Favoriten
DESCRIPTION:In Kooperation mit den Wiener Sozialdiensten/Kontaktbesuchsdienst und der Senior:innenbeauftragten der Stadt Wien bietet die VHS Favoriten eine kostenlose Vortragsreihe für Senior:innen: \n\nDienstag\, 29.10.2024\, 16:30 – 18:30 Uhr\nAm Ende des Geldes zu viel Monat?\nDie Expert:innen der Abteilung Finanzbildung des FSW informieren über die Möglichkeiten der Einnahmenerhöhung bzw. Ausgabenreduktion und geben Tipps für einen guten Überblick über die eigenen Finanzen.\nDonnerstag\, 14.11.2024\, 16:30 – 18:30 Uhr\nNetzwerk für pflegende An- und Zugehörige – Begleitung\, Unterstützung und Beratung für den Alltag eines pflegenden An- und Zugehörigen (Abgesagt!)\nViele pflegebedürftige Menschen werden von Personen aus dem nahen häuslichen Umfeld betreut. Ein ganzheitliches Angebot des FSW\, um das gesellschaftliche Ansehen der Pflegenden zu erhöhen\, sie zu entlasten und sozial abzusichern\, wird hier vorgestellt.\nDienstag\, 3.12.2024\, 15 – 17:30 Uhr\nGesundheitsfolgen der Klimakrise: Schwerpunkt Senior:innen – was ist zu tun?\nDie Klimakrise\, speziell die Hitze\, bringt massive Veränderungen mit sich. Wie ist damit umzugehen? Was können wir tun und was muss die Politik dazu beitragen? Das und mehr diskutieren wir mit Prof. Dr. Hans-Peter Hutter\, Abteilung für Umwelthygiene und Umweltmedizin.\nMittwoch\, 15.01.2025\, 15 – 17:30 Uhr\nGemeinsam.Sicher in den besten Jahren\nDie Referenten Christoph Rakowitz (Kontrollinspektor) und Franz Streyc (Grätzlpolizist) informieren über Gefahren\, wie z.B. den Neffentrick\, geben Tipps zur Sicherheit in den eigenen vier Wänden sowie beim Einkaufen\, im Urlaub oder beim „Surfen“ im Internet. Auch wenn noch nichts passiert ist\, kann es hilfreich sein\, die Polizei auf ein Problem aufmerksam zu machen\, um gemeinsam Lösungen zu finden.\n\nDie Teilnahme ist kostenlos! Um Anmeldung wird gebeten.\nWeitere Informationen und Anmeldung in der VHS Favoriten sowie auf der Website vhs.at/favoriten.
URL:https://kalender.seniorinnen.wien/event/seniorinnen-aktiv-vortragsreihe-der-vhs-favoriten/2025-01-15/
LOCATION:VHS Favoriten\, Arthaberplatz 18\, Wien\, 1100
CATEGORIES:Bildung,Information
ATTACH;FMTTYPE=image/jpeg:https://kalender.seniorinnen.wien/wp-content/uploads/2023/11/couple-7353748_1920-e1707313438634.jpg
END:VEVENT
BEGIN:VEVENT
DTSTART;TZID=Europe/Berlin:20241203T153000
DTEND;TZID=Europe/Berlin:20241203T173000
DTSTAMP:20260420T131739
CREATED:20240717T102335Z
LAST-MODIFIED:20240717T102335Z
UID:7056-1733239800-1733247000@kalender.seniorinnen.wien
SUMMARY:Senior:innen aktiv: Vortragsreihe der VHS Favoriten
DESCRIPTION:In Kooperation mit den Wiener Sozialdiensten/Kontaktbesuchsdienst und der Senior:innenbeauftragten der Stadt Wien bietet die VHS Favoriten eine kostenlose Vortragsreihe für Senior:innen: \n\nDienstag\, 29.10.2024\, 16:30 – 18:30 Uhr\nAm Ende des Geldes zu viel Monat?\nDie Expert:innen der Abteilung Finanzbildung des FSW informieren über die Möglichkeiten der Einnahmenerhöhung bzw. Ausgabenreduktion und geben Tipps für einen guten Überblick über die eigenen Finanzen.\nDonnerstag\, 14.11.2024\, 16:30 – 18:30 Uhr\nNetzwerk für pflegende An- und Zugehörige – Begleitung\, Unterstützung und Beratung für den Alltag eines pflegenden An- und Zugehörigen (Abgesagt!)\nViele pflegebedürftige Menschen werden von Personen aus dem nahen häuslichen Umfeld betreut. Ein ganzheitliches Angebot des FSW\, um das gesellschaftliche Ansehen der Pflegenden zu erhöhen\, sie zu entlasten und sozial abzusichern\, wird hier vorgestellt.\nDienstag\, 3.12.2024\, 15 – 17:30 Uhr\nGesundheitsfolgen der Klimakrise: Schwerpunkt Senior:innen – was ist zu tun?\nDie Klimakrise\, speziell die Hitze\, bringt massive Veränderungen mit sich. Wie ist damit umzugehen? Was können wir tun und was muss die Politik dazu beitragen? Das und mehr diskutieren wir mit Prof. Dr. Hans-Peter Hutter\, Abteilung für Umwelthygiene und Umweltmedizin.\nMittwoch\, 15.01.2025\, 15 – 17:30 Uhr\nGemeinsam.Sicher in den besten Jahren\nDie Referenten Christoph Rakowitz (Kontrollinspektor) und Franz Streyc (Grätzlpolizist) informieren über Gefahren\, wie z.B. den Neffentrick\, geben Tipps zur Sicherheit in den eigenen vier Wänden sowie beim Einkaufen\, im Urlaub oder beim „Surfen“ im Internet. Auch wenn noch nichts passiert ist\, kann es hilfreich sein\, die Polizei auf ein Problem aufmerksam zu machen\, um gemeinsam Lösungen zu finden.\n\nDie Teilnahme ist kostenlos! Um Anmeldung wird gebeten.\nWeitere Informationen und Anmeldung in der VHS Favoriten sowie auf der Website vhs.at/favoriten.
URL:https://kalender.seniorinnen.wien/event/seniorinnen-aktiv-vortragsreihe-der-vhs-favoriten/2024-12-03/
LOCATION:VHS Favoriten\, Arthaberplatz 18\, Wien\, 1100
CATEGORIES:Bildung,Information
ATTACH;FMTTYPE=image/jpeg:https://kalender.seniorinnen.wien/wp-content/uploads/2023/11/couple-7353748_1920-e1707313438634.jpg
END:VEVENT
BEGIN:VEVENT
DTSTART;TZID=Europe/Berlin:20241114T163000
DTEND;TZID=Europe/Berlin:20241114T183000
DTSTAMP:20260420T131739
CREATED:20240717T102335Z
LAST-MODIFIED:20241120T103925Z
UID:5829-1731601800-1731609000@kalender.seniorinnen.wien
SUMMARY:Senior:innen aktiv: Vortragsreihe der VHS Favoriten
DESCRIPTION:In Kooperation mit den Wiener Sozialdiensten/Kontaktbesuchsdienst und der Senior:innenbeauftragten der Stadt Wien bietet die VHS Favoriten eine kostenlose Vortragsreihe für Senior:innen: \n\nDienstag\, 29.10.2024\, 16:30 – 18:30 Uhr\nAm Ende des Geldes zu viel Monat?\nDie Expert:innen der Abteilung Finanzbildung des FSW informieren über die Möglichkeiten der Einnahmenerhöhung bzw. Ausgabenreduktion und geben Tipps für einen guten Überblick über die eigenen Finanzen.\nDonnerstag\, 14.11.2024\, 16:30 – 18:30 Uhr\nNetzwerk für pflegende An- und Zugehörige – Begleitung\, Unterstützung und Beratung für den Alltag eines pflegenden An- und Zugehörigen (Abgesagt!)\nViele pflegebedürftige Menschen werden von Personen aus dem nahen häuslichen Umfeld betreut. Ein ganzheitliches Angebot des FSW\, um das gesellschaftliche Ansehen der Pflegenden zu erhöhen\, sie zu entlasten und sozial abzusichern\, wird hier vorgestellt.\nDienstag\, 3.12.2024\, 15 – 17:30 Uhr\nGesundheitsfolgen der Klimakrise: Schwerpunkt Senior:innen – was ist zu tun?\nDie Klimakrise\, speziell die Hitze\, bringt massive Veränderungen mit sich. Wie ist damit umzugehen? Was können wir tun und was muss die Politik dazu beitragen? Das und mehr diskutieren wir mit Prof. Dr. Hans-Peter Hutter\, Abteilung für Umwelthygiene und Umweltmedizin.\nMittwoch\, 15.01.2025\, 15 – 17:30 Uhr\nGemeinsam.Sicher in den besten Jahren\nDie Referenten Christoph Rakowitz (Kontrollinspektor) und Franz Streyc (Grätzlpolizist) informieren über Gefahren\, wie z.B. den Neffentrick\, geben Tipps zur Sicherheit in den eigenen vier Wänden sowie beim Einkaufen\, im Urlaub oder beim „Surfen“ im Internet. Auch wenn noch nichts passiert ist\, kann es hilfreich sein\, die Polizei auf ein Problem aufmerksam zu machen\, um gemeinsam Lösungen zu finden.\n\nDie Teilnahme ist kostenlos! Um Anmeldung wird gebeten.\nWeitere Informationen und Anmeldung in der VHS Favoriten sowie auf der Website vhs.at/favoriten.
URL:https://kalender.seniorinnen.wien/event/seniorinnen-aktiv-vortragsreihe-der-vhs-favoriten/2024-11-14/
LOCATION:VHS Favoriten\, Arthaberplatz 18\, Wien\, 1100
CATEGORIES:Bildung,Information
ATTACH;FMTTYPE=image/jpeg:https://kalender.seniorinnen.wien/wp-content/uploads/2023/11/couple-7353748_1920-e1707313438634.jpg
END:VEVENT
BEGIN:VEVENT
DTSTART;TZID=Europe/Berlin:20241029T163000
DTEND;TZID=Europe/Berlin:20241029T183000
DTSTAMP:20260420T131739
CREATED:20240717T102335Z
LAST-MODIFIED:20241120T103923Z
UID:5822-1730219400-1730226600@kalender.seniorinnen.wien
SUMMARY:Senior:innen aktiv: Vortragsreihe der VHS Favoriten
DESCRIPTION:In Kooperation mit den Wiener Sozialdiensten/Kontaktbesuchsdienst und der Senior:innenbeauftragten der Stadt Wien bietet die VHS Favoriten eine kostenlose Vortragsreihe für Senior:innen: \n\nDienstag\, 29.10.2024\, 16:30 – 18:30 Uhr\nAm Ende des Geldes zu viel Monat?\nDie Expert:innen der Abteilung Finanzbildung des FSW informieren über die Möglichkeiten der Einnahmenerhöhung bzw. Ausgabenreduktion und geben Tipps für einen guten Überblick über die eigenen Finanzen.\nDonnerstag\, 14.11.2024\, 16:30 – 18:30 Uhr\nNetzwerk für pflegende An- und Zugehörige – Begleitung\, Unterstützung und Beratung für den Alltag eines pflegenden An- und Zugehörigen (Abgesagt!)\nViele pflegebedürftige Menschen werden von Personen aus dem nahen häuslichen Umfeld betreut. Ein ganzheitliches Angebot des FSW\, um das gesellschaftliche Ansehen der Pflegenden zu erhöhen\, sie zu entlasten und sozial abzusichern\, wird hier vorgestellt.\nDienstag\, 3.12.2024\, 15 – 17:30 Uhr\nGesundheitsfolgen der Klimakrise: Schwerpunkt Senior:innen – was ist zu tun?\nDie Klimakrise\, speziell die Hitze\, bringt massive Veränderungen mit sich. Wie ist damit umzugehen? Was können wir tun und was muss die Politik dazu beitragen? Das und mehr diskutieren wir mit Prof. Dr. Hans-Peter Hutter\, Abteilung für Umwelthygiene und Umweltmedizin.\nMittwoch\, 15.01.2025\, 15 – 17:30 Uhr\nGemeinsam.Sicher in den besten Jahren\nDie Referenten Christoph Rakowitz (Kontrollinspektor) und Franz Streyc (Grätzlpolizist) informieren über Gefahren\, wie z.B. den Neffentrick\, geben Tipps zur Sicherheit in den eigenen vier Wänden sowie beim Einkaufen\, im Urlaub oder beim „Surfen“ im Internet. Auch wenn noch nichts passiert ist\, kann es hilfreich sein\, die Polizei auf ein Problem aufmerksam zu machen\, um gemeinsam Lösungen zu finden.\n\nDie Teilnahme ist kostenlos! Um Anmeldung wird gebeten.\nWeitere Informationen und Anmeldung in der VHS Favoriten sowie auf der Website vhs.at/favoriten.
URL:https://kalender.seniorinnen.wien/event/seniorinnen-aktiv-vortragsreihe-der-vhs-favoriten/2024-10-29/
LOCATION:VHS Favoriten\, Arthaberplatz 18\, Wien\, 1100
CATEGORIES:Bildung,Information
ATTACH;FMTTYPE=image/jpeg:https://kalender.seniorinnen.wien/wp-content/uploads/2023/11/couple-7353748_1920-e1707313438634.jpg
END:VEVENT
END:VCALENDAR