BEGIN:VCALENDAR
VERSION:2.0
PRODID:-//Wien für Senior:innen - ECPv6.15.17.1//NONSGML v1.0//EN
CALSCALE:GREGORIAN
METHOD:PUBLISH
X-WR-CALNAME:Wien für Senior:innen
X-ORIGINAL-URL:https://kalender.seniorinnen.wien
X-WR-CALDESC:Veranstaltungen für Wien für Senior:innen
REFRESH-INTERVAL;VALUE=DURATION:PT1H
X-Robots-Tag:noindex
X-PUBLISHED-TTL:PT1H
BEGIN:VTIMEZONE
TZID:Europe/Berlin
BEGIN:DAYLIGHT
TZOFFSETFROM:+0100
TZOFFSETTO:+0200
TZNAME:CEST
DTSTART:20250330T010000
END:DAYLIGHT
BEGIN:STANDARD
TZOFFSETFROM:+0200
TZOFFSETTO:+0100
TZNAME:CET
DTSTART:20251026T010000
END:STANDARD
BEGIN:DAYLIGHT
TZOFFSETFROM:+0100
TZOFFSETTO:+0200
TZNAME:CEST
DTSTART:20260329T010000
END:DAYLIGHT
BEGIN:STANDARD
TZOFFSETFROM:+0200
TZOFFSETTO:+0100
TZNAME:CET
DTSTART:20261025T010000
END:STANDARD
BEGIN:DAYLIGHT
TZOFFSETFROM:+0100
TZOFFSETTO:+0200
TZNAME:CEST
DTSTART:20270328T010000
END:DAYLIGHT
BEGIN:STANDARD
TZOFFSETFROM:+0200
TZOFFSETTO:+0100
TZNAME:CET
DTSTART:20271031T010000
END:STANDARD
END:VTIMEZONE
BEGIN:VEVENT
DTSTART;TZID=Europe/Berlin:20260418T103000
DTEND;TZID=Europe/Berlin:20260418T113000
DTSTAMP:20260423T121644
CREATED:20260109T075544Z
LAST-MODIFIED:20260109T080543Z
UID:11381-1776508200-1776511800@kalender.seniorinnen.wien
SUMMARY:Schloss Esterházy: Führung im Sitzen
DESCRIPTION:Diese Schlossführung im Sitzen ermöglicht allen Besucher:innen\, die Geschichte des Schlosses Esterházy in ihrer ganzen Tiefe und Vielfalt zu erleben – bequem und ohne Treppensteigen zwischen den Ausstellungsebenen. Sie eignet sich besonders für Menschen mit Bewegungseinschränkungen. \nDauer: ca. 60 Min.\nPreise und Öffnungszeiten: esterhazy.at/sitzen\nAnfragen und Buchung: Schloss Esterházy\, 7000 Eisenstadt\nTelefon: +43 2682 63004-7600\nE-Mail: schloss-esterhazy@esterhazy.at \nFoto: Schloss Esterházy
URL:https://kalender.seniorinnen.wien/event/schloss-esterhazy-fuehrung-im-sitzen/2026-04-18/
LOCATION:Schloss Esterházy\, Schloss Esterházy\, Eisenstadt\, 7000\, Austria
ATTACH;FMTTYPE=image/jpeg:https://kalender.seniorinnen.wien/wp-content/uploads/2026/01/SCHEE_Fuehrung-Sitzen.jpg
ORGANIZER;CN="Schloss Esterh%C3%A1zy":MAILTO:schloss-esterhazy@esterhazy.at
END:VEVENT
BEGIN:VEVENT
DTSTART;TZID=Europe/Berlin:20260321T103000
DTEND;TZID=Europe/Berlin:20260321T113000
DTSTAMP:20260423T121644
CREATED:20260109T075544Z
LAST-MODIFIED:20260109T080543Z
UID:11380-1774089000-1774092600@kalender.seniorinnen.wien
SUMMARY:Schloss Esterházy: Führung im Sitzen
DESCRIPTION:Diese Schlossführung im Sitzen ermöglicht allen Besucher:innen\, die Geschichte des Schlosses Esterházy in ihrer ganzen Tiefe und Vielfalt zu erleben – bequem und ohne Treppensteigen zwischen den Ausstellungsebenen. Sie eignet sich besonders für Menschen mit Bewegungseinschränkungen. \nDauer: ca. 60 Min.\nPreise und Öffnungszeiten: esterhazy.at/sitzen\nAnfragen und Buchung: Schloss Esterházy\, 7000 Eisenstadt\nTelefon: +43 2682 63004-7600\nE-Mail: schloss-esterhazy@esterhazy.at \nFoto: Schloss Esterházy
URL:https://kalender.seniorinnen.wien/event/schloss-esterhazy-fuehrung-im-sitzen/2026-03-21/
LOCATION:Schloss Esterházy\, Schloss Esterházy\, Eisenstadt\, 7000\, Austria
ATTACH;FMTTYPE=image/jpeg:https://kalender.seniorinnen.wien/wp-content/uploads/2026/01/SCHEE_Fuehrung-Sitzen.jpg
ORGANIZER;CN="Schloss Esterh%C3%A1zy":MAILTO:schloss-esterhazy@esterhazy.at
END:VEVENT
BEGIN:VEVENT
DTSTART;TZID=Europe/Berlin:20260214T103000
DTEND;TZID=Europe/Berlin:20260214T113000
DTSTAMP:20260423T121644
CREATED:20260109T075544Z
LAST-MODIFIED:20260109T080542Z
UID:11372-1771065000-1771068600@kalender.seniorinnen.wien
SUMMARY:Schloss Esterházy: Führung im Sitzen
DESCRIPTION:Diese Schlossführung im Sitzen ermöglicht allen Besucher:innen\, die Geschichte des Schlosses Esterházy in ihrer ganzen Tiefe und Vielfalt zu erleben – bequem und ohne Treppensteigen zwischen den Ausstellungsebenen. Sie eignet sich besonders für Menschen mit Bewegungseinschränkungen. \nDauer: ca. 60 Min.\nPreise und Öffnungszeiten: esterhazy.at/sitzen\nAnfragen und Buchung: Schloss Esterházy\, 7000 Eisenstadt\nTelefon: +43 2682 63004-7600\nE-Mail: schloss-esterhazy@esterhazy.at \nFoto: Schloss Esterházy
URL:https://kalender.seniorinnen.wien/event/schloss-esterhazy-fuehrung-im-sitzen/2026-02-14/
LOCATION:Schloss Esterházy\, Schloss Esterházy\, Eisenstadt\, 7000\, Austria
ATTACH;FMTTYPE=image/jpeg:https://kalender.seniorinnen.wien/wp-content/uploads/2026/01/SCHEE_Fuehrung-Sitzen.jpg
ORGANIZER;CN="Schloss Esterh%C3%A1zy":MAILTO:schloss-esterhazy@esterhazy.at
END:VEVENT
END:VCALENDAR