BEGIN:VCALENDAR
VERSION:2.0
PRODID:-//Wien für Senior:innen - ECPv6.15.17.1//NONSGML v1.0//EN
CALSCALE:GREGORIAN
METHOD:PUBLISH
X-ORIGINAL-URL:https://kalender.seniorinnen.wien
X-WR-CALDESC:Veranstaltungen für Wien für Senior:innen
REFRESH-INTERVAL;VALUE=DURATION:PT1H
X-Robots-Tag:noindex
X-PUBLISHED-TTL:PT1H
BEGIN:VTIMEZONE
TZID:Europe/Berlin
BEGIN:DAYLIGHT
TZOFFSETFROM:+0100
TZOFFSETTO:+0200
TZNAME:CEST
DTSTART:20240331T010000
END:DAYLIGHT
BEGIN:STANDARD
TZOFFSETFROM:+0200
TZOFFSETTO:+0100
TZNAME:CET
DTSTART:20241027T010000
END:STANDARD
BEGIN:DAYLIGHT
TZOFFSETFROM:+0100
TZOFFSETTO:+0200
TZNAME:CEST
DTSTART:20250330T010000
END:DAYLIGHT
BEGIN:STANDARD
TZOFFSETFROM:+0200
TZOFFSETTO:+0100
TZNAME:CET
DTSTART:20251026T010000
END:STANDARD
BEGIN:DAYLIGHT
TZOFFSETFROM:+0100
TZOFFSETTO:+0200
TZNAME:CEST
DTSTART:20260329T010000
END:DAYLIGHT
BEGIN:STANDARD
TZOFFSETFROM:+0200
TZOFFSETTO:+0100
TZNAME:CET
DTSTART:20261025T010000
END:STANDARD
END:VTIMEZONE
BEGIN:VEVENT
DTSTART;TZID=Europe/Berlin:20251028T093000
DTEND;TZID=Europe/Berlin:20251028T103000
DTSTAMP:20260420T211201
CREATED:20250831T230003Z
LAST-MODIFIED:20250831T230003Z
UID:9269-1761643800-1761647400@kalender.seniorinnen.wien
SUMMARY:SC HAKOAH Sport & Freizeitzentrum - Yoga
DESCRIPTION:Ein Beweglichkeitstraining mit Balance-Übungen\nMax. 20 Teilnehmer:innen \nKeine Anmeldung erforderlich! \nWeitere Infos: http://www.hakoah.at \nFoto: SC HAKOAH
URL:https://kalender.seniorinnen.wien/event/sc-hakoah-sport-freizeitzentrum-yoga/2025-10-28/
LOCATION:SC HAKOAH Sport & Freizeitzentrum\, Wehlistraße 326\, Wien\, Wien\, 1020\, Austria
CATEGORIES:Fit und Gesund,Monat der Senior:innen
ATTACH;FMTTYPE=image/jpeg:https://kalender.seniorinnen.wien/wp-content/uploads/2025/08/c_123rf_com-e1756217539605.jpg
ORGANIZER;CN="SC HAKOAH":MAILTO:office@hakoah.at
END:VEVENT
BEGIN:VEVENT
DTSTART;TZID=Europe/Berlin:20251021T093000
DTEND;TZID=Europe/Berlin:20251021T103000
DTSTAMP:20260420T211201
CREATED:20250831T230003Z
LAST-MODIFIED:20250831T230003Z
UID:9268-1761039000-1761042600@kalender.seniorinnen.wien
SUMMARY:SC HAKOAH Sport & Freizeitzentrum - Yoga
DESCRIPTION:Ein Beweglichkeitstraining mit Balance-Übungen\nMax. 20 Teilnehmer:innen \nKeine Anmeldung erforderlich! \nWeitere Infos: http://www.hakoah.at \nFoto: SC HAKOAH
URL:https://kalender.seniorinnen.wien/event/sc-hakoah-sport-freizeitzentrum-yoga/2025-10-21/
LOCATION:SC HAKOAH Sport & Freizeitzentrum\, Wehlistraße 326\, Wien\, Wien\, 1020\, Austria
CATEGORIES:Fit und Gesund,Monat der Senior:innen
ATTACH;FMTTYPE=image/jpeg:https://kalender.seniorinnen.wien/wp-content/uploads/2025/08/c_123rf_com-e1756217539605.jpg
ORGANIZER;CN="SC HAKOAH":MAILTO:office@hakoah.at
END:VEVENT
BEGIN:VEVENT
DTSTART;TZID=Europe/Berlin:20251014T093000
DTEND;TZID=Europe/Berlin:20251014T103000
DTSTAMP:20260420T211201
CREATED:20250831T230003Z
LAST-MODIFIED:20250831T230003Z
UID:9267-1760434200-1760437800@kalender.seniorinnen.wien
SUMMARY:SC HAKOAH Sport & Freizeitzentrum - Yoga
DESCRIPTION:Ein Beweglichkeitstraining mit Balance-Übungen\nMax. 20 Teilnehmer:innen \nKeine Anmeldung erforderlich! \nWeitere Infos: http://www.hakoah.at \nFoto: SC HAKOAH
URL:https://kalender.seniorinnen.wien/event/sc-hakoah-sport-freizeitzentrum-yoga/2025-10-14/
LOCATION:SC HAKOAH Sport & Freizeitzentrum\, Wehlistraße 326\, Wien\, Wien\, 1020\, Austria
CATEGORIES:Fit und Gesund,Monat der Senior:innen
ATTACH;FMTTYPE=image/jpeg:https://kalender.seniorinnen.wien/wp-content/uploads/2025/08/c_123rf_com-e1756217539605.jpg
ORGANIZER;CN="SC HAKOAH":MAILTO:office@hakoah.at
END:VEVENT
BEGIN:VEVENT
DTSTART;TZID=Europe/Berlin:20251007T093000
DTEND;TZID=Europe/Berlin:20251007T103000
DTSTAMP:20260420T211201
CREATED:20250831T230003Z
LAST-MODIFIED:20250826T141656Z
UID:8135-1759829400-1759833000@kalender.seniorinnen.wien
SUMMARY:SC HAKOAH Sport & Freizeitzentrum - Yoga
DESCRIPTION:Ein Beweglichkeitstraining mit Balance-Übungen\nMax. 20 Teilnehmer:innen \nKeine Anmeldung erforderlich! \nWeitere Infos: http://www.hakoah.at \nFoto: SC HAKOAH
URL:https://kalender.seniorinnen.wien/event/sc-hakoah-sport-freizeitzentrum-yoga/2025-10-07/
LOCATION:SC HAKOAH Sport & Freizeitzentrum\, Wehlistraße 326\, Wien\, Wien\, 1020\, Austria
CATEGORIES:Fit und Gesund,Monat der Senior:innen
ATTACH;FMTTYPE=image/jpeg:https://kalender.seniorinnen.wien/wp-content/uploads/2025/08/c_123rf_com-e1756217539605.jpg
ORGANIZER;CN="SC HAKOAH":MAILTO:office@hakoah.at
END:VEVENT
END:VCALENDAR