BEGIN:VCALENDAR
VERSION:2.0
PRODID:-//Wien für Senior:innen - ECPv6.15.17.1//NONSGML v1.0//EN
CALSCALE:GREGORIAN
METHOD:PUBLISH
X-ORIGINAL-URL:https://kalender.seniorinnen.wien
X-WR-CALDESC:Veranstaltungen für Wien für Senior:innen
REFRESH-INTERVAL;VALUE=DURATION:PT1H
X-Robots-Tag:noindex
X-PUBLISHED-TTL:PT1H
BEGIN:VTIMEZONE
TZID:Europe/Berlin
BEGIN:DAYLIGHT
TZOFFSETFROM:+0100
TZOFFSETTO:+0200
TZNAME:CEST
DTSTART:20240331T010000
END:DAYLIGHT
BEGIN:STANDARD
TZOFFSETFROM:+0200
TZOFFSETTO:+0100
TZNAME:CET
DTSTART:20241027T010000
END:STANDARD
BEGIN:DAYLIGHT
TZOFFSETFROM:+0100
TZOFFSETTO:+0200
TZNAME:CEST
DTSTART:20250330T010000
END:DAYLIGHT
BEGIN:STANDARD
TZOFFSETFROM:+0200
TZOFFSETTO:+0100
TZNAME:CET
DTSTART:20251026T010000
END:STANDARD
BEGIN:DAYLIGHT
TZOFFSETFROM:+0100
TZOFFSETTO:+0200
TZNAME:CEST
DTSTART:20260329T010000
END:DAYLIGHT
BEGIN:STANDARD
TZOFFSETFROM:+0200
TZOFFSETTO:+0100
TZNAME:CET
DTSTART:20261025T010000
END:STANDARD
END:VTIMEZONE
BEGIN:VEVENT
DTSTART;TZID=Europe/Berlin:20251029T170000
DTEND;TZID=Europe/Berlin:20251029T180000
DTSTAMP:20260420T200649
CREATED:20250831T230019Z
LAST-MODIFIED:20250826T141239Z
UID:8153-1761757200-1761760800@kalender.seniorinnen.wien
SUMMARY:SC HAKOAH Sport & Freizeitzentrum  - Medizinische Wirbelsäulengymnastik
DESCRIPTION:Mobilisieren und kräftigen Sie ihre Rückenmuskulatur\nMax. 20 Teilnehmer:innen \nKeine Anmeldung erforderlich! \nWeitere Infos: http://www.hakoah.at \nFoto: SC HAKOAH
URL:https://kalender.seniorinnen.wien/event/sc-hakoah-sport-freizeitzentrum-medizinische-wirbelsaeulengymnastik/2025-10-29/
LOCATION:SC HAKOAH Sport & Freizeitzentrum\, Wehlistraße 326\, Wien\, Wien\, 1020\, Austria
CATEGORIES:Fit und Gesund,Monat der Senior:innen
ATTACH;FMTTYPE=image/jpeg:https://kalender.seniorinnen.wien/wp-content/uploads/2025/08/c_123rf_com-e1756217539605.jpg
ORGANIZER;CN="SC HAKOAH":MAILTO:office@hakoah.at
END:VEVENT
BEGIN:VEVENT
DTSTART;TZID=Europe/Berlin:20251022T170000
DTEND;TZID=Europe/Berlin:20251022T180000
DTSTAMP:20260420T200649
CREATED:20250831T230019Z
LAST-MODIFIED:20250826T141239Z
UID:8152-1761152400-1761156000@kalender.seniorinnen.wien
SUMMARY:SC HAKOAH Sport & Freizeitzentrum  - Medizinische Wirbelsäulengymnastik
DESCRIPTION:Mobilisieren und kräftigen Sie ihre Rückenmuskulatur\nMax. 20 Teilnehmer:innen \nKeine Anmeldung erforderlich! \nWeitere Infos: http://www.hakoah.at \nFoto: SC HAKOAH
URL:https://kalender.seniorinnen.wien/event/sc-hakoah-sport-freizeitzentrum-medizinische-wirbelsaeulengymnastik/2025-10-22/
LOCATION:SC HAKOAH Sport & Freizeitzentrum\, Wehlistraße 326\, Wien\, Wien\, 1020\, Austria
CATEGORIES:Fit und Gesund,Monat der Senior:innen
ATTACH;FMTTYPE=image/jpeg:https://kalender.seniorinnen.wien/wp-content/uploads/2025/08/c_123rf_com-e1756217539605.jpg
ORGANIZER;CN="SC HAKOAH":MAILTO:office@hakoah.at
END:VEVENT
BEGIN:VEVENT
DTSTART;TZID=Europe/Berlin:20251015T170000
DTEND;TZID=Europe/Berlin:20251015T180000
DTSTAMP:20260420T200649
CREATED:20250831T230019Z
LAST-MODIFIED:20250826T141238Z
UID:8151-1760547600-1760551200@kalender.seniorinnen.wien
SUMMARY:SC HAKOAH Sport & Freizeitzentrum  - Medizinische Wirbelsäulengymnastik
DESCRIPTION:Mobilisieren und kräftigen Sie ihre Rückenmuskulatur\nMax. 20 Teilnehmer:innen \nKeine Anmeldung erforderlich! \nWeitere Infos: http://www.hakoah.at \nFoto: SC HAKOAH
URL:https://kalender.seniorinnen.wien/event/sc-hakoah-sport-freizeitzentrum-medizinische-wirbelsaeulengymnastik/2025-10-15/
LOCATION:SC HAKOAH Sport & Freizeitzentrum\, Wehlistraße 326\, Wien\, Wien\, 1020\, Austria
CATEGORIES:Fit und Gesund,Monat der Senior:innen
ATTACH;FMTTYPE=image/jpeg:https://kalender.seniorinnen.wien/wp-content/uploads/2025/08/c_123rf_com-e1756217539605.jpg
ORGANIZER;CN="SC HAKOAH":MAILTO:office@hakoah.at
END:VEVENT
BEGIN:VEVENT
DTSTART;TZID=Europe/Berlin:20251008T170000
DTEND;TZID=Europe/Berlin:20251008T180000
DTSTAMP:20260420T200649
CREATED:20250831T230019Z
LAST-MODIFIED:20250826T141238Z
UID:8149-1759942800-1759946400@kalender.seniorinnen.wien
SUMMARY:SC HAKOAH Sport & Freizeitzentrum  - Medizinische Wirbelsäulengymnastik
DESCRIPTION:Mobilisieren und kräftigen Sie ihre Rückenmuskulatur\nMax. 20 Teilnehmer:innen \nKeine Anmeldung erforderlich! \nWeitere Infos: http://www.hakoah.at \nFoto: SC HAKOAH
URL:https://kalender.seniorinnen.wien/event/sc-hakoah-sport-freizeitzentrum-medizinische-wirbelsaeulengymnastik/2025-10-08/
LOCATION:SC HAKOAH Sport & Freizeitzentrum\, Wehlistraße 326\, Wien\, Wien\, 1020\, Austria
CATEGORIES:Fit und Gesund,Monat der Senior:innen
ATTACH;FMTTYPE=image/jpeg:https://kalender.seniorinnen.wien/wp-content/uploads/2025/08/c_123rf_com-e1756217539605.jpg
ORGANIZER;CN="SC HAKOAH":MAILTO:office@hakoah.at
END:VEVENT
END:VCALENDAR