BEGIN:VCALENDAR
VERSION:2.0
PRODID:-//Wien für Senior:innen - ECPv6.15.17.1//NONSGML v1.0//EN
CALSCALE:GREGORIAN
METHOD:PUBLISH
X-WR-CALNAME:Wien für Senior:innen
X-ORIGINAL-URL:https://kalender.seniorinnen.wien
X-WR-CALDESC:Veranstaltungen für Wien für Senior:innen
REFRESH-INTERVAL;VALUE=DURATION:PT1H
X-Robots-Tag:noindex
X-PUBLISHED-TTL:PT1H
BEGIN:VTIMEZONE
TZID:Europe/Berlin
BEGIN:DAYLIGHT
TZOFFSETFROM:+0100
TZOFFSETTO:+0200
TZNAME:CEST
DTSTART:20240331T010000
END:DAYLIGHT
BEGIN:STANDARD
TZOFFSETFROM:+0200
TZOFFSETTO:+0100
TZNAME:CET
DTSTART:20241027T010000
END:STANDARD
BEGIN:DAYLIGHT
TZOFFSETFROM:+0100
TZOFFSETTO:+0200
TZNAME:CEST
DTSTART:20250330T010000
END:DAYLIGHT
BEGIN:STANDARD
TZOFFSETFROM:+0200
TZOFFSETTO:+0100
TZNAME:CET
DTSTART:20251026T010000
END:STANDARD
BEGIN:DAYLIGHT
TZOFFSETFROM:+0100
TZOFFSETTO:+0200
TZNAME:CEST
DTSTART:20260329T010000
END:DAYLIGHT
BEGIN:STANDARD
TZOFFSETFROM:+0200
TZOFFSETTO:+0100
TZNAME:CET
DTSTART:20261025T010000
END:STANDARD
END:VTIMEZONE
BEGIN:VEVENT
DTSTART;TZID=Europe/Berlin:20250411T140000
DTEND;TZID=Europe/Berlin:20250411T160000
DTSTAMP:20260420T220634
CREATED:20250204T085009Z
LAST-MODIFIED:20250204T085009Z
UID:7327-1744380000-1744387200@kalender.seniorinnen.wien
SUMMARY:Plaudern in der Bücherei am Leberberg
DESCRIPTION:ERZÄHLEN UND ZUHÖREN IN DEN BÜCHEREIEN AM LEBERBERG UND IM BILDUNGSZENTRUM SIMMERING:\nSie wollen neue Menschen kennenlernen\, sich mit Nachbar:innen austauschen und selbst erlebte Geschichten hören? \nKommen Sie in die Bücherei der Stadt Wien zu „Plaudern in der Bücherei“\, dem kostenlosen Angebot der Wiener Gesundheitsförderung – WiG. Immer donnerstags oder freitags von Februar bis April 2025. \nDie Treffen werden von erfahrenen Moderator:innen geleitet und finden abwechselnd in der Bücherei am Leberberg und in der Bücherei im Bildungszentrum Simmering statt. \nDie Teilnahme ist \n\nkostenlos\nohne Anmeldung\n\n  \nBÜCHEREI IM BILDUNGSZENTRUM SIMMERING (Gottschalkgasse 10\, 1110 Wien): \n\nFreitag\, 07.02.2025\nThema: Freizeitgeschichten\nDonnerstag\, 20.02.2025\nDonnerstag\, 06.03.2025\nThema: Schulgeschichten\nDonnerstag\, 20.03.2025\nDonnerstag\, 03.04.2025\nDonnerstag\, 24.04.2025\n\nUhrzeit: 16:00 – 18:00 Uhr \n  \nBÜCHEREI AM LEBERGERG (Rosa-Jochmann-Ring 5/1\, 1110 Wien): \n\nFreitag\, 14.02.2025\nThema: Schulgeschichten\nFreitag\, 28.02.2025\nFreitag\, 14.03.2025\nFreitag\, 28.03.2025\nFreitag\, 11.04.2025\n\nUhrzeit: 14:00 – 16:00 Uhr \nWeitere Informationen & Termine unter: wig.or.at/termine/plaudern-in-der-buecherei \nGastgeberinnen: Sabine Bergthaler\, Ilona Wenger \nÜber das Projekt: „Plaudern in der Bücherei“ ist ein Angebot der Wiener Gesundheitsförderung – WiG im Rahmen des Programms „Gesunde Bezirke“ in Kooperation mit den Büchereien der Stadt Wien und wird vom Verein Sorgenetz umgesetzt.
URL:https://kalender.seniorinnen.wien/event/plaudern-in-der-buecherei-am-leberberg/2025-04-11/
LOCATION:Bücherei am Leberberg\, Rosa-Jochmann-Ring 5/1/1\, Wien\, 1110 Wien
CATEGORIES:Begegnung,Bildung
ATTACH;FMTTYPE=image/jpeg:https://kalender.seniorinnen.wien/wp-content/uploads/2025/02/OBS_20250130_OBS0014_1738226890_medium-e1756215904159.jpg
END:VEVENT
BEGIN:VEVENT
DTSTART;TZID=Europe/Berlin:20250328T140000
DTEND;TZID=Europe/Berlin:20250328T160000
DTSTAMP:20260420T220634
CREATED:20250204T085009Z
LAST-MODIFIED:20250204T085009Z
UID:7326-1743170400-1743177600@kalender.seniorinnen.wien
SUMMARY:Plaudern in der Bücherei am Leberberg
DESCRIPTION:ERZÄHLEN UND ZUHÖREN IN DEN BÜCHEREIEN AM LEBERBERG UND IM BILDUNGSZENTRUM SIMMERING:\nSie wollen neue Menschen kennenlernen\, sich mit Nachbar:innen austauschen und selbst erlebte Geschichten hören? \nKommen Sie in die Bücherei der Stadt Wien zu „Plaudern in der Bücherei“\, dem kostenlosen Angebot der Wiener Gesundheitsförderung – WiG. Immer donnerstags oder freitags von Februar bis April 2025. \nDie Treffen werden von erfahrenen Moderator:innen geleitet und finden abwechselnd in der Bücherei am Leberberg und in der Bücherei im Bildungszentrum Simmering statt. \nDie Teilnahme ist \n\nkostenlos\nohne Anmeldung\n\n  \nBÜCHEREI IM BILDUNGSZENTRUM SIMMERING (Gottschalkgasse 10\, 1110 Wien): \n\nFreitag\, 07.02.2025\nThema: Freizeitgeschichten\nDonnerstag\, 20.02.2025\nDonnerstag\, 06.03.2025\nThema: Schulgeschichten\nDonnerstag\, 20.03.2025\nDonnerstag\, 03.04.2025\nDonnerstag\, 24.04.2025\n\nUhrzeit: 16:00 – 18:00 Uhr \n  \nBÜCHEREI AM LEBERGERG (Rosa-Jochmann-Ring 5/1\, 1110 Wien): \n\nFreitag\, 14.02.2025\nThema: Schulgeschichten\nFreitag\, 28.02.2025\nFreitag\, 14.03.2025\nFreitag\, 28.03.2025\nFreitag\, 11.04.2025\n\nUhrzeit: 14:00 – 16:00 Uhr \nWeitere Informationen & Termine unter: wig.or.at/termine/plaudern-in-der-buecherei \nGastgeberinnen: Sabine Bergthaler\, Ilona Wenger \nÜber das Projekt: „Plaudern in der Bücherei“ ist ein Angebot der Wiener Gesundheitsförderung – WiG im Rahmen des Programms „Gesunde Bezirke“ in Kooperation mit den Büchereien der Stadt Wien und wird vom Verein Sorgenetz umgesetzt.
URL:https://kalender.seniorinnen.wien/event/plaudern-in-der-buecherei-am-leberberg/2025-03-28/
LOCATION:Bücherei am Leberberg\, Rosa-Jochmann-Ring 5/1/1\, Wien\, 1110 Wien
CATEGORIES:Begegnung,Bildung
ATTACH;FMTTYPE=image/jpeg:https://kalender.seniorinnen.wien/wp-content/uploads/2025/02/OBS_20250130_OBS0014_1738226890_medium-e1756215904159.jpg
END:VEVENT
BEGIN:VEVENT
DTSTART;TZID=Europe/Berlin:20250314T140000
DTEND;TZID=Europe/Berlin:20250314T160000
DTSTAMP:20260420T220634
CREATED:20250204T085009Z
LAST-MODIFIED:20250204T085009Z
UID:7325-1741960800-1741968000@kalender.seniorinnen.wien
SUMMARY:Plaudern in der Bücherei am Leberberg
DESCRIPTION:ERZÄHLEN UND ZUHÖREN IN DEN BÜCHEREIEN AM LEBERBERG UND IM BILDUNGSZENTRUM SIMMERING:\nSie wollen neue Menschen kennenlernen\, sich mit Nachbar:innen austauschen und selbst erlebte Geschichten hören? \nKommen Sie in die Bücherei der Stadt Wien zu „Plaudern in der Bücherei“\, dem kostenlosen Angebot der Wiener Gesundheitsförderung – WiG. Immer donnerstags oder freitags von Februar bis April 2025. \nDie Treffen werden von erfahrenen Moderator:innen geleitet und finden abwechselnd in der Bücherei am Leberberg und in der Bücherei im Bildungszentrum Simmering statt. \nDie Teilnahme ist \n\nkostenlos\nohne Anmeldung\n\n  \nBÜCHEREI IM BILDUNGSZENTRUM SIMMERING (Gottschalkgasse 10\, 1110 Wien): \n\nFreitag\, 07.02.2025\nThema: Freizeitgeschichten\nDonnerstag\, 20.02.2025\nDonnerstag\, 06.03.2025\nThema: Schulgeschichten\nDonnerstag\, 20.03.2025\nDonnerstag\, 03.04.2025\nDonnerstag\, 24.04.2025\n\nUhrzeit: 16:00 – 18:00 Uhr \n  \nBÜCHEREI AM LEBERGERG (Rosa-Jochmann-Ring 5/1\, 1110 Wien): \n\nFreitag\, 14.02.2025\nThema: Schulgeschichten\nFreitag\, 28.02.2025\nFreitag\, 14.03.2025\nFreitag\, 28.03.2025\nFreitag\, 11.04.2025\n\nUhrzeit: 14:00 – 16:00 Uhr \nWeitere Informationen & Termine unter: wig.or.at/termine/plaudern-in-der-buecherei \nGastgeberinnen: Sabine Bergthaler\, Ilona Wenger \nÜber das Projekt: „Plaudern in der Bücherei“ ist ein Angebot der Wiener Gesundheitsförderung – WiG im Rahmen des Programms „Gesunde Bezirke“ in Kooperation mit den Büchereien der Stadt Wien und wird vom Verein Sorgenetz umgesetzt.
URL:https://kalender.seniorinnen.wien/event/plaudern-in-der-buecherei-am-leberberg/2025-03-14/
LOCATION:Bücherei am Leberberg\, Rosa-Jochmann-Ring 5/1/1\, Wien\, 1110 Wien
CATEGORIES:Begegnung,Bildung
ATTACH;FMTTYPE=image/jpeg:https://kalender.seniorinnen.wien/wp-content/uploads/2025/02/OBS_20250130_OBS0014_1738226890_medium-e1756215904159.jpg
END:VEVENT
BEGIN:VEVENT
DTSTART;TZID=Europe/Berlin:20250228T140000
DTEND;TZID=Europe/Berlin:20250228T160000
DTSTAMP:20260420T220634
CREATED:20250204T085009Z
LAST-MODIFIED:20250204T085009Z
UID:7324-1740751200-1740758400@kalender.seniorinnen.wien
SUMMARY:Plaudern in der Bücherei am Leberberg
DESCRIPTION:ERZÄHLEN UND ZUHÖREN IN DEN BÜCHEREIEN AM LEBERBERG UND IM BILDUNGSZENTRUM SIMMERING:\nSie wollen neue Menschen kennenlernen\, sich mit Nachbar:innen austauschen und selbst erlebte Geschichten hören? \nKommen Sie in die Bücherei der Stadt Wien zu „Plaudern in der Bücherei“\, dem kostenlosen Angebot der Wiener Gesundheitsförderung – WiG. Immer donnerstags oder freitags von Februar bis April 2025. \nDie Treffen werden von erfahrenen Moderator:innen geleitet und finden abwechselnd in der Bücherei am Leberberg und in der Bücherei im Bildungszentrum Simmering statt. \nDie Teilnahme ist \n\nkostenlos\nohne Anmeldung\n\n  \nBÜCHEREI IM BILDUNGSZENTRUM SIMMERING (Gottschalkgasse 10\, 1110 Wien): \n\nFreitag\, 07.02.2025\nThema: Freizeitgeschichten\nDonnerstag\, 20.02.2025\nDonnerstag\, 06.03.2025\nThema: Schulgeschichten\nDonnerstag\, 20.03.2025\nDonnerstag\, 03.04.2025\nDonnerstag\, 24.04.2025\n\nUhrzeit: 16:00 – 18:00 Uhr \n  \nBÜCHEREI AM LEBERGERG (Rosa-Jochmann-Ring 5/1\, 1110 Wien): \n\nFreitag\, 14.02.2025\nThema: Schulgeschichten\nFreitag\, 28.02.2025\nFreitag\, 14.03.2025\nFreitag\, 28.03.2025\nFreitag\, 11.04.2025\n\nUhrzeit: 14:00 – 16:00 Uhr \nWeitere Informationen & Termine unter: wig.or.at/termine/plaudern-in-der-buecherei \nGastgeberinnen: Sabine Bergthaler\, Ilona Wenger \nÜber das Projekt: „Plaudern in der Bücherei“ ist ein Angebot der Wiener Gesundheitsförderung – WiG im Rahmen des Programms „Gesunde Bezirke“ in Kooperation mit den Büchereien der Stadt Wien und wird vom Verein Sorgenetz umgesetzt.
URL:https://kalender.seniorinnen.wien/event/plaudern-in-der-buecherei-am-leberberg/2025-02-28/
LOCATION:Bücherei am Leberberg\, Rosa-Jochmann-Ring 5/1/1\, Wien\, 1110 Wien
CATEGORIES:Begegnung,Bildung
ATTACH;FMTTYPE=image/jpeg:https://kalender.seniorinnen.wien/wp-content/uploads/2025/02/OBS_20250130_OBS0014_1738226890_medium-e1756215904159.jpg
END:VEVENT
BEGIN:VEVENT
DTSTART;TZID=Europe/Berlin:20250214T140000
DTEND;TZID=Europe/Berlin:20250214T160000
DTSTAMP:20260420T220634
CREATED:20250204T085009Z
LAST-MODIFIED:20250204T085009Z
UID:7323-1739541600-1739548800@kalender.seniorinnen.wien
SUMMARY:Plaudern in der Bücherei am Leberberg
DESCRIPTION:ERZÄHLEN UND ZUHÖREN IN DEN BÜCHEREIEN AM LEBERBERG UND IM BILDUNGSZENTRUM SIMMERING:\nSie wollen neue Menschen kennenlernen\, sich mit Nachbar:innen austauschen und selbst erlebte Geschichten hören? \nKommen Sie in die Bücherei der Stadt Wien zu „Plaudern in der Bücherei“\, dem kostenlosen Angebot der Wiener Gesundheitsförderung – WiG. Immer donnerstags oder freitags von Februar bis April 2025. \nDie Treffen werden von erfahrenen Moderator:innen geleitet und finden abwechselnd in der Bücherei am Leberberg und in der Bücherei im Bildungszentrum Simmering statt. \nDie Teilnahme ist \n\nkostenlos\nohne Anmeldung\n\n  \nBÜCHEREI IM BILDUNGSZENTRUM SIMMERING (Gottschalkgasse 10\, 1110 Wien): \n\nFreitag\, 07.02.2025\nThema: Freizeitgeschichten\nDonnerstag\, 20.02.2025\nDonnerstag\, 06.03.2025\nThema: Schulgeschichten\nDonnerstag\, 20.03.2025\nDonnerstag\, 03.04.2025\nDonnerstag\, 24.04.2025\n\nUhrzeit: 16:00 – 18:00 Uhr \n  \nBÜCHEREI AM LEBERGERG (Rosa-Jochmann-Ring 5/1\, 1110 Wien): \n\nFreitag\, 14.02.2025\nThema: Schulgeschichten\nFreitag\, 28.02.2025\nFreitag\, 14.03.2025\nFreitag\, 28.03.2025\nFreitag\, 11.04.2025\n\nUhrzeit: 14:00 – 16:00 Uhr \nWeitere Informationen & Termine unter: wig.or.at/termine/plaudern-in-der-buecherei \nGastgeberinnen: Sabine Bergthaler\, Ilona Wenger \nÜber das Projekt: „Plaudern in der Bücherei“ ist ein Angebot der Wiener Gesundheitsförderung – WiG im Rahmen des Programms „Gesunde Bezirke“ in Kooperation mit den Büchereien der Stadt Wien und wird vom Verein Sorgenetz umgesetzt.
URL:https://kalender.seniorinnen.wien/event/plaudern-in-der-buecherei-am-leberberg/2025-02-14/
LOCATION:Bücherei am Leberberg\, Rosa-Jochmann-Ring 5/1/1\, Wien\, 1110 Wien
CATEGORIES:Begegnung,Bildung
ATTACH;FMTTYPE=image/jpeg:https://kalender.seniorinnen.wien/wp-content/uploads/2025/02/OBS_20250130_OBS0014_1738226890_medium-e1756215904159.jpg
END:VEVENT
END:VCALENDAR