BEGIN:VCALENDAR
VERSION:2.0
PRODID:-//Wien für Senior:innen - ECPv6.15.17.1//NONSGML v1.0//EN
CALSCALE:GREGORIAN
METHOD:PUBLISH
X-ORIGINAL-URL:https://kalender.seniorinnen.wien
X-WR-CALDESC:Veranstaltungen für Wien für Senior:innen
REFRESH-INTERVAL;VALUE=DURATION:PT1H
X-Robots-Tag:noindex
X-PUBLISHED-TTL:PT1H
BEGIN:VTIMEZONE
TZID:Europe/Berlin
BEGIN:DAYLIGHT
TZOFFSETFROM:+0100
TZOFFSETTO:+0200
TZNAME:CEST
DTSTART:20240331T010000
END:DAYLIGHT
BEGIN:STANDARD
TZOFFSETFROM:+0200
TZOFFSETTO:+0100
TZNAME:CET
DTSTART:20241027T010000
END:STANDARD
BEGIN:DAYLIGHT
TZOFFSETFROM:+0100
TZOFFSETTO:+0200
TZNAME:CEST
DTSTART:20250330T010000
END:DAYLIGHT
BEGIN:STANDARD
TZOFFSETFROM:+0200
TZOFFSETTO:+0100
TZNAME:CET
DTSTART:20251026T010000
END:STANDARD
BEGIN:DAYLIGHT
TZOFFSETFROM:+0100
TZOFFSETTO:+0200
TZNAME:CEST
DTSTART:20260329T010000
END:DAYLIGHT
BEGIN:STANDARD
TZOFFSETFROM:+0200
TZOFFSETTO:+0100
TZNAME:CET
DTSTART:20261025T010000
END:STANDARD
END:VTIMEZONE
BEGIN:VEVENT
DTSTART;TZID=Europe/Berlin:20251031T140000
DTEND;TZID=Europe/Berlin:20251031T160000
DTSTAMP:20260421T003319
CREATED:20250831T230007Z
LAST-MODIFIED:20250826T135145Z
UID:8082-1761919200-1761926400@kalender.seniorinnen.wien
SUMMARY:Plaudern in der Bücherei - Leberberg
DESCRIPTION:Sie wollen neue Menschen kennenlernen\, sich mit Nachbar:innen austauschen und selbst erlebte Geschichten hören? Kommen Sie zum „Plaudern in der Bücherei“\, dem kostenlosen Angebot der\nWiener Gesundheitsförderung – WiG in die Büchereien der Stadt Wien. Die Treffen finden jeden Donnerstag bzw. Freitag von Oktober bis Dezember statt: abwechselnd in der Bücherei am Leberberg und in der Bücherei im Bildungszentrum Simmering. \nWeitere Infos: http://www.wig.or.at/termine/plaudern-in-der-buecherei \nFoto: Wiener Gesundheitsförderung – WiG
URL:https://kalender.seniorinnen.wien/event/plaudern-in-der-buecherei-2/2025-10-31/
LOCATION:Bücherei am Leberberg\, Rosa-Jochmann-Ring 5/1/1\, Wien\, 1110 Wien
CATEGORIES:Demenz,Monat der Senior:innen
ATTACH;FMTTYPE=image/jpeg:https://kalender.seniorinnen.wien/wp-content/uploads/2025/09/Plaudern_in_der_Buecherei_Cover-e1756216097263.jpg
END:VEVENT
BEGIN:VEVENT
DTSTART;TZID=Europe/Berlin:20251017T140000
DTEND;TZID=Europe/Berlin:20251017T160000
DTSTAMP:20260421T003319
CREATED:20250831T230007Z
LAST-MODIFIED:20250826T135144Z
UID:8081-1760709600-1760716800@kalender.seniorinnen.wien
SUMMARY:Plaudern in der Bücherei - Leberberg
DESCRIPTION:Sie wollen neue Menschen kennenlernen\, sich mit Nachbar:innen austauschen und selbst erlebte Geschichten hören? Kommen Sie zum „Plaudern in der Bücherei“\, dem kostenlosen Angebot der\nWiener Gesundheitsförderung – WiG in die Büchereien der Stadt Wien. Die Treffen finden jeden Donnerstag bzw. Freitag von Oktober bis Dezember statt: abwechselnd in der Bücherei am Leberberg und in der Bücherei im Bildungszentrum Simmering. \nWeitere Infos: http://www.wig.or.at/termine/plaudern-in-der-buecherei \nFoto: Wiener Gesundheitsförderung – WiG
URL:https://kalender.seniorinnen.wien/event/plaudern-in-der-buecherei-2/2025-10-17/
LOCATION:Bücherei am Leberberg\, Rosa-Jochmann-Ring 5/1/1\, Wien\, 1110 Wien
CATEGORIES:Demenz,Monat der Senior:innen
ATTACH;FMTTYPE=image/jpeg:https://kalender.seniorinnen.wien/wp-content/uploads/2025/09/Plaudern_in_der_Buecherei_Cover-e1756216097263.jpg
END:VEVENT
BEGIN:VEVENT
DTSTART;TZID=Europe/Berlin:20251003T140000
DTEND;TZID=Europe/Berlin:20251003T160000
DTSTAMP:20260421T003319
CREATED:20250831T230007Z
LAST-MODIFIED:20250826T135144Z
UID:8078-1759500000-1759507200@kalender.seniorinnen.wien
SUMMARY:Plaudern in der Bücherei - Leberberg
DESCRIPTION:Sie wollen neue Menschen kennenlernen\, sich mit Nachbar:innen austauschen und selbst erlebte Geschichten hören? Kommen Sie zum „Plaudern in der Bücherei“\, dem kostenlosen Angebot der\nWiener Gesundheitsförderung – WiG in die Büchereien der Stadt Wien. Die Treffen finden jeden Donnerstag bzw. Freitag von Oktober bis Dezember statt: abwechselnd in der Bücherei am Leberberg und in der Bücherei im Bildungszentrum Simmering. \nWeitere Infos: http://www.wig.or.at/termine/plaudern-in-der-buecherei \nFoto: Wiener Gesundheitsförderung – WiG
URL:https://kalender.seniorinnen.wien/event/plaudern-in-der-buecherei-2/2025-10-03/
LOCATION:Bücherei am Leberberg\, Rosa-Jochmann-Ring 5/1/1\, Wien\, 1110 Wien
CATEGORIES:Demenz,Monat der Senior:innen
ATTACH;FMTTYPE=image/jpeg:https://kalender.seniorinnen.wien/wp-content/uploads/2025/09/Plaudern_in_der_Buecherei_Cover-e1756216097263.jpg
END:VEVENT
END:VCALENDAR