BEGIN:VCALENDAR
VERSION:2.0
PRODID:-//Wien für Senior:innen - ECPv6.15.17.1//NONSGML v1.0//EN
CALSCALE:GREGORIAN
METHOD:PUBLISH
X-WR-CALNAME:Wien für Senior:innen
X-ORIGINAL-URL:https://kalender.seniorinnen.wien
X-WR-CALDESC:Veranstaltungen für Wien für Senior:innen
REFRESH-INTERVAL;VALUE=DURATION:PT1H
X-Robots-Tag:noindex
X-PUBLISHED-TTL:PT1H
BEGIN:VTIMEZONE
TZID:Europe/Berlin
BEGIN:DAYLIGHT
TZOFFSETFROM:+0100
TZOFFSETTO:+0200
TZNAME:CEST
DTSTART:20220327T010000
END:DAYLIGHT
BEGIN:STANDARD
TZOFFSETFROM:+0200
TZOFFSETTO:+0100
TZNAME:CET
DTSTART:20221030T010000
END:STANDARD
BEGIN:DAYLIGHT
TZOFFSETFROM:+0100
TZOFFSETTO:+0200
TZNAME:CEST
DTSTART:20230326T010000
END:DAYLIGHT
BEGIN:STANDARD
TZOFFSETFROM:+0200
TZOFFSETTO:+0100
TZNAME:CET
DTSTART:20231029T010000
END:STANDARD
BEGIN:DAYLIGHT
TZOFFSETFROM:+0100
TZOFFSETTO:+0200
TZNAME:CEST
DTSTART:20240331T010000
END:DAYLIGHT
BEGIN:STANDARD
TZOFFSETFROM:+0200
TZOFFSETTO:+0100
TZNAME:CET
DTSTART:20241027T010000
END:STANDARD
BEGIN:DAYLIGHT
TZOFFSETFROM:+0100
TZOFFSETTO:+0200
TZNAME:CEST
DTSTART:20250330T010000
END:DAYLIGHT
BEGIN:STANDARD
TZOFFSETFROM:+0200
TZOFFSETTO:+0100
TZNAME:CET
DTSTART:20251026T010000
END:STANDARD
END:VTIMEZONE
BEGIN:VEVENT
DTSTART;TZID=Europe/Berlin:20241005T090000
DTEND;TZID=Europe/Berlin:20241005T100000
DTSTAMP:20260420T204729
CREATED:20231010T065315Z
LAST-MODIFIED:20231010T072726Z
UID:4282-1728118800-1728122400@kalender.seniorinnen.wien
SUMMARY:Donaupark Parkrun
DESCRIPTION:Ein kostenloser\, unterhaltsamer und fröhlicher wöchentlicher 5-km-Gemeinschaftslauf. Gehen\, joggen\, laufen\, mithelfen oder zuschauen! \nEs ist immer die gleiche Strecke\, die idyllisch um den Irissee führt. Ziel ist\, Wiener:innen zur Bewegung zu bringen\, egal wie schnell oder langsam jemand läuft oder geht – hier sind alle willkommen! \nDer Start befindet sich in der Arbeiterstrandbadstrasse 122\, Eingang Donaupark. \nFoto: Michael Mayr
URL:https://kalender.seniorinnen.wien/event/parkrun/2024-10-05/
CATEGORIES:Fit und Gesund
ATTACH;FMTTYPE=image/jpeg:https://kalender.seniorinnen.wien/wp-content/uploads/2023/10/Donaupark-Parkrun-Foto-Michael-Mayr-scaled.jpg
END:VEVENT
BEGIN:VEVENT
DTSTART;TZID=Europe/Berlin:20240928T090000
DTEND;TZID=Europe/Berlin:20240928T100000
DTSTAMP:20260420T204729
CREATED:20231010T065315Z
LAST-MODIFIED:20231010T072726Z
UID:4281-1727514000-1727517600@kalender.seniorinnen.wien
SUMMARY:Donaupark Parkrun
DESCRIPTION:Ein kostenloser\, unterhaltsamer und fröhlicher wöchentlicher 5-km-Gemeinschaftslauf. Gehen\, joggen\, laufen\, mithelfen oder zuschauen! \nEs ist immer die gleiche Strecke\, die idyllisch um den Irissee führt. Ziel ist\, Wiener:innen zur Bewegung zu bringen\, egal wie schnell oder langsam jemand läuft oder geht – hier sind alle willkommen! \nDer Start befindet sich in der Arbeiterstrandbadstrasse 122\, Eingang Donaupark. \nFoto: Michael Mayr
URL:https://kalender.seniorinnen.wien/event/parkrun/2024-09-28/
CATEGORIES:Fit und Gesund
ATTACH;FMTTYPE=image/jpeg:https://kalender.seniorinnen.wien/wp-content/uploads/2023/10/Donaupark-Parkrun-Foto-Michael-Mayr-scaled.jpg
END:VEVENT
BEGIN:VEVENT
DTSTART;TZID=Europe/Berlin:20240921T090000
DTEND;TZID=Europe/Berlin:20240921T100000
DTSTAMP:20260420T204729
CREATED:20231010T065315Z
LAST-MODIFIED:20231010T072725Z
UID:4280-1726909200-1726912800@kalender.seniorinnen.wien
SUMMARY:Donaupark Parkrun
DESCRIPTION:Ein kostenloser\, unterhaltsamer und fröhlicher wöchentlicher 5-km-Gemeinschaftslauf. Gehen\, joggen\, laufen\, mithelfen oder zuschauen! \nEs ist immer die gleiche Strecke\, die idyllisch um den Irissee führt. Ziel ist\, Wiener:innen zur Bewegung zu bringen\, egal wie schnell oder langsam jemand läuft oder geht – hier sind alle willkommen! \nDer Start befindet sich in der Arbeiterstrandbadstrasse 122\, Eingang Donaupark. \nFoto: Michael Mayr
URL:https://kalender.seniorinnen.wien/event/parkrun/2024-09-21/
CATEGORIES:Fit und Gesund
ATTACH;FMTTYPE=image/jpeg:https://kalender.seniorinnen.wien/wp-content/uploads/2023/10/Donaupark-Parkrun-Foto-Michael-Mayr-scaled.jpg
END:VEVENT
BEGIN:VEVENT
DTSTART;TZID=Europe/Berlin:20240914T090000
DTEND;TZID=Europe/Berlin:20240914T100000
DTSTAMP:20260420T204729
CREATED:20231010T065315Z
LAST-MODIFIED:20231010T072725Z
UID:4279-1726304400-1726308000@kalender.seniorinnen.wien
SUMMARY:Donaupark Parkrun
DESCRIPTION:Ein kostenloser\, unterhaltsamer und fröhlicher wöchentlicher 5-km-Gemeinschaftslauf. Gehen\, joggen\, laufen\, mithelfen oder zuschauen! \nEs ist immer die gleiche Strecke\, die idyllisch um den Irissee führt. Ziel ist\, Wiener:innen zur Bewegung zu bringen\, egal wie schnell oder langsam jemand läuft oder geht – hier sind alle willkommen! \nDer Start befindet sich in der Arbeiterstrandbadstrasse 122\, Eingang Donaupark. \nFoto: Michael Mayr
URL:https://kalender.seniorinnen.wien/event/parkrun/2024-09-14/
CATEGORIES:Fit und Gesund
ATTACH;FMTTYPE=image/jpeg:https://kalender.seniorinnen.wien/wp-content/uploads/2023/10/Donaupark-Parkrun-Foto-Michael-Mayr-scaled.jpg
END:VEVENT
BEGIN:VEVENT
DTSTART;TZID=Europe/Berlin:20240907T090000
DTEND;TZID=Europe/Berlin:20240907T100000
DTSTAMP:20260420T204729
CREATED:20231010T065315Z
LAST-MODIFIED:20231010T072725Z
UID:4278-1725699600-1725703200@kalender.seniorinnen.wien
SUMMARY:Donaupark Parkrun
DESCRIPTION:Ein kostenloser\, unterhaltsamer und fröhlicher wöchentlicher 5-km-Gemeinschaftslauf. Gehen\, joggen\, laufen\, mithelfen oder zuschauen! \nEs ist immer die gleiche Strecke\, die idyllisch um den Irissee führt. Ziel ist\, Wiener:innen zur Bewegung zu bringen\, egal wie schnell oder langsam jemand läuft oder geht – hier sind alle willkommen! \nDer Start befindet sich in der Arbeiterstrandbadstrasse 122\, Eingang Donaupark. \nFoto: Michael Mayr
URL:https://kalender.seniorinnen.wien/event/parkrun/2024-09-07/
CATEGORIES:Fit und Gesund
ATTACH;FMTTYPE=image/jpeg:https://kalender.seniorinnen.wien/wp-content/uploads/2023/10/Donaupark-Parkrun-Foto-Michael-Mayr-scaled.jpg
END:VEVENT
BEGIN:VEVENT
DTSTART;TZID=Europe/Berlin:20240831T090000
DTEND;TZID=Europe/Berlin:20240831T100000
DTSTAMP:20260420T204729
CREATED:20231010T065315Z
LAST-MODIFIED:20231010T072725Z
UID:4277-1725094800-1725098400@kalender.seniorinnen.wien
SUMMARY:Donaupark Parkrun
DESCRIPTION:Ein kostenloser\, unterhaltsamer und fröhlicher wöchentlicher 5-km-Gemeinschaftslauf. Gehen\, joggen\, laufen\, mithelfen oder zuschauen! \nEs ist immer die gleiche Strecke\, die idyllisch um den Irissee führt. Ziel ist\, Wiener:innen zur Bewegung zu bringen\, egal wie schnell oder langsam jemand läuft oder geht – hier sind alle willkommen! \nDer Start befindet sich in der Arbeiterstrandbadstrasse 122\, Eingang Donaupark. \nFoto: Michael Mayr
URL:https://kalender.seniorinnen.wien/event/parkrun/2024-08-31/
CATEGORIES:Fit und Gesund
ATTACH;FMTTYPE=image/jpeg:https://kalender.seniorinnen.wien/wp-content/uploads/2023/10/Donaupark-Parkrun-Foto-Michael-Mayr-scaled.jpg
END:VEVENT
BEGIN:VEVENT
DTSTART;TZID=Europe/Berlin:20240824T090000
DTEND;TZID=Europe/Berlin:20240824T100000
DTSTAMP:20260420T204729
CREATED:20231010T065315Z
LAST-MODIFIED:20231010T072725Z
UID:4276-1724490000-1724493600@kalender.seniorinnen.wien
SUMMARY:Donaupark Parkrun
DESCRIPTION:Ein kostenloser\, unterhaltsamer und fröhlicher wöchentlicher 5-km-Gemeinschaftslauf. Gehen\, joggen\, laufen\, mithelfen oder zuschauen! \nEs ist immer die gleiche Strecke\, die idyllisch um den Irissee führt. Ziel ist\, Wiener:innen zur Bewegung zu bringen\, egal wie schnell oder langsam jemand läuft oder geht – hier sind alle willkommen! \nDer Start befindet sich in der Arbeiterstrandbadstrasse 122\, Eingang Donaupark. \nFoto: Michael Mayr
URL:https://kalender.seniorinnen.wien/event/parkrun/2024-08-24/
CATEGORIES:Fit und Gesund
ATTACH;FMTTYPE=image/jpeg:https://kalender.seniorinnen.wien/wp-content/uploads/2023/10/Donaupark-Parkrun-Foto-Michael-Mayr-scaled.jpg
END:VEVENT
BEGIN:VEVENT
DTSTART;TZID=Europe/Berlin:20240817T090000
DTEND;TZID=Europe/Berlin:20240817T100000
DTSTAMP:20260420T204729
CREATED:20231010T065315Z
LAST-MODIFIED:20231010T072724Z
UID:4275-1723885200-1723888800@kalender.seniorinnen.wien
SUMMARY:Donaupark Parkrun
DESCRIPTION:Ein kostenloser\, unterhaltsamer und fröhlicher wöchentlicher 5-km-Gemeinschaftslauf. Gehen\, joggen\, laufen\, mithelfen oder zuschauen! \nEs ist immer die gleiche Strecke\, die idyllisch um den Irissee führt. Ziel ist\, Wiener:innen zur Bewegung zu bringen\, egal wie schnell oder langsam jemand läuft oder geht – hier sind alle willkommen! \nDer Start befindet sich in der Arbeiterstrandbadstrasse 122\, Eingang Donaupark. \nFoto: Michael Mayr
URL:https://kalender.seniorinnen.wien/event/parkrun/2024-08-17/
CATEGORIES:Fit und Gesund
ATTACH;FMTTYPE=image/jpeg:https://kalender.seniorinnen.wien/wp-content/uploads/2023/10/Donaupark-Parkrun-Foto-Michael-Mayr-scaled.jpg
END:VEVENT
BEGIN:VEVENT
DTSTART;TZID=Europe/Berlin:20240810T090000
DTEND;TZID=Europe/Berlin:20240810T100000
DTSTAMP:20260420T204729
CREATED:20231010T065315Z
LAST-MODIFIED:20231010T072724Z
UID:4274-1723280400-1723284000@kalender.seniorinnen.wien
SUMMARY:Donaupark Parkrun
DESCRIPTION:Ein kostenloser\, unterhaltsamer und fröhlicher wöchentlicher 5-km-Gemeinschaftslauf. Gehen\, joggen\, laufen\, mithelfen oder zuschauen! \nEs ist immer die gleiche Strecke\, die idyllisch um den Irissee führt. Ziel ist\, Wiener:innen zur Bewegung zu bringen\, egal wie schnell oder langsam jemand läuft oder geht – hier sind alle willkommen! \nDer Start befindet sich in der Arbeiterstrandbadstrasse 122\, Eingang Donaupark. \nFoto: Michael Mayr
URL:https://kalender.seniorinnen.wien/event/parkrun/2024-08-10/
CATEGORIES:Fit und Gesund
ATTACH;FMTTYPE=image/jpeg:https://kalender.seniorinnen.wien/wp-content/uploads/2023/10/Donaupark-Parkrun-Foto-Michael-Mayr-scaled.jpg
END:VEVENT
BEGIN:VEVENT
DTSTART;TZID=Europe/Berlin:20240803T090000
DTEND;TZID=Europe/Berlin:20240803T100000
DTSTAMP:20260420T204729
CREATED:20231010T065315Z
LAST-MODIFIED:20231010T072724Z
UID:4273-1722675600-1722679200@kalender.seniorinnen.wien
SUMMARY:Donaupark Parkrun
DESCRIPTION:Ein kostenloser\, unterhaltsamer und fröhlicher wöchentlicher 5-km-Gemeinschaftslauf. Gehen\, joggen\, laufen\, mithelfen oder zuschauen! \nEs ist immer die gleiche Strecke\, die idyllisch um den Irissee führt. Ziel ist\, Wiener:innen zur Bewegung zu bringen\, egal wie schnell oder langsam jemand läuft oder geht – hier sind alle willkommen! \nDer Start befindet sich in der Arbeiterstrandbadstrasse 122\, Eingang Donaupark. \nFoto: Michael Mayr
URL:https://kalender.seniorinnen.wien/event/parkrun/2024-08-03/
CATEGORIES:Fit und Gesund
ATTACH;FMTTYPE=image/jpeg:https://kalender.seniorinnen.wien/wp-content/uploads/2023/10/Donaupark-Parkrun-Foto-Michael-Mayr-scaled.jpg
END:VEVENT
BEGIN:VEVENT
DTSTART;TZID=Europe/Berlin:20240727T090000
DTEND;TZID=Europe/Berlin:20240727T100000
DTSTAMP:20260420T204729
CREATED:20231010T065315Z
LAST-MODIFIED:20231010T072723Z
UID:4272-1722070800-1722074400@kalender.seniorinnen.wien
SUMMARY:Donaupark Parkrun
DESCRIPTION:Ein kostenloser\, unterhaltsamer und fröhlicher wöchentlicher 5-km-Gemeinschaftslauf. Gehen\, joggen\, laufen\, mithelfen oder zuschauen! \nEs ist immer die gleiche Strecke\, die idyllisch um den Irissee führt. Ziel ist\, Wiener:innen zur Bewegung zu bringen\, egal wie schnell oder langsam jemand läuft oder geht – hier sind alle willkommen! \nDer Start befindet sich in der Arbeiterstrandbadstrasse 122\, Eingang Donaupark. \nFoto: Michael Mayr
URL:https://kalender.seniorinnen.wien/event/parkrun/2024-07-27/
CATEGORIES:Fit und Gesund
ATTACH;FMTTYPE=image/jpeg:https://kalender.seniorinnen.wien/wp-content/uploads/2023/10/Donaupark-Parkrun-Foto-Michael-Mayr-scaled.jpg
END:VEVENT
BEGIN:VEVENT
DTSTART;TZID=Europe/Berlin:20240720T090000
DTEND;TZID=Europe/Berlin:20240720T100000
DTSTAMP:20260420T204729
CREATED:20231010T065315Z
LAST-MODIFIED:20231010T072722Z
UID:4271-1721466000-1721469600@kalender.seniorinnen.wien
SUMMARY:Donaupark Parkrun
DESCRIPTION:Ein kostenloser\, unterhaltsamer und fröhlicher wöchentlicher 5-km-Gemeinschaftslauf. Gehen\, joggen\, laufen\, mithelfen oder zuschauen! \nEs ist immer die gleiche Strecke\, die idyllisch um den Irissee führt. Ziel ist\, Wiener:innen zur Bewegung zu bringen\, egal wie schnell oder langsam jemand läuft oder geht – hier sind alle willkommen! \nDer Start befindet sich in der Arbeiterstrandbadstrasse 122\, Eingang Donaupark. \nFoto: Michael Mayr
URL:https://kalender.seniorinnen.wien/event/parkrun/2024-07-20/
CATEGORIES:Fit und Gesund
ATTACH;FMTTYPE=image/jpeg:https://kalender.seniorinnen.wien/wp-content/uploads/2023/10/Donaupark-Parkrun-Foto-Michael-Mayr-scaled.jpg
END:VEVENT
BEGIN:VEVENT
DTSTART;TZID=Europe/Berlin:20240713T090000
DTEND;TZID=Europe/Berlin:20240713T100000
DTSTAMP:20260420T204729
CREATED:20231010T065315Z
LAST-MODIFIED:20231010T072722Z
UID:4270-1720861200-1720864800@kalender.seniorinnen.wien
SUMMARY:Donaupark Parkrun
DESCRIPTION:Ein kostenloser\, unterhaltsamer und fröhlicher wöchentlicher 5-km-Gemeinschaftslauf. Gehen\, joggen\, laufen\, mithelfen oder zuschauen! \nEs ist immer die gleiche Strecke\, die idyllisch um den Irissee führt. Ziel ist\, Wiener:innen zur Bewegung zu bringen\, egal wie schnell oder langsam jemand läuft oder geht – hier sind alle willkommen! \nDer Start befindet sich in der Arbeiterstrandbadstrasse 122\, Eingang Donaupark. \nFoto: Michael Mayr
URL:https://kalender.seniorinnen.wien/event/parkrun/2024-07-13/
CATEGORIES:Fit und Gesund
ATTACH;FMTTYPE=image/jpeg:https://kalender.seniorinnen.wien/wp-content/uploads/2023/10/Donaupark-Parkrun-Foto-Michael-Mayr-scaled.jpg
END:VEVENT
BEGIN:VEVENT
DTSTART;TZID=Europe/Berlin:20240706T090000
DTEND;TZID=Europe/Berlin:20240706T100000
DTSTAMP:20260420T204729
CREATED:20231010T065315Z
LAST-MODIFIED:20231010T072722Z
UID:4269-1720256400-1720260000@kalender.seniorinnen.wien
SUMMARY:Donaupark Parkrun
DESCRIPTION:Ein kostenloser\, unterhaltsamer und fröhlicher wöchentlicher 5-km-Gemeinschaftslauf. Gehen\, joggen\, laufen\, mithelfen oder zuschauen! \nEs ist immer die gleiche Strecke\, die idyllisch um den Irissee führt. Ziel ist\, Wiener:innen zur Bewegung zu bringen\, egal wie schnell oder langsam jemand läuft oder geht – hier sind alle willkommen! \nDer Start befindet sich in der Arbeiterstrandbadstrasse 122\, Eingang Donaupark. \nFoto: Michael Mayr
URL:https://kalender.seniorinnen.wien/event/parkrun/2024-07-06/
CATEGORIES:Fit und Gesund
ATTACH;FMTTYPE=image/jpeg:https://kalender.seniorinnen.wien/wp-content/uploads/2023/10/Donaupark-Parkrun-Foto-Michael-Mayr-scaled.jpg
END:VEVENT
BEGIN:VEVENT
DTSTART;TZID=Europe/Berlin:20240629T090000
DTEND;TZID=Europe/Berlin:20240629T100000
DTSTAMP:20260420T204729
CREATED:20231010T065315Z
LAST-MODIFIED:20231010T072722Z
UID:4268-1719651600-1719655200@kalender.seniorinnen.wien
SUMMARY:Donaupark Parkrun
DESCRIPTION:Ein kostenloser\, unterhaltsamer und fröhlicher wöchentlicher 5-km-Gemeinschaftslauf. Gehen\, joggen\, laufen\, mithelfen oder zuschauen! \nEs ist immer die gleiche Strecke\, die idyllisch um den Irissee führt. Ziel ist\, Wiener:innen zur Bewegung zu bringen\, egal wie schnell oder langsam jemand läuft oder geht – hier sind alle willkommen! \nDer Start befindet sich in der Arbeiterstrandbadstrasse 122\, Eingang Donaupark. \nFoto: Michael Mayr
URL:https://kalender.seniorinnen.wien/event/parkrun/2024-06-29/
CATEGORIES:Fit und Gesund
ATTACH;FMTTYPE=image/jpeg:https://kalender.seniorinnen.wien/wp-content/uploads/2023/10/Donaupark-Parkrun-Foto-Michael-Mayr-scaled.jpg
END:VEVENT
BEGIN:VEVENT
DTSTART;TZID=Europe/Berlin:20240622T090000
DTEND;TZID=Europe/Berlin:20240622T100000
DTSTAMP:20260420T204729
CREATED:20231010T065315Z
LAST-MODIFIED:20231010T072721Z
UID:4267-1719046800-1719050400@kalender.seniorinnen.wien
SUMMARY:Donaupark Parkrun
DESCRIPTION:Ein kostenloser\, unterhaltsamer und fröhlicher wöchentlicher 5-km-Gemeinschaftslauf. Gehen\, joggen\, laufen\, mithelfen oder zuschauen! \nEs ist immer die gleiche Strecke\, die idyllisch um den Irissee führt. Ziel ist\, Wiener:innen zur Bewegung zu bringen\, egal wie schnell oder langsam jemand läuft oder geht – hier sind alle willkommen! \nDer Start befindet sich in der Arbeiterstrandbadstrasse 122\, Eingang Donaupark. \nFoto: Michael Mayr
URL:https://kalender.seniorinnen.wien/event/parkrun/2024-06-22/
CATEGORIES:Fit und Gesund
ATTACH;FMTTYPE=image/jpeg:https://kalender.seniorinnen.wien/wp-content/uploads/2023/10/Donaupark-Parkrun-Foto-Michael-Mayr-scaled.jpg
END:VEVENT
BEGIN:VEVENT
DTSTART;TZID=Europe/Berlin:20240615T090000
DTEND;TZID=Europe/Berlin:20240615T100000
DTSTAMP:20260420T204729
CREATED:20231010T065315Z
LAST-MODIFIED:20231010T072721Z
UID:4266-1718442000-1718445600@kalender.seniorinnen.wien
SUMMARY:Donaupark Parkrun
DESCRIPTION:Ein kostenloser\, unterhaltsamer und fröhlicher wöchentlicher 5-km-Gemeinschaftslauf. Gehen\, joggen\, laufen\, mithelfen oder zuschauen! \nEs ist immer die gleiche Strecke\, die idyllisch um den Irissee führt. Ziel ist\, Wiener:innen zur Bewegung zu bringen\, egal wie schnell oder langsam jemand läuft oder geht – hier sind alle willkommen! \nDer Start befindet sich in der Arbeiterstrandbadstrasse 122\, Eingang Donaupark. \nFoto: Michael Mayr
URL:https://kalender.seniorinnen.wien/event/parkrun/2024-06-15/
CATEGORIES:Fit und Gesund
ATTACH;FMTTYPE=image/jpeg:https://kalender.seniorinnen.wien/wp-content/uploads/2023/10/Donaupark-Parkrun-Foto-Michael-Mayr-scaled.jpg
END:VEVENT
BEGIN:VEVENT
DTSTART;TZID=Europe/Berlin:20240608T090000
DTEND;TZID=Europe/Berlin:20240608T100000
DTSTAMP:20260420T204729
CREATED:20231010T065315Z
LAST-MODIFIED:20231010T072721Z
UID:4265-1717837200-1717840800@kalender.seniorinnen.wien
SUMMARY:Donaupark Parkrun
DESCRIPTION:Ein kostenloser\, unterhaltsamer und fröhlicher wöchentlicher 5-km-Gemeinschaftslauf. Gehen\, joggen\, laufen\, mithelfen oder zuschauen! \nEs ist immer die gleiche Strecke\, die idyllisch um den Irissee führt. Ziel ist\, Wiener:innen zur Bewegung zu bringen\, egal wie schnell oder langsam jemand läuft oder geht – hier sind alle willkommen! \nDer Start befindet sich in der Arbeiterstrandbadstrasse 122\, Eingang Donaupark. \nFoto: Michael Mayr
URL:https://kalender.seniorinnen.wien/event/parkrun/2024-06-08/
CATEGORIES:Fit und Gesund
ATTACH;FMTTYPE=image/jpeg:https://kalender.seniorinnen.wien/wp-content/uploads/2023/10/Donaupark-Parkrun-Foto-Michael-Mayr-scaled.jpg
END:VEVENT
BEGIN:VEVENT
DTSTART;TZID=Europe/Berlin:20240601T090000
DTEND;TZID=Europe/Berlin:20240601T100000
DTSTAMP:20260420T204729
CREATED:20231010T065315Z
LAST-MODIFIED:20231010T072721Z
UID:4264-1717232400-1717236000@kalender.seniorinnen.wien
SUMMARY:Donaupark Parkrun
DESCRIPTION:Ein kostenloser\, unterhaltsamer und fröhlicher wöchentlicher 5-km-Gemeinschaftslauf. Gehen\, joggen\, laufen\, mithelfen oder zuschauen! \nEs ist immer die gleiche Strecke\, die idyllisch um den Irissee führt. Ziel ist\, Wiener:innen zur Bewegung zu bringen\, egal wie schnell oder langsam jemand läuft oder geht – hier sind alle willkommen! \nDer Start befindet sich in der Arbeiterstrandbadstrasse 122\, Eingang Donaupark. \nFoto: Michael Mayr
URL:https://kalender.seniorinnen.wien/event/parkrun/2024-06-01/
CATEGORIES:Fit und Gesund
ATTACH;FMTTYPE=image/jpeg:https://kalender.seniorinnen.wien/wp-content/uploads/2023/10/Donaupark-Parkrun-Foto-Michael-Mayr-scaled.jpg
END:VEVENT
BEGIN:VEVENT
DTSTART;TZID=Europe/Berlin:20240525T090000
DTEND;TZID=Europe/Berlin:20240525T100000
DTSTAMP:20260420T204729
CREATED:20231010T065315Z
LAST-MODIFIED:20231010T072721Z
UID:4263-1716627600-1716631200@kalender.seniorinnen.wien
SUMMARY:Donaupark Parkrun
DESCRIPTION:Ein kostenloser\, unterhaltsamer und fröhlicher wöchentlicher 5-km-Gemeinschaftslauf. Gehen\, joggen\, laufen\, mithelfen oder zuschauen! \nEs ist immer die gleiche Strecke\, die idyllisch um den Irissee führt. Ziel ist\, Wiener:innen zur Bewegung zu bringen\, egal wie schnell oder langsam jemand läuft oder geht – hier sind alle willkommen! \nDer Start befindet sich in der Arbeiterstrandbadstrasse 122\, Eingang Donaupark. \nFoto: Michael Mayr
URL:https://kalender.seniorinnen.wien/event/parkrun/2024-05-25/
CATEGORIES:Fit und Gesund
ATTACH;FMTTYPE=image/jpeg:https://kalender.seniorinnen.wien/wp-content/uploads/2023/10/Donaupark-Parkrun-Foto-Michael-Mayr-scaled.jpg
END:VEVENT
BEGIN:VEVENT
DTSTART;TZID=Europe/Berlin:20240518T090000
DTEND;TZID=Europe/Berlin:20240518T100000
DTSTAMP:20260420T204729
CREATED:20231010T065315Z
LAST-MODIFIED:20231010T072720Z
UID:4262-1716022800-1716026400@kalender.seniorinnen.wien
SUMMARY:Donaupark Parkrun
DESCRIPTION:Ein kostenloser\, unterhaltsamer und fröhlicher wöchentlicher 5-km-Gemeinschaftslauf. Gehen\, joggen\, laufen\, mithelfen oder zuschauen! \nEs ist immer die gleiche Strecke\, die idyllisch um den Irissee führt. Ziel ist\, Wiener:innen zur Bewegung zu bringen\, egal wie schnell oder langsam jemand läuft oder geht – hier sind alle willkommen! \nDer Start befindet sich in der Arbeiterstrandbadstrasse 122\, Eingang Donaupark. \nFoto: Michael Mayr
URL:https://kalender.seniorinnen.wien/event/parkrun/2024-05-18/
CATEGORIES:Fit und Gesund
ATTACH;FMTTYPE=image/jpeg:https://kalender.seniorinnen.wien/wp-content/uploads/2023/10/Donaupark-Parkrun-Foto-Michael-Mayr-scaled.jpg
END:VEVENT
BEGIN:VEVENT
DTSTART;TZID=Europe/Berlin:20240511T090000
DTEND;TZID=Europe/Berlin:20240511T100000
DTSTAMP:20260420T204729
CREATED:20231010T065315Z
LAST-MODIFIED:20231010T072719Z
UID:4261-1715418000-1715421600@kalender.seniorinnen.wien
SUMMARY:Donaupark Parkrun
DESCRIPTION:Ein kostenloser\, unterhaltsamer und fröhlicher wöchentlicher 5-km-Gemeinschaftslauf. Gehen\, joggen\, laufen\, mithelfen oder zuschauen! \nEs ist immer die gleiche Strecke\, die idyllisch um den Irissee führt. Ziel ist\, Wiener:innen zur Bewegung zu bringen\, egal wie schnell oder langsam jemand läuft oder geht – hier sind alle willkommen! \nDer Start befindet sich in der Arbeiterstrandbadstrasse 122\, Eingang Donaupark. \nFoto: Michael Mayr
URL:https://kalender.seniorinnen.wien/event/parkrun/2024-05-11/
CATEGORIES:Fit und Gesund
ATTACH;FMTTYPE=image/jpeg:https://kalender.seniorinnen.wien/wp-content/uploads/2023/10/Donaupark-Parkrun-Foto-Michael-Mayr-scaled.jpg
END:VEVENT
BEGIN:VEVENT
DTSTART;TZID=Europe/Berlin:20240504T090000
DTEND;TZID=Europe/Berlin:20240504T100000
DTSTAMP:20260420T204729
CREATED:20231010T065315Z
LAST-MODIFIED:20231010T072719Z
UID:4260-1714813200-1714816800@kalender.seniorinnen.wien
SUMMARY:Donaupark Parkrun
DESCRIPTION:Ein kostenloser\, unterhaltsamer und fröhlicher wöchentlicher 5-km-Gemeinschaftslauf. Gehen\, joggen\, laufen\, mithelfen oder zuschauen! \nEs ist immer die gleiche Strecke\, die idyllisch um den Irissee führt. Ziel ist\, Wiener:innen zur Bewegung zu bringen\, egal wie schnell oder langsam jemand läuft oder geht – hier sind alle willkommen! \nDer Start befindet sich in der Arbeiterstrandbadstrasse 122\, Eingang Donaupark. \nFoto: Michael Mayr
URL:https://kalender.seniorinnen.wien/event/parkrun/2024-05-04/
CATEGORIES:Fit und Gesund
ATTACH;FMTTYPE=image/jpeg:https://kalender.seniorinnen.wien/wp-content/uploads/2023/10/Donaupark-Parkrun-Foto-Michael-Mayr-scaled.jpg
END:VEVENT
BEGIN:VEVENT
DTSTART;TZID=Europe/Berlin:20240427T090000
DTEND;TZID=Europe/Berlin:20240427T100000
DTSTAMP:20260420T204729
CREATED:20231010T065315Z
LAST-MODIFIED:20231010T072719Z
UID:4259-1714208400-1714212000@kalender.seniorinnen.wien
SUMMARY:Donaupark Parkrun
DESCRIPTION:Ein kostenloser\, unterhaltsamer und fröhlicher wöchentlicher 5-km-Gemeinschaftslauf. Gehen\, joggen\, laufen\, mithelfen oder zuschauen! \nEs ist immer die gleiche Strecke\, die idyllisch um den Irissee führt. Ziel ist\, Wiener:innen zur Bewegung zu bringen\, egal wie schnell oder langsam jemand läuft oder geht – hier sind alle willkommen! \nDer Start befindet sich in der Arbeiterstrandbadstrasse 122\, Eingang Donaupark. \nFoto: Michael Mayr
URL:https://kalender.seniorinnen.wien/event/parkrun/2024-04-27/
CATEGORIES:Fit und Gesund
ATTACH;FMTTYPE=image/jpeg:https://kalender.seniorinnen.wien/wp-content/uploads/2023/10/Donaupark-Parkrun-Foto-Michael-Mayr-scaled.jpg
END:VEVENT
BEGIN:VEVENT
DTSTART;TZID=Europe/Berlin:20240420T090000
DTEND;TZID=Europe/Berlin:20240420T100000
DTSTAMP:20260420T204729
CREATED:20231010T065315Z
LAST-MODIFIED:20231010T072719Z
UID:4258-1713603600-1713607200@kalender.seniorinnen.wien
SUMMARY:Donaupark Parkrun
DESCRIPTION:Ein kostenloser\, unterhaltsamer und fröhlicher wöchentlicher 5-km-Gemeinschaftslauf. Gehen\, joggen\, laufen\, mithelfen oder zuschauen! \nEs ist immer die gleiche Strecke\, die idyllisch um den Irissee führt. Ziel ist\, Wiener:innen zur Bewegung zu bringen\, egal wie schnell oder langsam jemand läuft oder geht – hier sind alle willkommen! \nDer Start befindet sich in der Arbeiterstrandbadstrasse 122\, Eingang Donaupark. \nFoto: Michael Mayr
URL:https://kalender.seniorinnen.wien/event/parkrun/2024-04-20/
CATEGORIES:Fit und Gesund
ATTACH;FMTTYPE=image/jpeg:https://kalender.seniorinnen.wien/wp-content/uploads/2023/10/Donaupark-Parkrun-Foto-Michael-Mayr-scaled.jpg
END:VEVENT
BEGIN:VEVENT
DTSTART;TZID=Europe/Berlin:20231014T090000
DTEND;TZID=Europe/Berlin:20231014T100000
DTSTAMP:20260420T204729
CREATED:20231010T065315Z
LAST-MODIFIED:20231010T072706Z
UID:4230-1697274000-1697277600@kalender.seniorinnen.wien
SUMMARY:Donaupark Parkrun
DESCRIPTION:Ein kostenloser\, unterhaltsamer und fröhlicher wöchentlicher 5-km-Gemeinschaftslauf. Gehen\, joggen\, laufen\, mithelfen oder zuschauen! \nEs ist immer die gleiche Strecke\, die idyllisch um den Irissee führt. Ziel ist\, Wiener:innen zur Bewegung zu bringen\, egal wie schnell oder langsam jemand läuft oder geht – hier sind alle willkommen! \nDer Start befindet sich in der Arbeiterstrandbadstrasse 122\, Eingang Donaupark. \nFoto: Michael Mayr
URL:https://kalender.seniorinnen.wien/event/parkrun/2023-10-14/
CATEGORIES:Fit und Gesund
ATTACH;FMTTYPE=image/jpeg:https://kalender.seniorinnen.wien/wp-content/uploads/2023/10/Donaupark-Parkrun-Foto-Michael-Mayr-scaled.jpg
END:VEVENT
END:VCALENDAR