BEGIN:VCALENDAR
VERSION:2.0
PRODID:-//Wien für Senior:innen - ECPv6.15.17.1//NONSGML v1.0//EN
CALSCALE:GREGORIAN
METHOD:PUBLISH
X-WR-CALNAME:Wien für Senior:innen
X-ORIGINAL-URL:https://kalender.seniorinnen.wien
X-WR-CALDESC:Veranstaltungen für Wien für Senior:innen
REFRESH-INTERVAL;VALUE=DURATION:PT1H
X-Robots-Tag:noindex
X-PUBLISHED-TTL:PT1H
BEGIN:VTIMEZONE
TZID:Europe/Berlin
BEGIN:DAYLIGHT
TZOFFSETFROM:+0100
TZOFFSETTO:+0200
TZNAME:CEST
DTSTART:20220327T010000
END:DAYLIGHT
BEGIN:STANDARD
TZOFFSETFROM:+0200
TZOFFSETTO:+0100
TZNAME:CET
DTSTART:20221030T010000
END:STANDARD
BEGIN:DAYLIGHT
TZOFFSETFROM:+0100
TZOFFSETTO:+0200
TZNAME:CEST
DTSTART:20230326T010000
END:DAYLIGHT
BEGIN:STANDARD
TZOFFSETFROM:+0200
TZOFFSETTO:+0100
TZNAME:CET
DTSTART:20231029T010000
END:STANDARD
BEGIN:DAYLIGHT
TZOFFSETFROM:+0100
TZOFFSETTO:+0200
TZNAME:CEST
DTSTART:20240331T010000
END:DAYLIGHT
BEGIN:STANDARD
TZOFFSETFROM:+0200
TZOFFSETTO:+0100
TZNAME:CET
DTSTART:20241027T010000
END:STANDARD
END:VTIMEZONE
BEGIN:VEVENT
DTSTART;TZID=Europe/Berlin:20231122T150000
DTEND;TZID=Europe/Berlin:20231122T163000
DTSTAMP:20260421T044146
CREATED:20231116T094014Z
LAST-MODIFIED:20240105T093001Z
UID:4188-1700665200-1700670600@kalender.seniorinnen.wien
SUMMARY:Offenes Atelier
DESCRIPTION:Kunstvermittlung für Menschen mit Demenz und ihre Begleitpersonen \nWann waren Sie das letzte Mal im Museum? Entfliehen Sie dem Alltag und lassen Sie sich und Ihre Angehörigen von der Volkshilfe Wien zu einem Museumsbesuch einladen! \nDie Künstler*innen und Kunstvermittler*innen der Künstlerhaus Vereinigung ermöglichen leicht zugängliche Begegnungen mit zeitgenössischer Kunst für Menschen mit Demenz und ihre Begleitpersonen. \nIm Workshop OFFENES ATELIER können verschiedene Techniken und Materialien ausprobiert werden. Malen\, Stempeln oder Drucken – alles ist möglich! \nDie Gruppe setzt sich aus 10 Personen zusammen\, 5 an Demenz erkrankte Menschen und ihre Begleitpersonen. Der Workshop findet ab zwei angemeldeten Personen statt. \nInformation und Buchung: \n+ 43 1 587 96 63 20 / + 43 1 587 96 63 15\nkunstvermittlung@kuenstlerhaus.at \nWir bitten um Kontaktaufnahme\, bis spätestens eine Woche vor dem Workshop Termin. \nGruppen: Das Angebot ist für Gruppen zu eigenen Terminen buchbar\, bitte um Kontaktaufnahme und Angabe des gewünschten Programms. Es besteht die Möglichkeit\, zwischen einem Vormittagstermin von 10:00 – 11:30 und einem Nachmittagstermin von 15:00 – 16:30 zu wählen. \nDie Workshops werden aus dem Demenzhilfe-Fonds der Volkshilfe finanziert und sind für die Teilnehmer:innen gratis. \n© Künstlerhaus Vereinigung
URL:https://kalender.seniorinnen.wien/event/offenes-atelier/2023-11-22/
LOCATION:Künstlerhaus Wien\, Karlsplatz 5\, Wien\, 1010
CATEGORIES:Demenz
ATTACH;FMTTYPE=image/jpeg:https://kalender.seniorinnen.wien/wp-content/uploads/2023/10/Offenes_Atelier-scaled-e1696511853593.jpg
END:VEVENT
END:VCALENDAR