BEGIN:VCALENDAR
VERSION:2.0
PRODID:-//Wien für Senior:innen - ECPv6.15.17.1//NONSGML v1.0//EN
CALSCALE:GREGORIAN
METHOD:PUBLISH
X-WR-CALNAME:Wien für Senior:innen
X-ORIGINAL-URL:https://kalender.seniorinnen.wien
X-WR-CALDESC:Veranstaltungen für Wien für Senior:innen
REFRESH-INTERVAL;VALUE=DURATION:PT1H
X-Robots-Tag:noindex
X-PUBLISHED-TTL:PT1H
BEGIN:VTIMEZONE
TZID:Europe/Berlin
BEGIN:DAYLIGHT
TZOFFSETFROM:+0100
TZOFFSETTO:+0200
TZNAME:CEST
DTSTART:20240331T010000
END:DAYLIGHT
BEGIN:STANDARD
TZOFFSETFROM:+0200
TZOFFSETTO:+0100
TZNAME:CET
DTSTART:20241027T010000
END:STANDARD
BEGIN:DAYLIGHT
TZOFFSETFROM:+0100
TZOFFSETTO:+0200
TZNAME:CEST
DTSTART:20250330T010000
END:DAYLIGHT
BEGIN:STANDARD
TZOFFSETFROM:+0200
TZOFFSETTO:+0100
TZNAME:CET
DTSTART:20251026T010000
END:STANDARD
BEGIN:DAYLIGHT
TZOFFSETFROM:+0100
TZOFFSETTO:+0200
TZNAME:CEST
DTSTART:20260329T010000
END:DAYLIGHT
BEGIN:STANDARD
TZOFFSETFROM:+0200
TZOFFSETTO:+0100
TZNAME:CET
DTSTART:20261025T010000
END:STANDARD
BEGIN:DAYLIGHT
TZOFFSETFROM:+0100
TZOFFSETTO:+0200
TZNAME:CEST
DTSTART:20270328T010000
END:DAYLIGHT
BEGIN:STANDARD
TZOFFSETFROM:+0200
TZOFFSETTO:+0100
TZNAME:CET
DTSTART:20271031T010000
END:STANDARD
END:VTIMEZONE
BEGIN:VEVENT
DTSTART;TZID=Europe/Berlin:20260112T103000
DTEND;TZID=Europe/Berlin:20260112T120000
DTSTAMP:20260420T200634
CREATED:20250915T094406Z
LAST-MODIFIED:20250915T095451Z
UID:10190-1768213800-1768219200@kalender.seniorinnen.wien
SUMMARY:Muskelaufbau für Senior:innen
DESCRIPTION:Muskelaufbau für Senior:innen\nTeil 1: 22.09.2025-03.11.2025 | Mo. 10:30-12:00\nTeil 2: 10.11.2025-12.01.2026  | Mo. 10:30-12:00 \nje 10\,5 UE | 7x | ab 8 TN | € 85\,-\nKursnr: 25GG2015a/25GG2015b\nAlexandra Gross \nKontakt:\nTel.: +43 1 891 74 111 000\nE-Mail: simmering@vhs.at \nFoto: Pixabay \n  \n  \n 
URL:https://kalender.seniorinnen.wien/event/muskelaufbau-fuer-seniorinnen/2026-01-12/
LOCATION:VHS Simmering\, Gottschalkgasse 10\, Wien\, 1110\, Österreich
CATEGORIES:Fit und Gesund
ATTACH;FMTTYPE=image/jpeg:https://kalender.seniorinnen.wien/wp-content/uploads/2024/11/Training_dumbbells-1621272_1280_Pixabay.jpg
END:VEVENT
BEGIN:VEVENT
DTSTART;TZID=Europe/Berlin:20260105T103000
DTEND;TZID=Europe/Berlin:20260105T120000
DTSTAMP:20260420T200634
CREATED:20250915T094406Z
LAST-MODIFIED:20250915T095451Z
UID:10189-1767609000-1767614400@kalender.seniorinnen.wien
SUMMARY:Muskelaufbau für Senior:innen
DESCRIPTION:Muskelaufbau für Senior:innen\nTeil 1: 22.09.2025-03.11.2025 | Mo. 10:30-12:00\nTeil 2: 10.11.2025-12.01.2026  | Mo. 10:30-12:00 \nje 10\,5 UE | 7x | ab 8 TN | € 85\,-\nKursnr: 25GG2015a/25GG2015b\nAlexandra Gross \nKontakt:\nTel.: +43 1 891 74 111 000\nE-Mail: simmering@vhs.at \nFoto: Pixabay \n  \n  \n 
URL:https://kalender.seniorinnen.wien/event/muskelaufbau-fuer-seniorinnen/2026-01-05/
LOCATION:VHS Simmering\, Gottschalkgasse 10\, Wien\, 1110\, Österreich
CATEGORIES:Fit und Gesund
ATTACH;FMTTYPE=image/jpeg:https://kalender.seniorinnen.wien/wp-content/uploads/2024/11/Training_dumbbells-1621272_1280_Pixabay.jpg
END:VEVENT
BEGIN:VEVENT
DTSTART;TZID=Europe/Berlin:20251229T103000
DTEND;TZID=Europe/Berlin:20251229T120000
DTSTAMP:20260420T200634
CREATED:20250915T094406Z
LAST-MODIFIED:20250915T095450Z
UID:10188-1767004200-1767009600@kalender.seniorinnen.wien
SUMMARY:Muskelaufbau für Senior:innen
DESCRIPTION:Muskelaufbau für Senior:innen\nTeil 1: 22.09.2025-03.11.2025 | Mo. 10:30-12:00\nTeil 2: 10.11.2025-12.01.2026  | Mo. 10:30-12:00 \nje 10\,5 UE | 7x | ab 8 TN | € 85\,-\nKursnr: 25GG2015a/25GG2015b\nAlexandra Gross \nKontakt:\nTel.: +43 1 891 74 111 000\nE-Mail: simmering@vhs.at \nFoto: Pixabay \n  \n  \n 
URL:https://kalender.seniorinnen.wien/event/muskelaufbau-fuer-seniorinnen/2025-12-29/
LOCATION:VHS Simmering\, Gottschalkgasse 10\, Wien\, 1110\, Österreich
CATEGORIES:Fit und Gesund
ATTACH;FMTTYPE=image/jpeg:https://kalender.seniorinnen.wien/wp-content/uploads/2024/11/Training_dumbbells-1621272_1280_Pixabay.jpg
END:VEVENT
BEGIN:VEVENT
DTSTART;TZID=Europe/Berlin:20251222T103000
DTEND;TZID=Europe/Berlin:20251222T120000
DTSTAMP:20260420T200634
CREATED:20250915T094406Z
LAST-MODIFIED:20250915T095450Z
UID:10187-1766399400-1766404800@kalender.seniorinnen.wien
SUMMARY:Muskelaufbau für Senior:innen
DESCRIPTION:Muskelaufbau für Senior:innen\nTeil 1: 22.09.2025-03.11.2025 | Mo. 10:30-12:00\nTeil 2: 10.11.2025-12.01.2026  | Mo. 10:30-12:00 \nje 10\,5 UE | 7x | ab 8 TN | € 85\,-\nKursnr: 25GG2015a/25GG2015b\nAlexandra Gross \nKontakt:\nTel.: +43 1 891 74 111 000\nE-Mail: simmering@vhs.at \nFoto: Pixabay \n  \n  \n 
URL:https://kalender.seniorinnen.wien/event/muskelaufbau-fuer-seniorinnen/2025-12-22/
LOCATION:VHS Simmering\, Gottschalkgasse 10\, Wien\, 1110\, Österreich
CATEGORIES:Fit und Gesund
ATTACH;FMTTYPE=image/jpeg:https://kalender.seniorinnen.wien/wp-content/uploads/2024/11/Training_dumbbells-1621272_1280_Pixabay.jpg
END:VEVENT
BEGIN:VEVENT
DTSTART;TZID=Europe/Berlin:20251215T103000
DTEND;TZID=Europe/Berlin:20251215T120000
DTSTAMP:20260420T200634
CREATED:20250915T094406Z
LAST-MODIFIED:20250915T095450Z
UID:10186-1765794600-1765800000@kalender.seniorinnen.wien
SUMMARY:Muskelaufbau für Senior:innen
DESCRIPTION:Muskelaufbau für Senior:innen\nTeil 1: 22.09.2025-03.11.2025 | Mo. 10:30-12:00\nTeil 2: 10.11.2025-12.01.2026  | Mo. 10:30-12:00 \nje 10\,5 UE | 7x | ab 8 TN | € 85\,-\nKursnr: 25GG2015a/25GG2015b\nAlexandra Gross \nKontakt:\nTel.: +43 1 891 74 111 000\nE-Mail: simmering@vhs.at \nFoto: Pixabay \n  \n  \n 
URL:https://kalender.seniorinnen.wien/event/muskelaufbau-fuer-seniorinnen/2025-12-15/
LOCATION:VHS Simmering\, Gottschalkgasse 10\, Wien\, 1110\, Österreich
CATEGORIES:Fit und Gesund
ATTACH;FMTTYPE=image/jpeg:https://kalender.seniorinnen.wien/wp-content/uploads/2024/11/Training_dumbbells-1621272_1280_Pixabay.jpg
END:VEVENT
BEGIN:VEVENT
DTSTART;TZID=Europe/Berlin:20251208T103000
DTEND;TZID=Europe/Berlin:20251208T120000
DTSTAMP:20260420T200634
CREATED:20250915T094406Z
LAST-MODIFIED:20250915T095450Z
UID:10185-1765189800-1765195200@kalender.seniorinnen.wien
SUMMARY:Muskelaufbau für Senior:innen
DESCRIPTION:Muskelaufbau für Senior:innen\nTeil 1: 22.09.2025-03.11.2025 | Mo. 10:30-12:00\nTeil 2: 10.11.2025-12.01.2026  | Mo. 10:30-12:00 \nje 10\,5 UE | 7x | ab 8 TN | € 85\,-\nKursnr: 25GG2015a/25GG2015b\nAlexandra Gross \nKontakt:\nTel.: +43 1 891 74 111 000\nE-Mail: simmering@vhs.at \nFoto: Pixabay \n  \n  \n 
URL:https://kalender.seniorinnen.wien/event/muskelaufbau-fuer-seniorinnen/2025-12-08/
LOCATION:VHS Simmering\, Gottschalkgasse 10\, Wien\, 1110\, Österreich
CATEGORIES:Fit und Gesund
ATTACH;FMTTYPE=image/jpeg:https://kalender.seniorinnen.wien/wp-content/uploads/2024/11/Training_dumbbells-1621272_1280_Pixabay.jpg
END:VEVENT
BEGIN:VEVENT
DTSTART;TZID=Europe/Berlin:20251201T103000
DTEND;TZID=Europe/Berlin:20251201T120000
DTSTAMP:20260420T200634
CREATED:20250915T094406Z
LAST-MODIFIED:20250915T095446Z
UID:10184-1764585000-1764590400@kalender.seniorinnen.wien
SUMMARY:Muskelaufbau für Senior:innen
DESCRIPTION:Muskelaufbau für Senior:innen\nTeil 1: 22.09.2025-03.11.2025 | Mo. 10:30-12:00\nTeil 2: 10.11.2025-12.01.2026  | Mo. 10:30-12:00 \nje 10\,5 UE | 7x | ab 8 TN | € 85\,-\nKursnr: 25GG2015a/25GG2015b\nAlexandra Gross \nKontakt:\nTel.: +43 1 891 74 111 000\nE-Mail: simmering@vhs.at \nFoto: Pixabay \n  \n  \n 
URL:https://kalender.seniorinnen.wien/event/muskelaufbau-fuer-seniorinnen/2025-12-01/
LOCATION:VHS Simmering\, Gottschalkgasse 10\, Wien\, 1110\, Österreich
CATEGORIES:Fit und Gesund
ATTACH;FMTTYPE=image/jpeg:https://kalender.seniorinnen.wien/wp-content/uploads/2024/11/Training_dumbbells-1621272_1280_Pixabay.jpg
END:VEVENT
BEGIN:VEVENT
DTSTART;TZID=Europe/Berlin:20251124T103000
DTEND;TZID=Europe/Berlin:20251124T120000
DTSTAMP:20260420T200634
CREATED:20250915T094406Z
LAST-MODIFIED:20250915T095445Z
UID:10183-1763980200-1763985600@kalender.seniorinnen.wien
SUMMARY:Muskelaufbau für Senior:innen
DESCRIPTION:Muskelaufbau für Senior:innen\nTeil 1: 22.09.2025-03.11.2025 | Mo. 10:30-12:00\nTeil 2: 10.11.2025-12.01.2026  | Mo. 10:30-12:00 \nje 10\,5 UE | 7x | ab 8 TN | € 85\,-\nKursnr: 25GG2015a/25GG2015b\nAlexandra Gross \nKontakt:\nTel.: +43 1 891 74 111 000\nE-Mail: simmering@vhs.at \nFoto: Pixabay \n  \n  \n 
URL:https://kalender.seniorinnen.wien/event/muskelaufbau-fuer-seniorinnen/2025-11-24/
LOCATION:VHS Simmering\, Gottschalkgasse 10\, Wien\, 1110\, Österreich
CATEGORIES:Fit und Gesund
ATTACH;FMTTYPE=image/jpeg:https://kalender.seniorinnen.wien/wp-content/uploads/2024/11/Training_dumbbells-1621272_1280_Pixabay.jpg
END:VEVENT
BEGIN:VEVENT
DTSTART;TZID=Europe/Berlin:20251117T103000
DTEND;TZID=Europe/Berlin:20251117T120000
DTSTAMP:20260420T200634
CREATED:20250915T094406Z
LAST-MODIFIED:20250915T095445Z
UID:10182-1763375400-1763380800@kalender.seniorinnen.wien
SUMMARY:Muskelaufbau für Senior:innen
DESCRIPTION:Muskelaufbau für Senior:innen\nTeil 1: 22.09.2025-03.11.2025 | Mo. 10:30-12:00\nTeil 2: 10.11.2025-12.01.2026  | Mo. 10:30-12:00 \nje 10\,5 UE | 7x | ab 8 TN | € 85\,-\nKursnr: 25GG2015a/25GG2015b\nAlexandra Gross \nKontakt:\nTel.: +43 1 891 74 111 000\nE-Mail: simmering@vhs.at \nFoto: Pixabay \n  \n  \n 
URL:https://kalender.seniorinnen.wien/event/muskelaufbau-fuer-seniorinnen/2025-11-17/
LOCATION:VHS Simmering\, Gottschalkgasse 10\, Wien\, 1110\, Österreich
CATEGORIES:Fit und Gesund
ATTACH;FMTTYPE=image/jpeg:https://kalender.seniorinnen.wien/wp-content/uploads/2024/11/Training_dumbbells-1621272_1280_Pixabay.jpg
END:VEVENT
BEGIN:VEVENT
DTSTART;TZID=Europe/Berlin:20251110T103000
DTEND;TZID=Europe/Berlin:20251110T120000
DTSTAMP:20260420T200634
CREATED:20250915T094406Z
LAST-MODIFIED:20250915T095445Z
UID:10181-1762770600-1762776000@kalender.seniorinnen.wien
SUMMARY:Muskelaufbau für Senior:innen
DESCRIPTION:Muskelaufbau für Senior:innen\nTeil 1: 22.09.2025-03.11.2025 | Mo. 10:30-12:00\nTeil 2: 10.11.2025-12.01.2026  | Mo. 10:30-12:00 \nje 10\,5 UE | 7x | ab 8 TN | € 85\,-\nKursnr: 25GG2015a/25GG2015b\nAlexandra Gross \nKontakt:\nTel.: +43 1 891 74 111 000\nE-Mail: simmering@vhs.at \nFoto: Pixabay \n  \n  \n 
URL:https://kalender.seniorinnen.wien/event/muskelaufbau-fuer-seniorinnen/2025-11-10/
LOCATION:VHS Simmering\, Gottschalkgasse 10\, Wien\, 1110\, Österreich
CATEGORIES:Fit und Gesund
ATTACH;FMTTYPE=image/jpeg:https://kalender.seniorinnen.wien/wp-content/uploads/2024/11/Training_dumbbells-1621272_1280_Pixabay.jpg
END:VEVENT
BEGIN:VEVENT
DTSTART;TZID=Europe/Berlin:20251103T103000
DTEND;TZID=Europe/Berlin:20251103T120000
DTSTAMP:20260420T200634
CREATED:20250915T094406Z
LAST-MODIFIED:20250915T095444Z
UID:10180-1762165800-1762171200@kalender.seniorinnen.wien
SUMMARY:Muskelaufbau für Senior:innen
DESCRIPTION:Muskelaufbau für Senior:innen\nTeil 1: 22.09.2025-03.11.2025 | Mo. 10:30-12:00\nTeil 2: 10.11.2025-12.01.2026  | Mo. 10:30-12:00 \nje 10\,5 UE | 7x | ab 8 TN | € 85\,-\nKursnr: 25GG2015a/25GG2015b\nAlexandra Gross \nKontakt:\nTel.: +43 1 891 74 111 000\nE-Mail: simmering@vhs.at \nFoto: Pixabay \n  \n  \n 
URL:https://kalender.seniorinnen.wien/event/muskelaufbau-fuer-seniorinnen/2025-11-03/
LOCATION:VHS Simmering\, Gottschalkgasse 10\, Wien\, 1110\, Österreich
CATEGORIES:Fit und Gesund
ATTACH;FMTTYPE=image/jpeg:https://kalender.seniorinnen.wien/wp-content/uploads/2024/11/Training_dumbbells-1621272_1280_Pixabay.jpg
END:VEVENT
BEGIN:VEVENT
DTSTART;TZID=Europe/Berlin:20251027T103000
DTEND;TZID=Europe/Berlin:20251027T120000
DTSTAMP:20260420T200634
CREATED:20250915T094406Z
LAST-MODIFIED:20250915T095444Z
UID:10179-1761561000-1761566400@kalender.seniorinnen.wien
SUMMARY:Muskelaufbau für Senior:innen
DESCRIPTION:Muskelaufbau für Senior:innen\nTeil 1: 22.09.2025-03.11.2025 | Mo. 10:30-12:00\nTeil 2: 10.11.2025-12.01.2026  | Mo. 10:30-12:00 \nje 10\,5 UE | 7x | ab 8 TN | € 85\,-\nKursnr: 25GG2015a/25GG2015b\nAlexandra Gross \nKontakt:\nTel.: +43 1 891 74 111 000\nE-Mail: simmering@vhs.at \nFoto: Pixabay \n  \n  \n 
URL:https://kalender.seniorinnen.wien/event/muskelaufbau-fuer-seniorinnen/2025-10-27/
LOCATION:VHS Simmering\, Gottschalkgasse 10\, Wien\, 1110\, Österreich
CATEGORIES:Fit und Gesund
ATTACH;FMTTYPE=image/jpeg:https://kalender.seniorinnen.wien/wp-content/uploads/2024/11/Training_dumbbells-1621272_1280_Pixabay.jpg
END:VEVENT
BEGIN:VEVENT
DTSTART;TZID=Europe/Berlin:20251020T103000
DTEND;TZID=Europe/Berlin:20251020T120000
DTSTAMP:20260420T200634
CREATED:20250915T094406Z
LAST-MODIFIED:20250915T095444Z
UID:10178-1760956200-1760961600@kalender.seniorinnen.wien
SUMMARY:Muskelaufbau für Senior:innen
DESCRIPTION:Muskelaufbau für Senior:innen\nTeil 1: 22.09.2025-03.11.2025 | Mo. 10:30-12:00\nTeil 2: 10.11.2025-12.01.2026  | Mo. 10:30-12:00 \nje 10\,5 UE | 7x | ab 8 TN | € 85\,-\nKursnr: 25GG2015a/25GG2015b\nAlexandra Gross \nKontakt:\nTel.: +43 1 891 74 111 000\nE-Mail: simmering@vhs.at \nFoto: Pixabay \n  \n  \n 
URL:https://kalender.seniorinnen.wien/event/muskelaufbau-fuer-seniorinnen/2025-10-20/
LOCATION:VHS Simmering\, Gottschalkgasse 10\, Wien\, 1110\, Österreich
CATEGORIES:Fit und Gesund
ATTACH;FMTTYPE=image/jpeg:https://kalender.seniorinnen.wien/wp-content/uploads/2024/11/Training_dumbbells-1621272_1280_Pixabay.jpg
END:VEVENT
BEGIN:VEVENT
DTSTART;TZID=Europe/Berlin:20251013T103000
DTEND;TZID=Europe/Berlin:20251013T120000
DTSTAMP:20260420T200634
CREATED:20250915T094406Z
LAST-MODIFIED:20250915T095443Z
UID:10177-1760351400-1760356800@kalender.seniorinnen.wien
SUMMARY:Muskelaufbau für Senior:innen
DESCRIPTION:Muskelaufbau für Senior:innen\nTeil 1: 22.09.2025-03.11.2025 | Mo. 10:30-12:00\nTeil 2: 10.11.2025-12.01.2026  | Mo. 10:30-12:00 \nje 10\,5 UE | 7x | ab 8 TN | € 85\,-\nKursnr: 25GG2015a/25GG2015b\nAlexandra Gross \nKontakt:\nTel.: +43 1 891 74 111 000\nE-Mail: simmering@vhs.at \nFoto: Pixabay \n  \n  \n 
URL:https://kalender.seniorinnen.wien/event/muskelaufbau-fuer-seniorinnen/2025-10-13/
LOCATION:VHS Simmering\, Gottschalkgasse 10\, Wien\, 1110\, Österreich
CATEGORIES:Fit und Gesund
ATTACH;FMTTYPE=image/jpeg:https://kalender.seniorinnen.wien/wp-content/uploads/2024/11/Training_dumbbells-1621272_1280_Pixabay.jpg
END:VEVENT
BEGIN:VEVENT
DTSTART;TZID=Europe/Berlin:20251006T103000
DTEND;TZID=Europe/Berlin:20251006T120000
DTSTAMP:20260420T200634
CREATED:20250915T094406Z
LAST-MODIFIED:20250915T095443Z
UID:10176-1759746600-1759752000@kalender.seniorinnen.wien
SUMMARY:Muskelaufbau für Senior:innen
DESCRIPTION:Muskelaufbau für Senior:innen\nTeil 1: 22.09.2025-03.11.2025 | Mo. 10:30-12:00\nTeil 2: 10.11.2025-12.01.2026  | Mo. 10:30-12:00 \nje 10\,5 UE | 7x | ab 8 TN | € 85\,-\nKursnr: 25GG2015a/25GG2015b\nAlexandra Gross \nKontakt:\nTel.: +43 1 891 74 111 000\nE-Mail: simmering@vhs.at \nFoto: Pixabay \n  \n  \n 
URL:https://kalender.seniorinnen.wien/event/muskelaufbau-fuer-seniorinnen/2025-10-06/
LOCATION:VHS Simmering\, Gottschalkgasse 10\, Wien\, 1110\, Österreich
CATEGORIES:Fit und Gesund
ATTACH;FMTTYPE=image/jpeg:https://kalender.seniorinnen.wien/wp-content/uploads/2024/11/Training_dumbbells-1621272_1280_Pixabay.jpg
END:VEVENT
BEGIN:VEVENT
DTSTART;TZID=Europe/Berlin:20250929T103000
DTEND;TZID=Europe/Berlin:20250929T120000
DTSTAMP:20260420T200634
CREATED:20250915T094406Z
LAST-MODIFIED:20250915T095443Z
UID:10175-1759141800-1759147200@kalender.seniorinnen.wien
SUMMARY:Muskelaufbau für Senior:innen
DESCRIPTION:Muskelaufbau für Senior:innen\nTeil 1: 22.09.2025-03.11.2025 | Mo. 10:30-12:00\nTeil 2: 10.11.2025-12.01.2026  | Mo. 10:30-12:00 \nje 10\,5 UE | 7x | ab 8 TN | € 85\,-\nKursnr: 25GG2015a/25GG2015b\nAlexandra Gross \nKontakt:\nTel.: +43 1 891 74 111 000\nE-Mail: simmering@vhs.at \nFoto: Pixabay \n  \n  \n 
URL:https://kalender.seniorinnen.wien/event/muskelaufbau-fuer-seniorinnen/2025-09-29/
LOCATION:VHS Simmering\, Gottschalkgasse 10\, Wien\, 1110\, Österreich
CATEGORIES:Fit und Gesund
ATTACH;FMTTYPE=image/jpeg:https://kalender.seniorinnen.wien/wp-content/uploads/2024/11/Training_dumbbells-1621272_1280_Pixabay.jpg
END:VEVENT
BEGIN:VEVENT
DTSTART;TZID=Europe/Berlin:20250922T103000
DTEND;TZID=Europe/Berlin:20250922T120000
DTSTAMP:20260420T200634
CREATED:20250915T094406Z
LAST-MODIFIED:20250915T095443Z
UID:10167-1758537000-1758542400@kalender.seniorinnen.wien
SUMMARY:Muskelaufbau für Senior:innen
DESCRIPTION:Muskelaufbau für Senior:innen\nTeil 1: 22.09.2025-03.11.2025 | Mo. 10:30-12:00\nTeil 2: 10.11.2025-12.01.2026  | Mo. 10:30-12:00 \nje 10\,5 UE | 7x | ab 8 TN | € 85\,-\nKursnr: 25GG2015a/25GG2015b\nAlexandra Gross \nKontakt:\nTel.: +43 1 891 74 111 000\nE-Mail: simmering@vhs.at \nFoto: Pixabay \n  \n  \n 
URL:https://kalender.seniorinnen.wien/event/muskelaufbau-fuer-seniorinnen/2025-09-22/
LOCATION:VHS Simmering\, Gottschalkgasse 10\, Wien\, 1110\, Österreich
CATEGORIES:Fit und Gesund
ATTACH;FMTTYPE=image/jpeg:https://kalender.seniorinnen.wien/wp-content/uploads/2024/11/Training_dumbbells-1621272_1280_Pixabay.jpg
END:VEVENT
END:VCALENDAR