BEGIN:VCALENDAR
VERSION:2.0
PRODID:-//Wien für Senior:innen - ECPv6.15.17.1//NONSGML v1.0//EN
CALSCALE:GREGORIAN
METHOD:PUBLISH
X-WR-CALNAME:Wien für Senior:innen
X-ORIGINAL-URL:https://kalender.seniorinnen.wien
X-WR-CALDESC:Veranstaltungen für Wien für Senior:innen
REFRESH-INTERVAL;VALUE=DURATION:PT1H
X-Robots-Tag:noindex
X-PUBLISHED-TTL:PT1H
BEGIN:VTIMEZONE
TZID:Europe/Berlin
BEGIN:DAYLIGHT
TZOFFSETFROM:+0100
TZOFFSETTO:+0200
TZNAME:CEST
DTSTART:20210328T010000
END:DAYLIGHT
BEGIN:STANDARD
TZOFFSETFROM:+0200
TZOFFSETTO:+0100
TZNAME:CET
DTSTART:20211031T010000
END:STANDARD
BEGIN:DAYLIGHT
TZOFFSETFROM:+0100
TZOFFSETTO:+0200
TZNAME:CEST
DTSTART:20220327T010000
END:DAYLIGHT
BEGIN:STANDARD
TZOFFSETFROM:+0200
TZOFFSETTO:+0100
TZNAME:CET
DTSTART:20221030T010000
END:STANDARD
BEGIN:DAYLIGHT
TZOFFSETFROM:+0100
TZOFFSETTO:+0200
TZNAME:CEST
DTSTART:20230326T010000
END:DAYLIGHT
BEGIN:STANDARD
TZOFFSETFROM:+0200
TZOFFSETTO:+0100
TZNAME:CET
DTSTART:20231029T010000
END:STANDARD
END:VTIMEZONE
BEGIN:VEVENT
DTSTART;TZID=Europe/Berlin:20221006T093000
DTEND;TZID=Europe/Berlin:20221006T120000
DTSTAMP:20260421T102712
CREATED:20220725T120611Z
LAST-MODIFIED:20220823T113137Z
UID:2832-1665048600-1665057600@kalender.seniorinnen.wien
SUMMARY:Monat der Senior:innen: A1 Stammtisch zu Smartphone und Tablet
DESCRIPTION:Sie wollen mehr darüber erfahren\, wie Sie Ihr Smartphone oder Tablet am besten nutzen können? Und dazu noch sicher im Internet unterwegs sein? Melden Sie sich an und erfahren Sie von qualifizierten A1 Trainer:innen Wissenswertes für Ihren Einstieg in das Internet und den sicheren Umgang im WWW\, wenn Sie surfen\, googeln oder streamen. \nDie A1 Seniorenakademie richtet sich speziell an Personen 60plus. Die Schulungen erfolgen in kleinen Gruppen. \nDie Teilnehmer:innenanzahl ist auf 12 Personen beschränkt. Die Stammtischreihe  findet an vier Terminen statt: 6.\, 13.\, 20. und 27. Oktober. Melden Sie sich ab 1.9.2022 telefonisch über 0800 80 8810 für den jeweiligen Termin an. \nSollten Sie trotz Anmeldung nicht an der Veranstaltung teilnehmen können\, sagen Sie bitte ab. So haben weitere Interessierte die Möglichkeit Ihren Platz einzunehmen. \nBitte beachten Sie: Aufgrund COVID-19 sind kurzfristige Änderungen oder auch Absagen möglich. Das Team der Senior:innenbeauftragten und die Veranstalter:innen bitten um Verständnis. \n(c) gettyimages/MStudioImages
URL:https://kalender.seniorinnen.wien/event/monat-der-seniorinnen-a1-stammtisch-zu-smartphone-und-tablet/2022-10-06/
LOCATION:Café Ritter\, Ottakringer Straße 117\, Wien\, 1160
CATEGORIES:Digital und Online,Monat der Senior:innen
ATTACH;FMTTYPE=image/jpeg:https://kalender.seniorinnen.wien/wp-content/uploads/2022/07/Foto-A1-SA-Stammtisch.jpg
END:VEVENT
END:VCALENDAR