BEGIN:VCALENDAR
VERSION:2.0
PRODID:-//Wien für Senior:innen - ECPv6.15.17.1//NONSGML v1.0//EN
CALSCALE:GREGORIAN
METHOD:PUBLISH
X-WR-CALNAME:Wien für Senior:innen
X-ORIGINAL-URL:https://kalender.seniorinnen.wien
X-WR-CALDESC:Veranstaltungen für Wien für Senior:innen
REFRESH-INTERVAL;VALUE=DURATION:PT1H
X-Robots-Tag:noindex
X-PUBLISHED-TTL:PT1H
BEGIN:VTIMEZONE
TZID:Europe/Berlin
BEGIN:DAYLIGHT
TZOFFSETFROM:+0100
TZOFFSETTO:+0200
TZNAME:CEST
DTSTART:20230326T010000
END:DAYLIGHT
BEGIN:STANDARD
TZOFFSETFROM:+0200
TZOFFSETTO:+0100
TZNAME:CET
DTSTART:20231029T010000
END:STANDARD
BEGIN:DAYLIGHT
TZOFFSETFROM:+0100
TZOFFSETTO:+0200
TZNAME:CEST
DTSTART:20240331T010000
END:DAYLIGHT
BEGIN:STANDARD
TZOFFSETFROM:+0200
TZOFFSETTO:+0100
TZNAME:CET
DTSTART:20241027T010000
END:STANDARD
BEGIN:DAYLIGHT
TZOFFSETFROM:+0100
TZOFFSETTO:+0200
TZNAME:CEST
DTSTART:20250330T010000
END:DAYLIGHT
BEGIN:STANDARD
TZOFFSETFROM:+0200
TZOFFSETTO:+0100
TZNAME:CET
DTSTART:20251026T010000
END:STANDARD
END:VTIMEZONE
BEGIN:VEVENT
DTSTART;TZID=Europe/Berlin:20241012T163000
DTEND;TZID=Europe/Berlin:20241012T173000
DTSTAMP:20260421T032041
CREATED:20240830T124333Z
LAST-MODIFIED:20240830T124333Z
UID:6513-1728750600-1728754200@kalender.seniorinnen.wien
SUMMARY:Mit Musik geht alles besser
DESCRIPTION:Wir bewegen uns zu verschiedenen Musikrichtungen\, tanzen – allein\, in Gruppen und im Kreis. Bitte saubere Schuhe für den Saal und 1€ für den Garderobekasten mitnehmen. \nAnmeldung 2.9 bis 30.9.:\nTel: +43664 254 62 95 oder E-Mail: elisabeth@fitnessunion.at
URL:https://kalender.seniorinnen.wien/event/mit-musik-geht-alles-besser/2024-10-12/
LOCATION:Fitnessunion Wien\, Hervicusgasse 13 – 15\, Wien\, Wien\, 1120
CATEGORIES:Fit und Gesund,Monat der Senior:innen
ATTACH;FMTTYPE=image/jpeg:https://kalender.seniorinnen.wien/wp-content/uploads/2024/07/dance-7247907_1280-1-e1720169006809.jpg
ORGANIZER;CN="Fitnessunion Wien":MAILTO:kontakt@fitnessunion.at
END:VEVENT
BEGIN:VEVENT
DTSTART;TZID=Europe/Berlin:20241005T163000
DTEND;TZID=Europe/Berlin:20241005T173000
DTSTAMP:20260421T032041
CREATED:20240830T124333Z
LAST-MODIFIED:20240830T124333Z
UID:6509-1728145800-1728149400@kalender.seniorinnen.wien
SUMMARY:Mit Musik geht alles besser
DESCRIPTION:Wir bewegen uns zu verschiedenen Musikrichtungen\, tanzen – allein\, in Gruppen und im Kreis. Bitte saubere Schuhe für den Saal und 1€ für den Garderobekasten mitnehmen. \nAnmeldung 2.9 bis 30.9.:\nTel: +43664 254 62 95 oder E-Mail: elisabeth@fitnessunion.at
URL:https://kalender.seniorinnen.wien/event/mit-musik-geht-alles-besser/2024-10-05/
LOCATION:Fitnessunion Wien\, Hervicusgasse 13 – 15\, Wien\, Wien\, 1120
CATEGORIES:Fit und Gesund,Monat der Senior:innen
ATTACH;FMTTYPE=image/jpeg:https://kalender.seniorinnen.wien/wp-content/uploads/2024/07/dance-7247907_1280-1-e1720169006809.jpg
ORGANIZER;CN="Fitnessunion Wien":MAILTO:kontakt@fitnessunion.at
END:VEVENT
END:VCALENDAR