BEGIN:VCALENDAR
VERSION:2.0
PRODID:-//Wien für Senior:innen - ECPv6.15.17.1//NONSGML v1.0//EN
CALSCALE:GREGORIAN
METHOD:PUBLISH
X-WR-CALNAME:Wien für Senior:innen
X-ORIGINAL-URL:https://kalender.seniorinnen.wien
X-WR-CALDESC:Veranstaltungen für Wien für Senior:innen
REFRESH-INTERVAL;VALUE=DURATION:PT1H
X-Robots-Tag:noindex
X-PUBLISHED-TTL:PT1H
BEGIN:VTIMEZONE
TZID:Europe/Berlin
BEGIN:DAYLIGHT
TZOFFSETFROM:+0100
TZOFFSETTO:+0200
TZNAME:CEST
DTSTART:20240331T010000
END:DAYLIGHT
BEGIN:STANDARD
TZOFFSETFROM:+0200
TZOFFSETTO:+0100
TZNAME:CET
DTSTART:20241027T010000
END:STANDARD
BEGIN:DAYLIGHT
TZOFFSETFROM:+0100
TZOFFSETTO:+0200
TZNAME:CEST
DTSTART:20250330T010000
END:DAYLIGHT
BEGIN:STANDARD
TZOFFSETFROM:+0200
TZOFFSETTO:+0100
TZNAME:CET
DTSTART:20251026T010000
END:STANDARD
BEGIN:DAYLIGHT
TZOFFSETFROM:+0100
TZOFFSETTO:+0200
TZNAME:CEST
DTSTART:20260329T010000
END:DAYLIGHT
BEGIN:STANDARD
TZOFFSETFROM:+0200
TZOFFSETTO:+0100
TZNAME:CET
DTSTART:20261025T010000
END:STANDARD
END:VTIMEZONE
BEGIN:VEVENT
DTSTART;TZID=Europe/Berlin:20251018T160000
DTEND;TZID=Europe/Berlin:20251018T173000
DTSTAMP:20260420T164346
CREATED:20250831T230040Z
LAST-MODIFIED:20250826T142931Z
UID:8165-1760803200-1760808600@kalender.seniorinnen.wien
SUMMARY:Mit Musik geht alles besser
DESCRIPTION:Wir bewegen uns zu verschiedenen Musikrichtungen: stehend oder sitzend – alleine\, in Gruppen und im Kreis. \nBitte saubere Schuhe für den Saal und 1 Euro für die Garderobe mitnehmen. \nMax.  25 Teilnehmer:innen \nAnmeldung bis 4.10. \nTel.: 0664 254 62 95\nE-Mail: elisabeth@fitnessunion.at\n01 \nFoto: Pixabay
URL:https://kalender.seniorinnen.wien/event/mit-musik-geht-alles-besser-2/2025-10-18/
LOCATION:Fitnessunion Wien\, Hervicusgasse 13 – 15\, Wien\, Wien\, 1120
CATEGORIES:Fit und Gesund,Monat der Senior:innen
ATTACH;FMTTYPE=image/jpeg:https://kalender.seniorinnen.wien/wp-content/uploads/2025/08/Bewegung-zur-Musik_aeltere_pixabay-e1756218539259.jpg
ORGANIZER;CN="Fitnessunion Wien":MAILTO:kontakt@fitnessunion.at
END:VEVENT
BEGIN:VEVENT
DTSTART;TZID=Europe/Berlin:20251011T160000
DTEND;TZID=Europe/Berlin:20251011T173000
DTSTAMP:20260420T164346
CREATED:20250831T230040Z
LAST-MODIFIED:20250826T142931Z
UID:8162-1760198400-1760203800@kalender.seniorinnen.wien
SUMMARY:Mit Musik geht alles besser
DESCRIPTION:Wir bewegen uns zu verschiedenen Musikrichtungen: stehend oder sitzend – alleine\, in Gruppen und im Kreis. \nBitte saubere Schuhe für den Saal und 1 Euro für die Garderobe mitnehmen. \nMax.  25 Teilnehmer:innen \nAnmeldung bis 4.10. \nTel.: 0664 254 62 95\nE-Mail: elisabeth@fitnessunion.at\n01 \nFoto: Pixabay
URL:https://kalender.seniorinnen.wien/event/mit-musik-geht-alles-besser-2/2025-10-11/
LOCATION:Fitnessunion Wien\, Hervicusgasse 13 – 15\, Wien\, Wien\, 1120
CATEGORIES:Fit und Gesund,Monat der Senior:innen
ATTACH;FMTTYPE=image/jpeg:https://kalender.seniorinnen.wien/wp-content/uploads/2025/08/Bewegung-zur-Musik_aeltere_pixabay-e1756218539259.jpg
ORGANIZER;CN="Fitnessunion Wien":MAILTO:kontakt@fitnessunion.at
END:VEVENT
END:VCALENDAR